Workbook

Sheet Gain-Sub-Exp
B1: ZWO ASI 183 Gain and Sub-Exposure Calculator
B2: ONLY ENTER DATA IN BLUE (OR GRAY) BOXES. DO NOT ALTER DATA ON OTHER SHEETS | P2: © 2021 S. Bellavia
B3: Note: Once you manually enter the Skybackground, Cell D6, and Dark Current, cell D12, you will lose the link to that calcualtion. To retrieve it change Cell D6 back to "=H34" and cell D12 back to "=K24"
B4: If you know your sky background and dark current, enter it here: | G4: OR take data directly from an image: | M4: Results
B5: Input: | G5: Input Data from an Image | M5: ZWO ASI 183 Gain-sub-exposure
C6: Sky Background | D6: =H34 -> 18.373293 | E6: mag/sq-arcsec | G6: 16 bit | P6: Integrated
G7: Skyglow background | H7: 1600 | I7: ADU of an area in the background | M7: Gain | N7: Sub-exp | O7: N | P7: bits | Q7: SNR
C8: Scope Aperture | D8: 0.09 | E8: m | G8: Dark signal | H8: 837 | I8: ADU of a matched dark frame | N8: (minutes)
C9: Scope focal length | D9: 0.36 | E9: m | G9: Bias signal | H9: 829 | I9: ADU of your bias | M9: 0 | N9: =LOOKUP(M9,'ASI183-specs-DR-SNR'!$A$5:$A$34,'ASI183-specs-DR-SNR'!$O$5:$O$34) -> 3.297307 | O9: =$D$21/N9 -> 18.196668 | P9: =LOOKUP(M9,'ASI183-specs-DR-SNR'!$A$5:$A$34,'ASI183-specs-DR-SNR'!$AE$5:$AE$34) -> 12.61743 | Q9: =LOOKUP(M9,'ASI183-specs-DR-SNR'!$A$5:$A$34,'ASI183-specs-DR-SNR'!$AG$5:$AG$34) -> 1.3342239
C10: f/ratio | D10: =D9/D8 -> 4 | G10: Exposure duration | H10: 120 | I10: Duration (seconds) for light frame & dark | M10: =M9+10 -> 10 | N10: =LOOKUP(M10,'ASI183-specs-DR-SNR'!$A$5:$A$34,'ASI183-specs-DR-SNR'!$O$5:$O$34) -> 3.1061324 | O10: =$D$21/N10 -> 19.316627 | P10: =LOOKUP(M10,'ASI183-specs-DR-SNR'!$A$5:$A$34,'ASI183-specs-DR-SNR'!$AE$5:$AE$34) -> 12.517538 | Q10: =LOOKUP(M10,'ASI183-specs-DR-SNR'!$A$5:$A$34,'ASI183-specs-DR-SNR'!$AG$5:$AG$34) -> 1.3342239
C11: pixel size | D11: 2.4 | E11: micron | M11: =M10+10 -> 20 | N11: =LOOKUP(M11,'ASI183-specs-DR-SNR'!$A$5:$A$34,'ASI183-specs-DR-SNR'!$O$5:$O$34) -> 2.9270546 | O11: =$D$21/N11 -> 20.498422 | P11: =LOOKUP(M11,'ASI183-specs-DR-SNR'!$A$5:$A$34,'ASI183-specs-DR-SNR'!$AE$5:$AE$34) -> 12.440758 | Q11: =LOOKUP(M11,'ASI183-specs-DR-SNR'!$A$5:$A$34,'ASI183-specs-DR-SNR'!$AG$5:$AG$34) -> 1.3342239
C12: Dark Current | D12: =K24 -> 0.0047697688 | E12: e/sec | G12: 12 bit | M12: =M11+10 -> 30 | N12: =LOOKUP(M12,'ASI183-specs-DR-SNR'!$A$5:$A$34,'ASI183-specs-DR-SNR'!$O$5:$O$34) -> 2.7594958 | O12: =$D$21/N12 -> 21.743103 | P12: =LOOKUP(M12,'ASI183-specs-DR-SNR'!$A$5:$A$34,'ASI183-specs-DR-SNR'!$AE$5:$AE$34) -> 12.363245 | Q12: =LOOKUP(M12,'ASI183-specs-DR-SNR'!$A$5:$A$34,'ASI183-specs-DR-SNR'!$AG$5:$AG$34) -> 1.3342239
B13: Filter: | G13: Skyglow background | H13: =H7*(2^12/2^16) -> 100 | I13: ADU of an area in the background | M13: =M12+10 -> 40 | N13: =LOOKUP(M13,'ASI183-specs-DR-SNR'!$A$5:$A$34,'ASI183-specs-DR-SNR'!$O$5:$O$34) -> 2.6028989 | O13: =$D$21/N13 -> 23.051222 | P13: =LOOKUP(M13,'ASI183-specs-DR-SNR'!$A$5:$A$34,'ASI183-specs-DR-SNR'!$AE$5:$AE$34) -> 12.284857 | Q13: =LOOKUP(M13,'ASI183-specs-DR-SNR'!$A$5:$A$34,'ASI183-specs-DR-SNR'!$AG$5:$AG$34) -> 1.3342239
B14: L-Extreme | C14: filter wavelength | D14: =LOOKUP(B14,Filters!A2:C23,Filters!B2:B23) -> 578.45 | E14: nanometers | G14: Dark signal | H14: =H8*(2^12/2^16) -> 52.3125 | I14: ADU of a matched dark frame | M14: =M13+10 -> 50 | N14: =LOOKUP(M14,'ASI183-specs-DR-SNR'!$A$5:$A$34,'ASI183-specs-DR-SNR'!$O$5:$O$34) -> 2.4567281 | O14: =$D$21/N14 -> 24.422728 | P14: =LOOKUP(M14,'ASI183-specs-DR-SNR'!$A$5:$A$34,'ASI183-specs-DR-SNR'!$AE$5:$AE$34) -> 12.205441 | Q14: =LOOKUP(M14,'ASI183-specs-DR-SNR'!$A$5:$A$34,'ASI183-specs-DR-SNR'!$AG$5:$AG$34) -> 1.3342239
C15: filter bandwidth | D15: =LOOKUP(B14,Filters!A2:C23,Filters!C2:C23) -> 14 | E15: nanometers | G15: Bias signal | H15: =H9*(2^12/2^16) -> 51.8125 | I15: ADU of your bias | M15: =M14+10 -> 60 | N15: =LOOKUP(M15,'ASI183-specs-DR-SNR'!$A$5:$A$34,'ASI183-specs-DR-SNR'!$O$5:$O$34) -> 2.3204682 | O15: =$D$21/N15 -> 25.85685 | P15: =LOOKUP(M15,'ASI183-specs-DR-SNR'!$A$5:$A$34,'ASI183-specs-DR-SNR'!$AE$5:$AE$34) -> 12.124834 | Q15: =LOOKUP(M15,'ASI183-specs-DR-SNR'!$A$5:$A$34,'ASI183-specs-DR-SNR'!$AG$5:$AG$34) -> 1.3342239
M16: =M15+10 -> 70 | N16: =LOOKUP(M16,'ASI183-specs-DR-SNR'!$A$5:$A$34,'ASI183-specs-DR-SNR'!$O$5:$O$34) -> 2.1936253 | O16: =$D$21/N16 -> 27.351982 | P16: =LOOKUP(M16,'ASI183-specs-DR-SNR'!$A$5:$A$34,'ASI183-specs-DR-SNR'!$AE$5:$AE$34) -> 12.04286 | Q16: =LOOKUP(M16,'ASI183-specs-DR-SNR'!$A$5:$A$34,'ASI183-specs-DR-SNR'!$AG$5:$AG$34) -> 1.3342239
C17: Transmission efficiency | D17: 0.6 | E17: (QE, etc) | G17: Enter Camera Gain | M17: =M16+10 -> 80 | N17: =LOOKUP(M17,'ASI183-specs-DR-SNR'!$A$5:$A$34,'ASI183-specs-DR-SNR'!$O$5:$O$34) -> 2.0757261 | O17: =$D$21/N17 -> 28.905548 | P17: =LOOKUP(M17,'ASI183-specs-DR-SNR'!$A$5:$A$34,'ASI183-specs-DR-SNR'!$AE$5:$AE$34) -> 11.959335 | Q17: =LOOKUP(M17,'ASI183-specs-DR-SNR'!$A$5:$A$34,'ASI183-specs-DR-SNR'!$AG$5:$AG$34) -> 1.3342239
G18: Gain | H18: 100 | M18: =M17+10 -> 90 | N18: =LOOKUP(M18,'ASI183-specs-DR-SNR'!$A$5:$A$34,'ASI183-specs-DR-SNR'!$O$5:$O$34) -> 1.9663184 | O18: =$D$21/N18 -> 30.513878 | P18: =LOOKUP(M18,'ASI183-specs-DR-SNR'!$A$5:$A$34,'ASI183-specs-DR-SNR'!$AE$5:$AE$34) -> 11.874061 | Q18: =LOOKUP(M18,'ASI183-specs-DR-SNR'!$A$5:$A$34,'ASI183-specs-DR-SNR'!$AG$5:$AG$34) -> 1.3342239
C19: Desired Swamp Factor | D19: 10 | E19: (skyflux / RN2) | M19: =M18+10 -> 100 | N19: =LOOKUP(M19,'ASI183-specs-DR-SNR'!$A$5:$A$34,'ASI183-specs-DR-SNR'!$O$5:$O$34) -> 1.8649709 | O19: =$D$21/N19 -> 32.172084 | P19: =LOOKUP(M19,'ASI183-specs-DR-SNR'!$A$5:$A$34,'ASI183-specs-DR-SNR'!$AE$5:$AE$34) -> 11.786829 | Q19: =LOOKUP(M19,'ASI183-specs-DR-SNR'!$A$5:$A$34,'ASI183-specs-DR-SNR'!$AG$5:$AG$34) -> 1.3342239
G20: Gain | H20: =LOOKUP(H18,'ASI183-specs-DR-SNR'!A5:A34,'ASI183-specs-DR-SNR'!B5:B34) -> 1.1447445 | I20: e-/ADU | M20: =M19+10 -> 110 | N20: =LOOKUP(M20,'ASI183-specs-DR-SNR'!$A$5:$A$34,'ASI183-specs-DR-SNR'!$O$5:$O$34) -> 1.7712732 | O20: =$D$21/N20 -> 33.873938 | P20: =LOOKUP(M20,'ASI183-specs-DR-SNR'!$A$5:$A$34,'ASI183-specs-DR-SNR'!$AE$5:$AE$34) -> 11.697419 | Q20: =LOOKUP(M20,'ASI183-specs-DR-SNR'!$A$5:$A$34,'ASI183-specs-DR-SNR'!$AG$5:$AG$34) -> 1.3342239
C21: Total Integration Time | D21: 60 | E21: minutes | G21: Read noise | H21: =LOOKUP(H18,'ASI183-specs-DR-SNR'!A5:A34,'ASI183-specs-DR-SNR'!E5:E34) -> 2.2562 | I21: in electrons | M21: 111 | N21: =LOOKUP(M21,'ASI183-specs-DR-SNR'!$A$5:$A$34,'ASI183-specs-DR-SNR'!$O$5:$O$34) -> 1.762309 | O21: =$D$21/N21 -> 34.046242 | P21: =LOOKUP(M21,'ASI183-specs-DR-SNR'!$A$5:$A$34,'ASI183-specs-DR-SNR'!$AE$5:$AE$34) -> 11.68835 | Q21: =LOOKUP(M21,'ASI183-specs-DR-SNR'!$A$5:$A$34,'ASI183-specs-DR-SNR'!$AG$5:$AG$34) -> 1.3342239
M22: =M20+10 -> 120 | N22: =LOOKUP(M22,'ASI183-specs-DR-SNR'!$A$5:$A$34,'ASI183-specs-DR-SNR'!$O$5:$O$34) -> 1.684836 | O22: =$D$21/N22 -> 35.611775 | P22: =LOOKUP(M22,'ASI183-specs-DR-SNR'!$A$5:$A$34,'ASI183-specs-DR-SNR'!$AE$5:$AE$34) -> 11.605233 | Q22: =LOOKUP(M22,'ASI183-specs-DR-SNR'!$A$5:$A$34,'ASI183-specs-DR-SNR'!$AG$5:$AG$34) -> 1.3342239
B23: Output: | G23: Output: | H23: ADU | I23: electrons | J23: ADU/sec | K23: e/sec | M23: =M22+10 -> 130 | N23: =LOOKUP(M23,'ASI183-specs-DR-SNR'!$A$5:$A$34,'ASI183-specs-DR-SNR'!$O$5:$O$34) -> 1.6052906 | O23: =$D$21/N23 -> 37.376409 | P23: =LOOKUP(M23,'ASI183-specs-DR-SNR'!$A$5:$A$34,'ASI183-specs-DR-SNR'!$AE$5:$AE$34) -> 11.510329 | Q23: =LOOKUP(M23,'ASI183-specs-DR-SNR'!$A$5:$A$34,'ASI183-specs-DR-SNR'!$AG$5:$AG$34) -> 1.3342239
C24: sampling | D24: =(D11/D9)*0.0036*180/PI() -> 1.3750987 | E24: arc-sec/pixel | G24: Dark signal | H24: =H14-H15 -> 0.5 | I24: =H24*H20 -> 0.57237226 | J24: =H24/H10 -> 0.0041666667 | K24: =I24/H10 -> 0.0047697688 | M24: =M23+10 -> 140 | N24: =LOOKUP(M24,'ASI183-specs-DR-SNR'!$A$5:$A$34,'ASI183-specs-DR-SNR'!$O$5:$O$34) -> 1.5322897 | O24: =$D$21/N24 -> 39.157087 | P24: =LOOKUP(M24,'ASI183-specs-DR-SNR'!$A$5:$A$34,'ASI183-specs-DR-SNR'!$AE$5:$AE$34) -> 11.412538 | Q24: =LOOKUP(M24,'ASI183-specs-DR-SNR'!$A$5:$A$34,'ASI183-specs-DR-SNR'!$AG$5:$AG$34) -> 1.3342239
G25: Skyglow signal | H25: =H13-H14 -> 47.6875 | I25: =H25*H20 -> 54.590004 | J25: =H25/H10 -> 0.39739583 | K25: =I25/H10 -> 0.4549167 | M25: =M24+10 -> 150 | N25: =LOOKUP(M25,'ASI183-specs-DR-SNR'!$A$5:$A$34,'ASI183-specs-DR-SNR'!$O$5:$O$34) -> 1.4655064 | O25: =$D$21/N25 -> 40.941479 | P25: =LOOKUP(M25,'ASI183-specs-DR-SNR'!$A$5:$A$34,'ASI183-specs-DR-SNR'!$AE$5:$AE$34) -> 11.311605 | Q25: =LOOKUP(M25,'ASI183-specs-DR-SNR'!$A$5:$A$34,'ASI183-specs-DR-SNR'!$AG$5:$AG$34) -> 1.3342239
C26: actual skyflux | D26: =(-0.00000045063*D14^2 + 0.000090632*D14 + 0.62647)*10^(-0.4*(D6-20.7)) -> 4.5020462 | E26: (phs/s/nm/arcsec2/m2) | M26: =M25+10 -> 160 | N26: =LOOKUP(M26,'ASI183-specs-DR-SNR'!$A$5:$A$34,'ASI183-specs-DR-SNR'!$O$5:$O$34) -> 1.4046352 | O26: =$D$21/N26 -> 42.715718 | P26: =LOOKUP(M26,'ASI183-specs-DR-SNR'!$A$5:$A$34,'ASI183-specs-DR-SNR'!$AE$5:$AE$34) -> 11.207268 | Q26: =LOOKUP(M26,'ASI183-specs-DR-SNR'!$A$5:$A$34,'ASI183-specs-DR-SNR'!$AG$5:$AG$34) -> 1.3342239
C27: measured background | D27: =D17*D26*D15*D24^2*(PI()*D8^2/4) -> 0.4549167 | E27: (e/sec) / pixel | G27: Measured Background | H27: =K25 -> 0.4549167 | I27: (e/sec) / pixel | M27: =M26+10 -> 170 | N27: =LOOKUP(M27,'ASI183-specs-DR-SNR'!$A$5:$A$34,'ASI183-specs-DR-SNR'!$O$5:$O$34) -> 1.3493912 | O27: =$D$21/N27 -> 44.464496 | P27: =LOOKUP(M27,'ASI183-specs-DR-SNR'!$A$5:$A$34,'ASI183-specs-DR-SNR'!$AE$5:$AE$34) -> 11.099261 | Q27: =LOOKUP(M27,'ASI183-specs-DR-SNR'!$A$5:$A$34,'ASI183-specs-DR-SNR'!$AG$5:$AG$34) -> 1.3342239
C28: actual background | D28: =D27/D17 -> 0.7581945 | E28: (e/sec) / pixel | M28: 178 | N28: =LOOKUP(M28,'ASI183-specs-DR-SNR'!$A$5:$A$34,'ASI183-specs-DR-SNR'!$O$5:$O$34) -> 1.3090697 | O28: =$D$21/N28 -> 45.834076 | P28: =LOOKUP(M28,'ASI183-specs-DR-SNR'!$A$5:$A$34,'ASI183-specs-DR-SNR'!$AE$5:$AE$34) -> 11.010031 | Q28: =LOOKUP(M28,'ASI183-specs-DR-SNR'!$A$5:$A$34,'ASI183-specs-DR-SNR'!$AG$5:$AG$34) -> 1.3342239
G29: Your sky photon flux | H29: =H27/(D17*D15*D24^2*(PI()*D8^2/4)) -> 4.5020462 | I29: (photons/sec/nm/arcsec2/m2) | M29: =M27+10 -> 180 | N29: =LOOKUP(M29,'ASI183-specs-DR-SNR'!$A$5:$A$34,'ASI183-specs-DR-SNR'!$O$5:$O$34) -> 1.2995107 | O29: =$D$21/N29 -> 46.171224 | P29: =LOOKUP(M29,'ASI183-specs-DR-SNR'!$A$5:$A$34,'ASI183-specs-DR-SNR'!$AE$5:$AE$34) -> 10.987313 | Q29: =LOOKUP(M29,'ASI183-specs-DR-SNR'!$A$5:$A$34,'ASI183-specs-DR-SNR'!$AG$5:$AG$34) -> 1.3342239
C30: object signal | D30: 22 | E30: mag/arcsec2 | G30: Your sky photon flux | H30: =H27/D17 -> 0.7581945 | I30: (e/sec) / pixel | M30: =M29+10 -> 190 | N30: =LOOKUP(M30,'ASI183-specs-DR-SNR'!$A$5:$A$34,'ASI183-specs-DR-SNR'!$O$5:$O$34) -> 1.2547508 | O30: =$D$21/N30 -> 47.818261 | P30: =LOOKUP(M30,'ASI183-specs-DR-SNR'!$A$5:$A$34,'ASI183-specs-DR-SNR'!$AE$5:$AE$34) -> 10.871152 | Q30: =LOOKUP(M30,'ASI183-specs-DR-SNR'!$A$5:$A$34,'ASI183-specs-DR-SNR'!$AG$5:$AG$34) -> 1.3342239
D31: =(-0.000001*D14^2 + 0.00064*D14+ 0.4905)*10^(-0.4*((D30)-20.7)) -> 0.15888075 | E31: (phs/s/nm/arcsec2/m2) | M31: =M30+10 -> 200 | N31: =LOOKUP(M31,'ASI183-specs-DR-SNR'!$A$5:$A$34,'ASI183-specs-DR-SNR'!$O$5:$O$34) -> 1.2148895 | O31: =$D$21/N31 -> 49.38721 | P31: =LOOKUP(M31,'ASI183-specs-DR-SNR'!$A$5:$A$34,'ASI183-specs-DR-SNR'!$AE$5:$AE$34) -> 10.750505 | Q31: =LOOKUP(M31,'ASI183-specs-DR-SNR'!$A$5:$A$34,'ASI183-specs-DR-SNR'!$AG$5:$AG$34) -> 1.3342239
D32: =D17*D31*D15*D24^2*(PI()*D8^2/4) -> 0.016054368 | E32: (e/sec) / pixel | G32: Photon flux for 20.7 sky | H32: =(-0.00000045063*D14^2 + 0.000090632*D14 + 0.62647)*10^(-0.4*(20.7-20.7)) -> 0.5281133 | I32: (photons/sec/nm/arcsec2/m2) | M32: =M31+10 -> 210 | N32: =LOOKUP(M32,'ASI183-specs-DR-SNR'!$A$5:$A$34,'ASI183-specs-DR-SNR'!$O$5:$O$34) -> 1.1797257 | O32: =$D$21/N32 -> 50.85928 | P32: =LOOKUP(M32,'ASI183-specs-DR-SNR'!$A$5:$A$34,'ASI183-specs-DR-SNR'!$AE$5:$AE$34) -> 10.625099 | Q32: =LOOKUP(M32,'ASI183-specs-DR-SNR'!$A$5:$A$34,'ASI183-specs-DR-SNR'!$AG$5:$AG$34) -> 1.3342239
M33: =M32+10 -> 220 | N33: =LOOKUP(M33,'ASI183-specs-DR-SNR'!$A$5:$A$34,'ASI183-specs-DR-SNR'!$O$5:$O$34) -> 1.1490795 | O33: =$D$21/N33 -> 52.215709 | P33: =LOOKUP(M33,'ASI183-specs-DR-SNR'!$A$5:$A$34,'ASI183-specs-DR-SNR'!$AE$5:$AE$34) -> 10.494664 | Q33: =LOOKUP(M33,'ASI183-specs-DR-SNR'!$A$5:$A$34,'ASI183-specs-DR-SNR'!$AG$5:$AG$34) -> 1.3342239
B34: Enter Gain for DR and SNR vs. Total Integration: | E34: 111 | G34: Your sky | H34: =20.7-(2.5*LOG(H29/H32)) -> 18.373293 | I34: mag/sq-arcsec | M34: =M33+10 -> 230 | N34: =LOOKUP(M34,'ASI183-specs-DR-SNR'!$A$5:$A$34,'ASI183-specs-DR-SNR'!$O$5:$O$34) -> 1.1227916 | O34: =$D$21/N34 -> 53.438234 | P34: =LOOKUP(M34,'ASI183-specs-DR-SNR'!$A$5:$A$34,'ASI183-specs-DR-SNR'!$AE$5:$AE$34) -> 10.358932 | Q34: =LOOKUP(M34,'ASI183-specs-DR-SNR'!$A$5:$A$34,'ASI183-specs-DR-SNR'!$AG$5:$AG$34) -> 1.3342239
M35: =M34+10 -> 240 | N35: =LOOKUP(M35,'ASI183-specs-DR-SNR'!$A$5:$A$34,'ASI183-specs-DR-SNR'!$O$5:$O$34) -> 1.1007238 | O35: =$D$21/N35 -> 54.509585 | P35: =LOOKUP(M35,'ASI183-specs-DR-SNR'!$A$5:$A$34,'ASI183-specs-DR-SNR'!$AE$5:$AE$34) -> 10.217639 | Q35: =LOOKUP(M35,'ASI183-specs-DR-SNR'!$A$5:$A$34,'ASI183-specs-DR-SNR'!$AG$5:$AG$34) -> 1.3342239
C36: Total Integration Time | D36: DR (bits) | E36: SNR | M36: =M35+10 -> 250 | N36: =LOOKUP(M36,'ASI183-specs-DR-SNR'!$A$5:$A$34,'ASI183-specs-DR-SNR'!$O$5:$O$34) -> 1.0827589 | O36: =$D$21/N36 -> 55.413996 | P36: =LOOKUP(M36,'ASI183-specs-DR-SNR'!$A$5:$A$34,'ASI183-specs-DR-SNR'!$AE$5:$AE$34) -> 10.070522 | Q36: =LOOKUP(M36,'ASI183-specs-DR-SNR'!$A$5:$A$34,'ASI183-specs-DR-SNR'!$AG$5:$AG$34) -> 1.3342239
C37: =D21*0.25 -> 15 | D37: =LOOKUP($E$34,$M$9:$M$38,$P$9:$P$38)+(LOG(SQRT((C37/$D$21)*LOOKUP($E$34,$M$9:$M$38,$O$9:$O$38)))/LOG(2)-LOG(SQRT((LOOKUP($E$34,$M$9:$M$38,$O$9:$O$38))))/LOG(2)) -> 10.68835 | E37: =SQRT(C37/$D$21)*LOOKUP($E$34,$M$9:$M$38,$Q$9:$Q$38) -> 0.66711194 | M37: =M36+10 -> 260 | N37: =LOOKUP(M37,'ASI183-specs-DR-SNR'!$A$5:$A$34,'ASI183-specs-DR-SNR'!$O$5:$O$34) -> 1.0688006 | O37: =$D$21/N37 -> 56.137695 | P37: =LOOKUP(M37,'ASI183-specs-DR-SNR'!$A$5:$A$34,'ASI183-specs-DR-SNR'!$AE$5:$AE$34) -> 9.9173225 | Q37: =LOOKUP(M37,'ASI183-specs-DR-SNR'!$A$5:$A$34,'ASI183-specs-DR-SNR'!$AG$5:$AG$34) -> 1.3342239
C38: =D21*0.5 -> 30 | D38: =LOOKUP($E$34,$M$9:$M$38,$P$9:$P$38)+(LOG(SQRT((C38/$D$21)*LOOKUP($E$34,$M$9:$M$38,$O$9:$O$38)))/LOG(2)-LOG(SQRT((LOOKUP($E$34,$M$9:$M$38,$O$9:$O$38))))/LOG(2)) -> 11.18835 | E38: =SQRT(C38/$D$21)*LOOKUP($E$34,$M$9:$M$38,$Q$9:$Q$38) -> 0.94343876 | M38: =M37+10 -> 270 | N38: =LOOKUP(M38,'ASI183-specs-DR-SNR'!$A$5:$A$34,'ASI183-specs-DR-SNR'!$O$5:$O$34) -> 1.0587733 | O38: =$D$21/N38 -> 56.669358 | P38: =LOOKUP(M38,'ASI183-specs-DR-SNR'!$A$5:$A$34,'ASI183-specs-DR-SNR'!$AE$5:$AE$34) -> 9.7577795 | Q38: =LOOKUP(M38,'ASI183-specs-DR-SNR'!$A$5:$A$34,'ASI183-specs-DR-SNR'!$AG$5:$AG$34) -> 1.3342239
C39: =D21*0.75 -> 45 | D39: =LOOKUP($E$34,$M$9:$M$38,$P$9:$P$38)+(LOG(SQRT((C39/$D$21)*LOOKUP($E$34,$M$9:$M$38,$O$9:$O$38)))/LOG(2)-LOG(SQRT((LOOKUP($E$34,$M$9:$M$38,$O$9:$O$38))))/LOG(2)) -> 11.480831 | E39: =SQRT(C39/$D$21)*LOOKUP($E$34,$M$9:$M$38,$Q$9:$Q$38) -> 1.1554718
C40: =D21*1 -> 60 | D40: =LOOKUP($E$34,$M$9:$M$38,$P$9:$P$38)+(LOG(SQRT((C40/$D$21)*LOOKUP($E$34,$M$9:$M$38,$O$9:$O$38)))/LOG(2)-LOG(SQRT((LOOKUP($E$34,$M$9:$M$38,$O$9:$O$38))))/LOG(2)) -> 11.68835 | E40: =SQRT(C40/$D$21)*LOOKUP($E$34,$M$9:$M$38,$Q$9:$Q$38) -> 1.3342239
C41: =D21*1.5 -> 90 | D41: =LOOKUP($E$34,$M$9:$M$38,$P$9:$P$38)+(LOG(SQRT((C41/$D$21)*LOOKUP($E$34,$M$9:$M$38,$O$9:$O$38)))/LOG(2)-LOG(SQRT((LOOKUP($E$34,$M$9:$M$38,$O$9:$O$38))))/LOG(2)) -> 11.980831 | E41: =SQRT(C41/$D$21)*LOOKUP($E$34,$M$9:$M$38,$Q$9:$Q$38) -> 1.6340839
C42: =D21*2 -> 120 | D42: =LOOKUP($E$34,$M$9:$M$38,$P$9:$P$38)+(LOG(SQRT((C42/$D$21)*LOOKUP($E$34,$M$9:$M$38,$O$9:$O$38)))/LOG(2)-LOG(SQRT((LOOKUP($E$34,$M$9:$M$38,$O$9:$O$38))))/LOG(2)) -> 12.18835 | E42: =SQRT(C42/$D$21)*LOOKUP($E$34,$M$9:$M$38,$Q$9:$Q$38) -> 1.8868775
C43: =D21*3 -> 180 | D43: =LOOKUP($E$34,$M$9:$M$38,$P$9:$P$38)+(LOG(SQRT((C43/$D$21)*LOOKUP($E$34,$M$9:$M$38,$O$9:$O$38)))/LOG(2)-LOG(SQRT((LOOKUP($E$34,$M$9:$M$38,$O$9:$O$38))))/LOG(2)) -> 12.480831 | E43: =SQRT(C43/$D$21)*LOOKUP($E$34,$M$9:$M$38,$Q$9:$Q$38) -> 2.3109436
C44: =D21*4 -> 240 | D44: =LOOKUP($E$34,$M$9:$M$38,$P$9:$P$38)+(LOG(SQRT((C44/$D$21)*LOOKUP($E$34,$M$9:$M$38,$O$9:$O$38)))/LOG(2)-LOG(SQRT((LOOKUP($E$34,$M$9:$M$38,$O$9:$O$38))))/LOG(2)) -> 12.68835 | E44: =SQRT(C44/$D$21)*LOOKUP($E$34,$M$9:$M$38,$Q$9:$Q$38) -> 2.6684478
C45: =D21*5 -> 300 | D45: =LOOKUP($E$34,$M$9:$M$38,$P$9:$P$38)+(LOG(SQRT((C45/$D$21)*LOOKUP($E$34,$M$9:$M$38,$O$9:$O$38)))/LOG(2)-LOG(SQRT((LOOKUP($E$34,$M$9:$M$38,$O$9:$O$38))))/LOG(2)) -> 12.849314 | E45: =SQRT(C45/$D$21)*LOOKUP($E$34,$M$9:$M$38,$Q$9:$Q$38) -> 2.9834153
C46: =D21*10 -> 600 | D46: =LOOKUP($E$34,$M$9:$M$38,$P$9:$P$38)+(LOG(SQRT((C46/$D$21)*LOOKUP($E$34,$M$9:$M$38,$O$9:$O$38)))/LOG(2)-LOG(SQRT((LOOKUP($E$34,$M$9:$M$38,$O$9:$O$38))))/LOG(2)) -> 13.349314 | E46: =SQRT(C46/$D$21)*LOOKUP($E$34,$M$9:$M$38,$Q$9:$Q$38) -> 4.2191864

Sheet Filters
A1: Filter | B1: Wavelength | C1: Bandpass
A2: Blue | B2: 450 | C2: 100
A3: Green | B3: 550 | C3: 100
A4: Ha 12 nm | B4: 656 | C4: 12
A5: Ha 3 nm | B5: 656 | C5: 3
A6: Ha 6 nm | B6: 656 | C6: 6
A7: Ha 7 nm | B7: 656 | C7: 7
A8: IDAS Duo | B8: 578.5 | C8: 20
A9: IDAS LPS D1 | B9: 526 | C9: 53
A10: L-Extreme | B10: =((7*500.6) + (7*656.3))/14 -> 578.45 | C10: 14
A11: Lum | B11: 550 | C11: 300
A12: OIII 12 nm | B12: 500 | C12: 12
A13: OIII 3 nm | B13: 500 | C13: 3
A14: OIII 6 nm | B14: 500 | C14: 6
A15: OIII 7 nm | B15: 500 | C15: 7
A16: Optolong L-Enhance | B16: 552 | C16: 30
A17: Red | B17: 650 | C17: 100
A18: SII 12 nm | B18: 672 | C18: 12
A19: SII 3 nm | B19: 672 | C19: 3
A20: SII 6 nm | B20: 672 | C20: 6
A21: SII 7 nm | B21: 672 | C21: 7
A22: Triad | B22: 547.8 | C22: 13
A23: ZWO Duo | B23: 552 | C23: 30

Sheet Skyflux
A1: Sky flux
A2: © 2018 S. Bellavia
B4: for a 50%-tile 'dark sky' (20.7 in V-band):
B8: wavelength (nm) | C8: skyflux (photons/sec/nm/arcsec^2/m^2)
E9: lambda | F9: flux
B10: 450 | C10: 0.576 | E10: 450 | F10: 0.576
B11: 500 (OIII) | C11: 0.549 | E11: 550 | F11: 0.54
B12: 550 | C12: 0.54 | E12: 656 | F12: 0.492
B13: 650 | C13: 0.484
B14: 656 (Ha) | C14: 0.492
A16: Enter the skyflux from the table above, based on filter selection (use 550nm for broadband) | B16: 0.54 | C16: photons/sec/nm/arcsec^2/m^2
A18: Enter your sky background in Mag/sq-arcsec | B18: ='Gain-Sub-Exp'!D6 -> 18.373293
A20: re-calcualted skyflux for your sky | B20: ='Gain-Sub-Exp'!D26 -> 4.5020462
B22: wavelength spread | C22: ='Gain-Sub-Exp'!D15 -> 14 | D22: nm
B23: sampling | C23: ='Gain-Sub-Exp'!D24 -> 1.3750987 | D23: arc-sec/pixel
B24: scope aperture | C24: ='Gain-Sub-Exp'!D8 -> 0.09 | D24: m
B25: T | C25: ='Gain-Sub-Exp'!D17 -> 0.6 | D25: optical and electronic efficiency
B27: Sky Flux | C27: =C25*B20*C22*C23^2*(PI()*C24^2/4) -> 0.4549167 | D27: e/sec per pixel
A29: Equations:
A30: m1 = mref-2.5log(I1/Iref)
A31: (e/sec)/pixel = T*Photon flux*bandwidth*sampling^2*(PI()*aperture^2/4)
A32: Photon flux = (e/sec)/pixel/[T*bandwidth*sampling^2*(PI()*aperure^2/4)]

Sheet ASI183-specs-DR-SNR
A1: © 2018 S. Bellavia | R1: Dark Noise (e-/sec) | T1: Sky fog (e-/sec) | AC1: Swamp | AG1: Obj Signal (e-/sec)
A2: Camera Specification/Controls | R2: ='Gain-Sub-Exp'!D12 -> 0.0047697688 | T2: ='Gain-Sub-Exp'!D27 -> 0.4549167 | AC2: ='Gain-Sub-Exp'!D19 -> 10 | AG2: ='Gain-Sub-Exp'!D32 -> 0.016054368
A4: ZWO Gain | B4: GADU (e/ADU) | C4: FWC | D4: DR | E4: Read noise | G4: Quant error | H4: ZWO Bias | J4: Bias (16 bit ADU's) | K4: Bias (12 bit ADU's) | L4: Bias (e-'s) | N4: exposure (sec) | O4: exposure (min) | Q4: # subs | R4: Single Sub Dark noise | T4: Single Sub Sky Background | U4: Single sub Swamp factor | W4: FWCeff | X4: Ntotal | Y4: Bits | AA4: Ntotalint | AC4: Swamp ADU's | AE4: Int Bits | AG4: Int SNR
A5: 0 | B5: 3.62 | C5: 15000 | D5: 12.3 | E5: 3 | G5: =(B5-1)/SQRT(12) -> 0.75632885 | H5: =7*EXP(0.007*A5) -> 7 | K5: =IF(J5>0,(J5/16),5*H5) -> 35 | L5: =K5*B5 -> 126.7 | N5: ='Gain-Sub-Exp'!$D$19*E5^2/$T$2 -> 197.83842 | O5: =N5/60 -> 3.297307 | Q5: =('Gain-Sub-Exp'!O9) -> 18.196668 | R5: =$R$2*N5 -> 0.94364351 | T5: =$T$2*N5 -> 90 | U5: =T5/E5^2 -> 10 | W5: =C5-(L5+R5+T5) -> 14782.356 | X5: =SQRT(T5+R5+E5^2+G5) -> 10.034938 | Y5: =20*LOG(W5/X5)/6 -> 10.560763 | AA5: =X5/SQRT(Q5) -> 2.352441 | AC5: =((E5^2*$AC$2+$R$2*N5+L5)/B5)*16 -> 961.96086 | AE5: =LOG(SQRT(Q5)*(W5/X5))/LOG(2) -> 12.61743 | AG5: =(Q5*$AG$2*N5)/SQRT(Q5*(($AG$2*N5)+T5+R5+E5^2)) -> 1.3342239
A6: =A5+10 -> 10 | B6: =$B$5/(10^(A6/200)) -> 3.2263284 | C6: =14759*EXP(-0.011196*A6) -> 13195.727 | D6: =D5-((12.3-8.7)/(270-0))*(A6-A5) -> 12.166667 | E6: =0.00001543*A6^2-0.008981*A6+3 -> 2.911733 | G6: =(B6-1)/SQRT(12) -> 0.64268565 | H6: =7*EXP(0.007*A6) -> 7.5075573 | K6: =IF(J6>0,(J6/16),5*H6) -> 37.537786 | L6: =K6*B6 -> 121.10923 | N6: ='Gain-Sub-Exp'!$D$19*E6^2/$T$2 -> 186.36795 | O6: =N6/60 -> 3.1061324 | Q6: =('Gain-Sub-Exp'!O10) -> 19.316627 | R6: =$R$2*N6 -> 0.88893201 | T6: =$T$2*N6 -> 84.781891 | U6: =T6/E6^2 -> 10 | W6: =C6-(L6+R6+T6) -> 12988.947 | X6: =SQRT(T6+R6+E6^2+G6) -> 9.7361028 | Y6: =20*LOG(W6/X6)/6 -> 10.417296 | AA6: =X6/SQRT(Q6) -> 2.2152335 | AC6: =((E6^2*$AC$2+$R$2*N6+L6)/B6)*16 -> 1025.4631 | AE6: =LOG(SQRT(Q6)*(W6/X6))/LOG(2) -> 12.517538 | AG6: =(Q6*$AG$2*N6)/SQRT(Q6*(($AG$2*N6)+T6+R6+E6^2)) -> 1.3342239
A7: =A6+10 -> 20 | B7: =$B$5/(10^(A7/200)) -> 2.8754682 | C7: =14759*EXP(-0.011196*A7) -> 11798.036 | D7: =D6-((12.3-8.7)/(270-0))*(A7-A6) -> 12.033333 | E7: =0.00001543*A7^2-0.008981*A7+3 -> 2.826552 | G7: =(B7-1)/SQRT(12) -> 0.54140104 | H7: =7*EXP(0.007*A7) -> 8.0519166 | K7: =IF(J7>0,(J7/16),5*H7) -> 40.259583 | L7: =K7*B7 -> 115.76515 | N7: ='Gain-Sub-Exp'!$D$19*E7^2/$T$2 -> 175.62328 | O7: =N7/60 -> 2.9270546 | Q7: =('Gain-Sub-Exp'!O11) -> 20.498422 | R7: =$R$2*N7 -> 0.83768243 | T7: =$T$2*N7 -> 79.893962 | U7: =T7/E7^2 -> 10 | W7: =C7-(L7+R7+T7) -> 11601.539 | X7: =SQRT(T7+R7+E7^2+G7) -> 9.4478803 | Y7: =20*LOG(W7/X7)/6 -> 10.297271 | AA7: =X7/SQRT(Q7) -> 2.086768 | AC7: =((E7^2*$AC$2+$R$2*N7+L7)/B7)*16 -> 1093.3693 | AE7: =LOG(SQRT(Q7)*(W7/X7))/LOG(2) -> 12.440758 | AG7: =(Q7*$AG$2*N7)/SQRT(Q7*(($AG$2*N7)+T7+R7+E7^2)) -> 1.3342239
A8: =A7+10 -> 30 | B8: =$B$5/(10^(A8/200)) -> 2.5627637 | C8: =14759*EXP(-0.011196*A8) -> 10548.388 | D8: =D7-((12.3-8.7)/(270-0))*(A8-A7) -> 11.9 | E8: =0.00001543*A8^2-0.008981*A8+3 -> 2.744457 | G8: =(B8-1)/SQRT(12) -> 0.45113103 | H8: =7*EXP(0.007*A8) -> 8.6357464 | K8: =IF(J8>0,(J8/16),5*H8) -> 43.178732 | L8: =K8*B8 -> 110.65689 | N8: ='Gain-Sub-Exp'!$D$19*E8^2/$T$2 -> 165.56975 | O8: =N8/60 -> 2.7594958 | Q8: =('Gain-Sub-Exp'!O12) -> 21.743103 | R8: =$R$2*N8 -> 0.78972941 | T8: =$T$2*N8 -> 75.320442 | U8: =T8/E8^2 -> 10 | W8: =C8-(L8+R8+T8) -> 10361.621 | X8: =SQRT(T8+R8+E8^2+G8) -> 9.1702425 | Y8: =20*LOG(W8/X8)/6 -> 10.176823 | AA8: =X8/SQRT(Q8) -> 1.9666182 | AC8: =((E8^2*$AC$2+$R$2*N8+L8)/B8)*16 -> 1166.0353 | AE8: =LOG(SQRT(Q8)*(W8/X8))/LOG(2) -> 12.363245 | AG8: =(Q8*$AG$2*N8)/SQRT(Q8*(($AG$2*N8)+T8+R8+E8^2)) -> 1.3342239
A9: =A8+10 -> 40 | B9: =$B$5/(10^(A9/200)) -> 2.2840656 | C9: =14759*EXP(-0.011196*A9) -> 9431.1031 | D9: =D8-((12.3-8.7)/(270-0))*(A9-A8) -> 11.766667 | E9: =0.00001543*A9^2-0.008981*A9+3 -> 2.665448 | G9: =(B9-1)/SQRT(12) -> 0.37067781 | H9: =7*EXP(0.007*A9) -> 9.2619087 | K9: =IF(J9>0,(J9/16),5*H9) -> 46.309543 | L9: =K9*B9 -> 105.77403 | N9: ='Gain-Sub-Exp'!$D$19*E9^2/$T$2 -> 156.17393 | O9: =N9/60 -> 2.6028989 | Q9: =('Gain-Sub-Exp'!O13) -> 23.051222 | R9: =$R$2*N9 -> 0.74491356 | T9: =$T$2*N9 -> 71.04613 | U9: =T9/E9^2 -> 10 | W9: =C9-(L9+R9+T9) -> 9253.538 | X9: =SQRT(T9+R9+E9^2+G9) -> 8.9031643 | Y9: =20*LOG(W9/X9)/6 -> 10.055878 | AA9: =X9/SQRT(Q9) -> 1.8543744 | AC9: =((E9^2*$AC$2+$R$2*N9+L9)/B9)*16 -> 1243.8527 | AE9: =LOG(SQRT(Q9)*(W9/X9))/LOG(2) -> 12.284857 | AG9: =(Q9*$AG$2*N9)/SQRT(Q9*(($AG$2*N9)+T9+R9+E9^2)) -> 1.3342239
A10: =A9+10 -> 50 | B10: =$B$5/(10^(A10/200)) -> 2.0356756 | C10: =14759*EXP(-0.011196*A10) -> 8432.1608 | D10: =D9-((12.3-8.7)/(270-0))*(A10-A9) -> 11.633333 | E10: =0.00001543*A10^2-0.008981*A10+3 -> 2.589525 | G10: =(B10-1)/SQRT(12) -> 0.29897379 | H10: =7*EXP(0.007*A10) -> 9.9334728 | K10: =IF(J10>0,(J10/16),5*H10) -> 49.667364 | L10: =K10*B10 -> 101.10664 | N10: ='Gain-Sub-Exp'!$D$19*E10^2/$T$2 -> 147.40368 | O10: =N10/60 -> 2.4567281 | Q10: =('Gain-Sub-Exp'!O14) -> 24.422728 | R10: =$R$2*N10 -> 0.70308149 | T10: =$T$2*N10 -> 67.056397 | U10: =T10/E10^2 -> 10 | W10: =C10-(L10+R10+T10) -> 8263.2947 | X10: =SQRT(T10+R10+E10^2+G10) -> 8.6466232 | Y10: =20*LOG(W10/X10)/6 -> 9.9343557 | AA10: =X10/SQRT(Q10) -> 1.749643 | AC10: =((E10^2*$AC$2+$R$2*N10+L10)/B10)*16 -> 1327.2537 | AE10: =LOG(SQRT(Q10)*(W10/X10))/LOG(2) -> 12.205441 | AG10: =(Q10*$AG$2*N10)/SQRT(Q10*(($AG$2*N10)+T10+R10+E10^2)) -> 1.3342239
A11: =A10+10 -> 60 | B11: =$B$5/(10^(A11/200)) -> 1.8142978 | C11: =14759*EXP(-0.011196*A11) -> 7539.0265 | D11: =D10-((12.3-8.7)/(270-0))*(A11-A10) -> 11.5 | E11: =0.00001543*A11^2-0.008981*A11+3 -> 2.516688 | G11: =(B11-1)/SQRT(12) -> 0.23506752 | H11: =7*EXP(0.007*A11) -> 10.653731 | K11: =IF(J11>0,(J11/16),5*H11) -> 53.268654 | L11: =K11*B11 -> 96.645202 | N11: ='Gain-Sub-Exp'!$D$19*E11^2/$T$2 -> 139.22809 | O11: =N11/60 -> 2.3204682 | Q11: =('Gain-Sub-Exp'!O15) -> 25.85685 | R11: =$R$2*N11 -> 0.66408582 | T11: =$T$2*N11 -> 63.337185 | U11: =T11/E11^2 -> 10 | W11: =C11-(L11+R11+T11) -> 7378.3801 | X11: =SQRT(T11+R11+E11^2+G11) -> 8.4005986 | Y11: =20*LOG(W11/X11)/6 -> 9.8121693 | AA11: =X11/SQRT(Q11) -> 1.6520471 | AC11: =((E11^2*$AC$2+$R$2*N11+L11)/B11)*16 -> 1416.7154 | AE11: =LOG(SQRT(Q11)*(W11/X11))/LOG(2) -> 12.124834 | AG11: =(Q11*$AG$2*N11)/SQRT(Q11*(($AG$2*N11)+T11+R11+E11^2)) -> 1.3342239
A12: =A11+10 -> 70 | B12: =$B$5/(10^(A12/200)) -> 1.6169946 | C12: =14759*EXP(-0.011196*A12) -> 6740.493 | D12: =D11-((12.3-8.7)/(270-0))*(A12-A11) -> 11.366667 | E12: =0.00001543*A12^2-0.008981*A12+3 -> 2.446937 | G12: =(B12-1)/SQRT(12) -> 0.178111 | H12: =7*EXP(0.007*A12) -> 11.426214 | K12: =IF(J12>0,(J12/16),5*H12) -> 57.131068 | L12: =K12*B12 -> 92.380628 | N12: ='Gain-Sub-Exp'!$D$19*E12^2/$T$2 -> 131.61752 | O12: =N12/60 -> 2.1936253 | Q12: =('Gain-Sub-Exp'!O16) -> 27.351982 | R12: =$R$2*N12 -> 0.62778513 | T12: =$T$2*N12 -> 59.875007 | U12: =T12/E12^2 -> 10 | W12: =C12-(L12+R12+T12) -> 6587.6096 | X12: =SQRT(T12+R12+E12^2+G12) -> 8.1650722 | Y12: =20*LOG(W12/X12)/6 -> 9.6892261 | AA12: =X12/SQRT(Q12) -> 1.5612255 | AC12: =((E12^2*$AC$2+$R$2*N12+L12)/B12)*16 -> 1512.7662 | AE12: =LOG(SQRT(Q12)*(W12/X12))/LOG(2) -> 12.04286 | AG12: =(Q12*$AG$2*N12)/SQRT(Q12*(($AG$2*N12)+T12+R12+E12^2)) -> 1.3342239
A13: =A12+10 -> 80 | B13: =$B$5/(10^(A13/200)) -> 1.441148 | C13: =14759*EXP(-0.011196*A13) -> 6026.5401 | D13: =D12-((12.3-8.7)/(270-0))*(A13-A12) -> 11.233333 | E13: =0.00001543*A13^2-0.008981*A13+3 -> 2.380272 | G13: =(B13-1)/SQRT(12) -> 0.12734845 | H13: =7*EXP(0.007*A13) -> 12.254708 | K13: =IF(J13>0,(J13/16),5*H13) -> 61.273538 | L13: =K13*B13 -> 88.304233 | N13: ='Gain-Sub-Exp'!$D$19*E13^2/$T$2 -> 124.54357 | O13: =N13/60 -> 2.0757261 | Q13: =('Gain-Sub-Exp'!O17) -> 28.905548 | R13: =$R$2*N13 -> 0.59404402 | T13: =$T$2*N13 -> 56.656948 | U13: =T13/E13^2 -> 10 | W13: =C13-(L13+R13+T13) -> 5880.9849 | X13: =SQRT(T13+R13+E13^2+G13) -> 7.9400274 | Y13: =20*LOG(W13/X13)/6 -> 9.5654269 | AA13: =X13/SQRT(Q13) -> 1.476833 | AC13: =((E13^2*$AC$2+$R$2*N13+L13)/B13)*16 -> 1615.992 | AE13: =LOG(SQRT(Q13)*(W13/X13))/LOG(2) -> 11.959335 | AG13: =(Q13*$AG$2*N13)/SQRT(Q13*(($AG$2*N13)+T13+R13+E13^2)) -> 1.3342239
A14: =A13+10 -> 90 | B14: =$B$5/(10^(A14/200)) -> 1.2844245 | C14: =14759*EXP(-0.011196*A14) -> 5388.2091 | D14: =D13-((12.3-8.7)/(270-0))*(A14-A13) -> 11.1 | E14: =0.00001543*A14^2-0.008981*A14+3 -> 2.316693 | G14: =(B14-1)/SQRT(12) -> 0.082106272 | H14: =7*EXP(0.007*A14) -> 13.143274 | K14: =IF(J14>0,(J14/16),5*H14) -> 65.71637 | L14: =K14*B14 -> 84.407714 | N14: ='Gain-Sub-Exp'!$D$19*E14^2/$T$2 -> 117.9791 | O14: =N14/60 -> 1.9663184 | Q14: =('Gain-Sub-Exp'!O18) -> 30.513878 | R14: =$R$2*N14 -> 0.56273305 | T14: =$T$2*N14 -> 53.670665 | U14: =T14/E14^2 -> 10 | W14: =C14-(L14+R14+T14) -> 5249.568 | X14: =SQRT(T14+R14+E14^2+G14) -> 7.7254495 | Y14: =20*LOG(W14/X14)/6 -> 9.440666 | AA14: =X14/SQRT(Q14) -> 1.3985405 | AC14: =((E14^2*$AC$2+$R$2*N14+L14)/B14)*16 -> 1727.0442 | AE14: =LOG(SQRT(Q14)*(W14/X14))/LOG(2) -> 11.874061 | AG14: =(Q14*$AG$2*N14)/SQRT(Q14*(($AG$2*N14)+T14+R14+E14^2)) -> 1.3342239
A15: =A14+10 -> 100 | B15: =$B$5/(10^(A15/200)) -> 1.1447445 | C15: =14759*EXP(-0.011196*A15) -> 4817.4901 | D15: =D14-((12.3-8.7)/(270-0))*(A15-A14) -> 10.966667 | E15: =0.00001543*A15^2-0.008981*A15+3 -> 2.2562 | G15: =(B15-1)/SQRT(12) -> 0.041784142 | H15: =7*EXP(0.007*A15) -> 14.096269 | K15: =IF(J15>0,(J15/16),5*H15) -> 70.481345 | L15: =K15*B15 -> 80.683133 | N15: ='Gain-Sub-Exp'!$D$19*E15^2/$T$2 -> 111.89825 | O15: =N15/60 -> 1.8649709 | Q15: =('Gain-Sub-Exp'!O19) -> 32.172084 | R15: =$R$2*N15 -> 0.5337288 | T15: =$T$2*N15 -> 50.904384 | U15: =T15/E15^2 -> 10 | W15: =C15-(L15+R15+T15) -> 4685.3689 | X15: =SQRT(T15+R15+E15^2+G15) -> 7.5213254 | Y15: =20*LOG(W15/X15)/6 -> 9.3148314 | AA15: =X15/SQRT(Q15) -> 1.3260344 | AC15: =((E15^2*$AC$2+$R$2*N15+L15)/B15)*16 -> 1846.6478 | AE15: =LOG(SQRT(Q15)*(W15/X15))/LOG(2) -> 11.786829 | AG15: =(Q15*$AG$2*N15)/SQRT(Q15*(($AG$2*N15)+T15+R15+E15^2)) -> 1.3342239
A16: =A15+10 -> 110 | B16: =$B$5/(10^(A16/200)) -> 1.0202546 | C16: =14759*EXP(-0.011196*A16) -> 4307.2216 | D16: =D15-((12.3-8.7)/(270-0))*(A16-A15) -> 10.833333 | E16: =0.00001543*A16^2-0.008981*A16+3 -> 2.198793 | G16: =(B16-1)/SQRT(12) -> 0.0058470055 | H16: =7*EXP(0.007*A16) -> 15.118364 | K16: =IF(J16>0,(J16/16),5*H16) -> 75.591819 | L16: =K16*B16 -> 77.122903 | N16: ='Gain-Sub-Exp'!$D$19*E16^2/$T$2 -> 106.27639 | O16: =N16/60 -> 1.7712732 | Q16: =('Gain-Sub-Exp'!O20) -> 33.873938 | R16: =$R$2*N16 -> 0.50691383 | T16: =$T$2*N16 -> 48.346907 | U16: =T16/E16^2 -> 10 | W16: =C16-(L16+R16+T16) -> 4181.2449 | X16: =SQRT(T16+R16+E16^2+G16) -> 7.3276434 | Y16: =20*LOG(W16/X16)/6 -> 9.1878043 | AA16: =X16/SQRT(Q16) -> 1.2590167 | AC16: =((E16^2*$AC$2+$R$2*N16+L16)/B16)*16 -> 1975.6123 | AE16: =LOG(SQRT(Q16)*(W16/X16))/LOG(2) -> 11.697419 | AG16: =(Q16*$AG$2*N16)/SQRT(Q16*(($AG$2*N16)+T16+R16+E16^2)) -> 1.3342239
A17: 111 | B17: =$B$5/(10^(A17/200)) -> 1.0085759 | C17: =14759*EXP(-0.011196*A17) -> 4259.2669 | D17: =D16-((12.3-8.7)/(270-0))*(A17-A16) -> 10.82 | E17: =0.00001543*A17^2-0.008981*A17+3 -> 2.193222 | G17: =(B17-1)/SQRT(12) -> 0.0024756384 | H17: =7*EXP(0.007*A17) -> 15.224564 | K17: =IF(J17>0,(J17/16),5*H17) -> 76.122818 | L17: =K17*B17 -> 76.775637 | N17: ='Gain-Sub-Exp'!$D$19*E17^2/$T$2 -> 105.73854 | O17: =N17/60 -> 1.762309 | Q17: =('Gain-Sub-Exp'!O21) -> 34.046242 | R17: =$R$2*N17 -> 0.5043484 | T17: =$T$2*N17 -> 48.102229 | U17: =T17/E17^2 -> 10 | W17: =C17-(L17+R17+T17) -> 4133.8847 | X17: =SQRT(T17+R17+E17^2+G17) -> 7.3088491 | Y17: =20*LOG(W17/X17)/6 -> 9.1750312 | AA17: =X17/SQRT(Q17) -> 1.2526058 | AC17: =((E17^2*$AC$2+$R$2*N17+L17)/B17)*16 -> 1989.0575 | AE17: =LOG(SQRT(Q17)*(W17/X17))/LOG(2) -> 11.68835 | AG17: =(Q17*$AG$2*N17)/SQRT(Q17*(($AG$2*N17)+T17+R17+E17^2)) -> 1.3342239
A18: =A16+10 -> 120 | B18: =$B$5/(10^(A18/200)) -> 0.90930289 | C18: =14759*EXP(-0.011196*A18) -> 3851.0008 | D18: =D17-((12.3-8.7)/(270-0))*(A18-A17) -> 10.7 | E18: =0.00001543*A18^2-0.008981*A18+3 -> 2.144472 | G18: 0 | H18: =7*EXP(0.007*A18) -> 16.214569 | K18: =IF(J18>0,(J18/16),5*H18) -> 81.072844 | L18: =K18*B18 -> 73.719771 | N18: ='Gain-Sub-Exp'!$D$19*E18^2/$T$2 -> 101.09016 | O18: =N18/60 -> 1.684836 | Q18: =('Gain-Sub-Exp'!O22) -> 35.611775 | R18: =$R$2*N18 -> 0.48217669 | T18: =$T$2*N18 -> 45.987602 | U18: =T18/E18^2 -> 10 | W18: =C18-(L18+R18+T18) -> 3730.8113 | X18: =SQRT(T18+R18+E18^2+G18) -> 7.1462255 | Y18: =20*LOG(W18/X18)/6 -> 9.0590886 | AA18: =X18/SQRT(Q18) -> 1.1975121 | AC18: =((E18^2*$AC$2+$R$2*N18+L18)/B18)*16 -> 2114.8429 | AE18: =LOG(SQRT(Q18)*(W18/X18))/LOG(2) -> 11.605233 | AG18: =(Q18*$AG$2*N18)/SQRT(Q18*(($AG$2*N18)+T18+R18+E18^2)) -> 1.3342239
A19: =A18+10 -> 130 | B19: =$B$5/(10^(A19/200)) -> 0.81041705 | C19: =14759*EXP(-0.011196*A19) -> 3443.1029 | D19: =D18-((12.3-8.7)/(270-0))*(A19-A18) -> 10.566667 | E19: =0.00001543*A19^2-0.008981*A19+3 -> 2.093237 | G19: 0 | H19: =7*EXP(0.007*A19) -> 17.390258 | K19: =IF(J19>0,(J19/16),5*H19) -> 86.951289 | L19: =K19*B19 -> 70.466807 | N19: ='Gain-Sub-Exp'!$D$19*E19^2/$T$2 -> 96.317439 | O19: =N19/60 -> 1.6052906 | Q19: =('Gain-Sub-Exp'!O23) -> 37.376409 | R19: =$R$2*N19 -> 0.45941191 | T19: =$T$2*N19 -> 43.816411 | U19: =T19/E19^2 -> 10 | W19: =C19-(L19+R19+T19) -> 3328.3603 | X19: =SQRT(T19+R19+E19^2+G19) -> 6.9754903 | Y19: =20*LOG(W19/X19)/6 -> 8.928852 | AA19: =X19/SQRT(Q19) -> 1.1409745 | AC19: =((E19^2*$AC$2+$R$2*N19+L19)/B19)*16 -> 2265.3547 | AE19: =LOG(SQRT(Q19)*(W19/X19))/LOG(2) -> 11.510329 | AG19: =(Q19*$AG$2*N19)/SQRT(Q19*(($AG$2*N19)+T19+R19+E19^2)) -> 1.3342239
A20: =A19+10 -> 140 | B20: =$B$5/(10^(A20/200)) -> 0.72228496 | C20: =14759*EXP(-0.011196*A20) -> 3078.4095 | D20: =D19-((12.3-8.7)/(270-0))*(A20-A19) -> 10.433333 | E20: =0.00001543*A20^2-0.008981*A20+3 -> 2.045088 | G20: 0 | H20: =7*EXP(0.007*A20) -> 18.651194 | K20: =IF(J20>0,(J20/16),5*H20) -> 93.255968 | L20: =K20*B20 -> 67.357383 | N20: ='Gain-Sub-Exp'!$D$19*E20^2/$T$2 -> 91.93738 | O20: =N20/60 -> 1.5322897 | Q20: =('Gain-Sub-Exp'!O24) -> 39.157087 | R20: =$R$2*N20 -> 0.43852004 | T20: =$T$2*N20 -> 41.823849 | U20: =T20/E20^2 -> 10 | W20: =C20-(L20+R20+T20) -> 2968.7897 | X20: =SQRT(T20+R20+E20^2+G20) -> 6.8150388 | Y20: =20*LOG(W20/X20)/6 -> 8.797037 | AA20: =X20/SQRT(Q20) -> 1.0890884 | AC20: =((E20^2*$AC$2+$R$2*N20+L20)/B20)*16 -> 2428.2882 | AE20: =LOG(SQRT(Q20)*(W20/X20))/LOG(2) -> 11.412538 | AG20: =(Q20*$AG$2*N20)/SQRT(Q20*(($AG$2*N20)+T20+R20+E20^2)) -> 1.3342239
A21: =A20+10 -> 150 | B21: =$B$5/(10^(A21/200)) -> 0.64373715 | C21: =14759*EXP(-0.011196*A21) -> 2752.3444 | D21: =D20-((12.3-8.7)/(270-0))*(A21-A20) -> 10.3 | E21: =0.00001543*A21^2-0.008981*A21+3 -> 2.000025 | G21: 0 | H21: =7*EXP(0.007*A21) -> 20.003558 | K21: =IF(J21>0,(J21/16),5*H21) -> 100.01779 | L21: =K21*B21 -> 64.385166 | N21: ='Gain-Sub-Exp'!$D$19*E21^2/$T$2 -> 87.930384 | O21: =N21/60 -> 1.4655064 | Q21: =('Gain-Sub-Exp'!O25) -> 40.941479 | R21: =$R$2*N21 -> 0.4194076 | T21: =$T$2*N21 -> 40.001 | U21: =T21/E21^2 -> 10 | W21: =C21-(L21+R21+T21) -> 2647.5388 | X21: =SQRT(T21+R21+E21^2+G21) -> 6.6648712 | Y21: =20*LOG(W21/X21)/6 -> 8.6635019 | AA21: =X21/SQRT(Q21) -> 1.0416216 | AC21: =((E21^2*$AC$2+$R$2*N21+L21)/B21)*16 -> 2604.9284 | AE21: =LOG(SQRT(Q21)*(W21/X21))/LOG(2) -> 11.311605 | AG21: =(Q21*$AG$2*N21)/SQRT(Q21*(($AG$2*N21)+T21+R21+E21^2)) -> 1.3342239
A22: =A21+10 -> 160 | B22: =$B$5/(10^(A22/200)) -> 0.57373134 | C22: =14759*EXP(-0.011196*A22) -> 2460.8162 | D22: =D21-((12.3-8.7)/(270-0))*(A22-A21) -> 10.166667 | E22: =0.00001543*A22^2-0.008981*A22+3 -> 1.958048 | G22: 0 | H22: =7*EXP(0.007*A22) -> 21.453979 | K22: =IF(J22>0,(J22/16),5*H22) -> 107.2699 | L22: =K22*B22 -> 61.544101 | N22: ='Gain-Sub-Exp'!$D$19*E22^2/$T$2 -> 84.27811 | O22: =N22/60 -> 1.4046352 | Q22: =('Gain-Sub-Exp'!O26) -> 42.715718 | R22: =$R$2*N22 -> 0.4019871 | T22: =$T$2*N22 -> 38.33952 | U22: =T22/E22^2 -> 10 | W22: =C22-(L22+R22+T22) -> 2360.5305 | X22: =SQRT(T22+R22+E22^2+G22) -> 6.5249873 | Y22: =20*LOG(W22/X22)/6 -> 8.5280999 | AA22: =X22/SQRT(Q22) -> 0.99835687 | AC22: =((E22^2*$AC$2+$R$2*N22+L22)/B22)*16 -> 2796.7267 | AE22: =LOG(SQRT(Q22)*(W22/X22))/LOG(2) -> 11.207268 | AG22: =(Q22*$AG$2*N22)/SQRT(Q22*(($AG$2*N22)+T22+R22+E22^2)) -> 1.3342239
A23: =A22+10 -> 170 | B23: =$B$5/(10^(A23/200)) -> 0.51133859 | C23: =14759*EXP(-0.011196*A23) -> 2200.1666 | D23: =D22-((12.3-8.7)/(270-0))*(A23-A22) -> 10.033333 | E23: =0.00001543*A23^2-0.008981*A23+3 -> 1.919157 | G23: 0 | H23: =7*EXP(0.007*A23) -> 23.009568 | K23: =IF(J23>0,(J23/16),5*H23) -> 115.04784 | L23: =K23*B23 -> 58.828402 | N23: ='Gain-Sub-Exp'!$D$19*E23^2/$T$2 -> 80.963473 | O23: =N23/60 -> 1.3493912 | Q23: =('Gain-Sub-Exp'!O27) -> 44.464496 | R23: =$R$2*N23 -> 0.38617705 | T23: =$T$2*N23 -> 36.831636 | U23: =T23/E23^2 -> 10 | W23: =C23-(L23+R23+T23) -> 2104.1203 | X23: =SQRT(T23+R23+E23^2+G23) -> 6.3953871 | Y23: =20*LOG(W23/X23)/6 -> 8.3906791 | AA23: =X23/SQRT(Q23) -> 0.95909174 | AC23: =((E23^2*$AC$2+$R$2*N23+L23)/B23)*16 -> 3005.3265 | AE23: =LOG(SQRT(Q23)*(W23/X23))/LOG(2) -> 11.099261 | AG23: =(Q23*$AG$2*N23)/SQRT(Q23*(($AG$2*N23)+T23+R23+E23^2)) -> 1.3342239
A24: 178 | B24: =$B$5/(10^(A24/200)) -> 0.46634634 | C24: =14759*EXP(-0.011196*A24) -> 2011.6697 | D24: =D23-((12.3-8.7)/(270-0))*(A24-A23) -> 9.9266667 | E24: =0.00001543*A24^2-0.008981*A24+3 -> 1.8902661 | G24: 0 | H24: =7*EXP(0.007*A24) -> 24.334866 | K24: =IF(J24>0,(J24/16),5*H24) -> 121.67433 | L24: =K24*B24 -> 56.742379 | N24: ='Gain-Sub-Exp'!$D$19*E24^2/$T$2 -> 78.544182 | O24: =N24/60 -> 1.3090697 | Q24: =('Gain-Sub-Exp'!O28) -> 45.834076 | R24: =$R$2*N24 -> 0.37463759 | T24: =$T$2*N24 -> 35.73106 | U24: =T24/E24^2 -> 10 | W24: =C24-(L24+R24+T24) -> 1918.8216 | X24: =SQRT(T24+R24+E24^2+G24) -> 6.2991113 | Y24: =20*LOG(W24/X24)/6 -> 8.2791844 | AA24: =X24/SQRT(Q24) -> 0.93043287 | AC24: =((E24^2*$AC$2+$R$2*N24+L24)/B24)*16 -> 3185.5492 | AE24: =LOG(SQRT(Q24)*(W24/X24))/LOG(2) -> 11.010031 | AG24: =(Q24*$AG$2*N24)/SQRT(Q24*(($AG$2*N24)+T24+R24+E24^2)) -> 1.3342239
A25: 180 | B25: =$B$5/(10^(A25/200)) -> 0.455731 | C25: =14759*EXP(-0.011196*A25) -> 1967.125 | D25: =D24-((12.3-8.7)/(270-0))*(A25-A24) -> 9.9 | E25: =0.00001543*A25^2-0.008981*A25+3 -> 1.883352 | G25: 0 | H25: =7*EXP(0.007*A25) -> 24.67795 | K25: =IF(J25>0,(J25/16),5*H25) -> 123.38975 | L25: =K25*B25 -> 56.232535 | N25: ='Gain-Sub-Exp'!$D$19*E25^2/$T$2 -> 77.970643 | O25: =N25/60 -> 1.2995107 | Q25: =('Gain-Sub-Exp'!O29) -> 46.171224 | R25: =$R$2*N25 -> 0.37190194 | T25: =$T$2*N25 -> 35.470148 | U25: =T25/E25^2 -> 10 | W25: =C25-(L25+R25+T25) -> 1875.0504 | X25: =SQRT(T25+R25+E25^2+G25) -> 6.2760708 | Y25: =20*LOG(W25/X25)/6 -> 8.2510837 | AA25: =X25/SQRT(Q25) -> 0.92363874 | AC25: =((E25^2*$AC$2+$R$2*N25+L25)/B25)*16 -> 3232.5941 | AE25: =LOG(SQRT(Q25)*(W25/X25))/LOG(2) -> 10.987313 | AG25: =(Q25*$AG$2*N25)/SQRT(Q25*(($AG$2*N25)+T25+R25+E25^2)) -> 1.3342239
A26: 190 | B26: =$B$5/(10^(A26/200)) -> 0.40617068 | C26: =14759*EXP(-0.011196*A26) -> 1758.7671 | D26: =D25-((12.3-8.7)/(270-0))*(A26-A25) -> 9.7666667 | E26: =0.00001543*A26^2-0.008981*A26+3 -> 1.850633 | G26: 0 | H26: =7*EXP(0.007*A26) -> 26.467304 | K26: =IF(J26>0,(J26/16),5*H26) -> 132.33652 | L26: =K26*B26 -> 53.751214 | N26: ='Gain-Sub-Exp'!$D$19*E26^2/$T$2 -> 75.285047 | O26: =N26/60 -> 1.2547508 | Q26: =('Gain-Sub-Exp'!O30) -> 47.818261 | R26: =$R$2*N26 -> 0.35909227 | T26: =$T$2*N26 -> 34.248425 | U26: =T26/E26^2 -> 10 | W26: =C26-(L26+R26+T26) -> 1670.4084 | X26: =SQRT(T26+R26+E26^2+G26) -> 6.1670382 | Y26: =20*LOG(W26/X26)/6 -> 8.1091534 | AA26: =X26/SQRT(Q26) -> 0.89182522 | AC26: =((E26^2*$AC$2+$R$2*N26+L26)/B26)*16 -> 3480.6542 | AE26: =LOG(SQRT(Q26)*(W26/X26))/LOG(2) -> 10.871152 | AG26: =(Q26*$AG$2*N26)/SQRT(Q26*(($AG$2*N26)+T26+R26+E26^2)) -> 1.3342239
A27: 200 | B27: =$B$5/(10^(A27/200)) -> 0.362 | C27: =14759*EXP(-0.011196*A27) -> 1572.4785 | D27: =D26-((12.3-8.7)/(270-0))*(A27-A26) -> 9.6333333 | E27: =0.00001543*A27^2-0.008981*A27+3 -> 1.821 | G27: 0 | H27: =7*EXP(0.007*A27) -> 28.3864 | K27: =IF(J27>0,(J27/16),5*H27) -> 141.932 | L27: =K27*B27 -> 51.379384 | N27: ='Gain-Sub-Exp'!$D$19*E27^2/$T$2 -> 72.893367 | O27: =N27/60 -> 1.2148895 | Q27: =('Gain-Sub-Exp'!O31) -> 49.38721 | R27: =$R$2*N27 -> 0.34768451 | T27: =$T$2*N27 -> 33.16041 | U27: =T27/E27^2 -> 10 | W27: =C27-(L27+R27+T27) -> 1487.5911 | X27: =SQRT(T27+R27+E27^2+G27) -> 6.0682893 | Y27: =20*LOG(W27/X27)/6 -> 7.9647243 | AA27: =X27/SQRT(Q27) -> 0.86349343 | AC27: =((E27^2*$AC$2+$R$2*N27+L27)/B27)*16 -> 3751.9327 | AE27: =LOG(SQRT(Q27)*(W27/X27))/LOG(2) -> 10.750505 | AG27: =(Q27*$AG$2*N27)/SQRT(Q27*(($AG$2*N27)+T27+R27+E27^2)) -> 1.3342239
A28: =A27+10 -> 210 | B28: =$B$5/(10^(A28/200)) -> 0.32263284 | C28: =14759*EXP(-0.011196*A28) -> 1405.9216 | D28: =D27-((12.3-8.7)/(270-0))*(A28-A27) -> 9.5 | E28: =0.00001543*A28^2-0.008981*A28+3 -> 1.794453 | G28: 0 | H28: =7*EXP(0.007*A28) -> 30.444646 | K28: =IF(J28>0,(J28/16),5*H28) -> 152.22323 | L28: =K28*B28 -> 49.112213 | N28: ='Gain-Sub-Exp'!$D$19*E28^2/$T$2 -> 70.783543 | O28: =N28/60 -> 1.1797257 | Q28: =('Gain-Sub-Exp'!O32) -> 50.85928 | R28: =$R$2*N28 -> 0.33762113 | T28: =$T$2*N28 -> 32.200616 | U28: =T28/E28^2 -> 10 | W28: =C28-(L28+R28+T28) -> 1324.2712 | X28: =SQRT(T28+R28+E28^2+G28) -> 5.9798243 | Y28: =20*LOG(W28/X28)/6 -> 7.8176284 | AA28: =X28/SQRT(Q28) -> 0.83850049 | AC28: =((E28^2*$AC$2+$R$2*N28+L28)/B28)*16 -> 4049.2071 | AE28: =LOG(SQRT(Q28)*(W28/X28))/LOG(2) -> 10.625099 | AG28: =(Q28*$AG$2*N28)/SQRT(Q28*(($AG$2*N28)+T28+R28+E28^2)) -> 1.3342239
A29: =A28+10 -> 220 | B29: =$B$5/(10^(A29/200)) -> 0.28754682 | C29: =14759*EXP(-0.011196*A29) -> 1257.0065 | D29: =D28-((12.3-8.7)/(270-0))*(A29-A28) -> 9.3666667 | E29: =0.00001543*A29^2-0.008981*A29+3 -> 1.770992 | G29: 0 | H29: =7*EXP(0.007*A29) -> 32.652132 | K29: =IF(J29>0,(J29/16),5*H29) -> 163.26066 | L29: =K29*B29 -> 46.945084 | N29: ='Gain-Sub-Exp'!$D$19*E29^2/$T$2 -> 68.944769 | O29: =N29/60 -> 1.1490795 | Q29: =('Gain-Sub-Exp'!O33) -> 52.215709 | R29: =$R$2*N29 -> 0.32885061 | T29: =$T$2*N29 -> 31.364127 | U29: =T29/E29^2 -> 10 | W29: =C29-(L29+R29+T29) -> 1178.3684 | X29: =SQRT(T29+R29+E29^2+G29) -> 5.901643 | Y29: =20*LOG(W29/X29)/6 -> 7.6676938 | AA29: =X29/SQRT(Q29) -> 0.81671841 | AC29: =((E29^2*$AC$2+$R$2*N29+L29)/B29)*16 -> 4375.6664 | AE29: =LOG(SQRT(Q29)*(W29/X29))/LOG(2) -> 10.494664 | AG29: =(Q29*$AG$2*N29)/SQRT(Q29*(($AG$2*N29)+T29+R29+E29^2)) -> 1.3342239
A30: =A29+10 -> 230 | B30: =$B$5/(10^(A30/200)) -> 0.25627637 | C30: =14759*EXP(-0.011196*A30) -> 1123.8644 | D30: =D29-((12.3-8.7)/(270-0))*(A30-A29) -> 9.2333333 | E30: =0.00001543*A30^2-0.008981*A30+3 -> 1.750617 | G30: 0 | H30: =7*EXP(0.007*A30) -> 35.019679 | K30: =IF(J30>0,(J30/16),5*H30) -> 175.09839 | L30: =K30*B30 -> 44.873581 | N30: ='Gain-Sub-Exp'!$D$19*E30^2/$T$2 -> 67.367496 | O30: =N30/60 -> 1.1227916 | Q30: =('Gain-Sub-Exp'!O34) -> 53.438234 | R30: =$R$2*N30 -> 0.32132738 | T30: =$T$2*N30 -> 30.646599 | U30: =T30/E30^2 -> 10 | W30: =C30-(L30+R30+T30) -> 1048.0229 | X30: =SQRT(T30+R30+E30^2+G30) -> 5.8337455 | Y30: =20*LOG(W30/X30)/6 -> 7.5147443 | AA30: =X30/SQRT(Q30) -> 0.79803406 | AC30: =((E30^2*$AC$2+$R$2*N30+L30)/B30)*16 -> 4734.9824 | AE30: =LOG(SQRT(Q30)*(W30/X30))/LOG(2) -> 10.358932 | AG30: =(Q30*$AG$2*N30)/SQRT(Q30*(($AG$2*N30)+T30+R30+E30^2)) -> 1.3342239
A31: =A30+10 -> 240 | B31: =$B$5/(10^(A31/200)) -> 0.22840656 | C31: =14759*EXP(-0.011196*A31) -> 1004.8247 | D31: =D30-((12.3-8.7)/(270-0))*(A31-A30) -> 9.1 | E31: =0.00001543*A31^2-0.008981*A31+3 -> 1.733328 | G31: 0 | H31: =7*EXP(0.007*A31) -> 37.558892 | K31: =IF(J31>0,(J31/16),5*H31) -> 187.79446 | L31: =K31*B31 -> 42.893486 | N31: ='Gain-Sub-Exp'!$D$19*E31^2/$T$2 -> 66.043431 | O31: =N31/60 -> 1.1007238 | Q31: =('Gain-Sub-Exp'!O35) -> 54.509585 | R31: =$R$2*N31 -> 0.3150119 | T31: =$T$2*N31 -> 30.04426 | U31: =T31/E31^2 -> 10 | W31: =C31-(L31+R31+T31) -> 931.57191 | X31: =SQRT(T31+R31+E31^2+G31) -> 5.7761317 | Y31: =20*LOG(W31/X31)/6 -> 7.3585977 | AA31: =X31/SQRT(Q31) -> 0.78234921 | AC31: =((E31^2*$AC$2+$R$2*N31+L31)/B31)*16 -> 5131.3943 | AE31: =LOG(SQRT(Q31)*(W31/X31))/LOG(2) -> 10.217639 | AG31: =(Q31*$AG$2*N31)/SQRT(Q31*(($AG$2*N31)+T31+R31+E31^2)) -> 1.3342239
A32: =A31+10 -> 250 | B32: =$B$5/(10^(A32/200)) -> 0.20356756 | C32: =14759*EXP(-0.011196*A32) -> 898.39366 | D32: =D31-((12.3-8.7)/(270-0))*(A32-A31) -> 8.9666667 | E32: =0.00001543*A32^2-0.008981*A32+3 -> 1.719125 | G32: 0 | H32: =7*EXP(0.007*A32) -> 40.282219 | K32: =IF(J32>0,(J32/16),5*H32) -> 201.41109 | L32: =K32*B32 -> 41.000765 | N32: ='Gain-Sub-Exp'!$D$19*E32^2/$T$2 -> 64.965537 | O32: =N32/60 -> 1.0827589 | Q32: =('Gain-Sub-Exp'!O36) -> 55.413996 | R32: =$R$2*N32 -> 0.30987059 | T32: =$T$2*N32 -> 29.553908 | U32: =T32/E32^2 -> 10 | W32: =C32-(L32+R32+T32) -> 827.52912 | X32: =SQRT(T32+R32+E32^2+G32) -> 5.7288017 | Y32: =20*LOG(W32/X32)/6 -> 7.199065 | AA32: =X32/SQRT(Q32) -> 0.7695805 | AC32: =((E32^2*$AC$2+$R$2*N32+L32)/B32)*16 -> 5569.8103 | AE32: =LOG(SQRT(Q32)*(W32/X32))/LOG(2) -> 10.070522 | AG32: =(Q32*$AG$2*N32)/SQRT(Q32*(($AG$2*N32)+T32+R32+E32^2)) -> 1.3342239
A33: =A32+10 -> 260 | B33: =$B$5/(10^(A33/200)) -> 0.18142978 | C33: =14759*EXP(-0.011196*A33) -> 803.23582 | D33: =D32-((12.3-8.7)/(270-0))*(A33-A32) -> 8.8333333 | E33: =0.00001543*A33^2-0.008981*A33+3 -> 1.708008 | G33: 0 | H33: =7*EXP(0.007*A33) -> 43.203009 | K33: =IF(J33>0,(J33/16),5*H33) -> 216.01505 | L33: =K33*B33 -> 39.191562 | N33: ='Gain-Sub-Exp'!$D$19*E33^2/$T$2 -> 64.128033 | O33: =N33/60 -> 1.0688006 | Q33: =('Gain-Sub-Exp'!O37) -> 56.137695 | R33: =$R$2*N33 -> 0.30587589 | T33: =$T$2*N33 -> 29.172913 | U33: =T33/E33^2 -> 10 | W33: =C33-(L33+R33+T33) -> 734.56547 | X33: =SQRT(T33+R33+E33^2+G33) -> 5.6917555 | Y33: =20*LOG(W33/X33)/6 -> 7.0359476 | AA33: =X33/SQRT(Q33) -> 0.75965945 | AC33: =((E33^2*$AC$2+$R$2*N33+L33)/B33)*16 -> 6055.9277 | AE33: =LOG(SQRT(Q33)*(W33/X33))/LOG(2) -> 9.9173225 | AG33: =(Q33*$AG$2*N33)/SQRT(Q33*(($AG$2*N33)+T33+R33+E33^2)) -> 1.3342239
A34: =A33+10 -> 270 | B34: =$B$5/(10^(A34/200)) -> 0.16169946 | C34: =14759*EXP(-0.011196*A34) -> 718.1571 | D34: =D33-((12.3-8.7)/(270-0))*(A34-A33) -> 8.7 | E34: =0.00001543*A34^2-0.008981*A34+3 -> 1.699977 | G34: 0 | H34: =7*EXP(0.007*A34) -> 46.335581 | K34: =IF(J34>0,(J34/16),5*H34) -> 231.6779 | L34: =K34*B34 -> 37.462192 | N34: ='Gain-Sub-Exp'!$D$19*E34^2/$T$2 -> 63.526395 | O34: =N34/60 -> 1.0587733 | Q34: =('Gain-Sub-Exp'!O38) -> 56.669358 | R34: =$R$2*N34 -> 0.30300622 | T34: =$T$2*N34 -> 28.899218 | U34: =T34/E34^2 -> 10 | W34: =C34-(L34+R34+T34) -> 651.49268 | X34: =SQRT(T34+R34+E34^2+G34) -> 5.664993 | Y34: =20*LOG(W34/X34)/6 -> 6.8690339 | AA34: =X34/SQRT(Q34) -> 0.75253246 | AC34: =((E34^2*$AC$2+$R$2*N34+L34)/B34)*16 -> 6596.3774 | AE34: =LOG(SQRT(Q34)*(W34/X34))/LOG(2) -> 9.7577795 | AG34: =(Q34*$AG$2*N34)/SQRT(Q34*(($AG$2*N34)+T34+R34+E34^2)) -> 1.3342239
A36: Equations
A37: Gain =10*20Log((e/ADU at gain 0)/GADU)
A39: Swamp Factor = Sky Background/RN2
A41: FWCeff = FWC - (Bias+Dark+Sky)
A43: Ntotal = sqrt (Sky + Dark + RN2)
A44: Ntotalint = Ntotal/sqrt(Csubs)
A46: Bits = log(FWCeff/Ntotal) / log(2)
A47: Bitsint = log(sqrt(Csubs)*(FWCeff/Ntotal)) / log(2)
A49: SNR = (Csubs*Obj)/sqrt(Csubs*(Obj+Sky+Dark+RN2))

Sheet Offset-FWC
A1: ZWO Gain | B1: Offset | C1: FWC
A2: 0.0001 | B2: =7*EXP(0.007*A2) -> 7.0000049 | C2: 15000
A3: =A2+10 -> 10.0001 | B3: =7*EXP(0.007*A3) -> 7.5075625
A4: =A3+10 -> 20.0001 | B4: =7*EXP(0.007*A4) -> 8.0519222
A5: =A4+10 -> 30.0001 | B5: =7*EXP(0.007*A5) -> 8.6357525
A6: =A5+10 -> 40.0001 | B6: =7*EXP(0.007*A6) -> 9.2619152
A7: =A6+10 -> 50.0001 | B7: =7*EXP(0.007*A7) -> 9.9334798 | C7: 8500
A8: =A7+10 -> 60.0001 | B8: =7*EXP(0.007*A8) -> 10.653738
A9: =A8+10 -> 70.0001 | B9: =7*EXP(0.007*A9) -> 11.426222
A10: =A9+10 -> 80.0001 | B10: =7*EXP(0.007*A10) -> 12.254716
A11: =A10+10 -> 90.0001 | B11: =7*EXP(0.007*A11) -> 13.143283
A12: =A11+10 -> 100.0001 | B12: =7*EXP(0.007*A12) -> 14.096279 | C12: 4800
A13: =A12+10 -> 110.0001 | B13: =7*EXP(0.007*A13) -> 15.118374
A14: =A13+10 -> 120.0001 | B14: =7*EXP(0.007*A14) -> 16.21458
A15: =A14+10 -> 130.0001 | B15: =7*EXP(0.007*A15) -> 17.39027
A16: =A15+10 -> 140.0001 | B16: =7*EXP(0.007*A16) -> 18.651207
A17: =A16+10 -> 150.0001 | B17: =7*EXP(0.007*A17) -> 20.003572 | C17: 2700
A18: =A17+10 -> 160.0001 | B18: =7*EXP(0.007*A18) -> 21.453994
A19: =A18+10 -> 170.0001 | B19: =7*EXP(0.007*A19) -> 23.009585
A20: 180 | B20: =7*EXP(0.007*A20) -> 24.67795
A21: 190 | B21: =7*EXP(0.007*A21) -> 26.467304
A22: 200 | B22: =7*EXP(0.007*A22) -> 28.3864 | C22: 1500
A23: =A22+10 -> 210 | B23: =7*EXP(0.007*A23) -> 30.444646
A24: =A23+10 -> 220 | B24: =7*EXP(0.007*A24) -> 32.652132
A25: =A24+10 -> 230 | B25: =7*EXP(0.007*A25) -> 35.019679
A26: =A25+10 -> 240 | B26: =7*EXP(0.007*A26) -> 37.558892
A27: =A26+10 -> 250 | B27: =7*EXP(0.007*A27) -> 40.282219 | C27: 900
A28: =A27+10 -> 260 | B28: =7*EXP(0.007*A28) -> 43.203009
A29: =A28+10 -> 270 | B29: =7*EXP(0.007*A29) -> 46.335581 | C29: 750
