Workbook

Sheet Gain-Sub-Exp
C1: ZWO ASI 294 BIN 1 Gain and Sub-Exposure Calculator
C2: ONLY ENTER DATA IN BLUE (OR GRAY) BOXES. DO NOT ALTER DATA ON OTHER SHEETS | P2: © 2021 S. Bellavia
B3: Note: Once you manually enter the Skybackground, Cell D6, and Dark Current, cell D12, you will lose the link to that calcualtion. To retrieve it change Cell D6 back to "=H34" and cell D12 back to "=K24"
B4: If you know your sky background and dark current, enter it here: | G4: OR take data directly from an image: | M4: Results
B5: Input: | G5: Input Data from an Image | M5: ZWO ASI 294 Bin 1 Gain-sub-exposure
C6: Sky Background | D6: =H34 -> 20.813515 | E6: mag/sq-arcsec | G6: 16 bit | P6: Integrated
G7: Skyglow background | H7: 1500 | I7: ADU of an area in the background | M7: Gain | N7: Sub-exp | O7: N | P7: bits | Q7: SNR
C8: Scope Aperture | D8: 0.115 | E8: m | G8: Dark signal | H8: 802 | I8: ADU of a matched dark frame | N8: (minutes)
C9: Scope focal length | D9: 0.523 | E9: m | G9: Bias signal | H9: 800 | I9: ADU of your bias | M9: 0 | N9: =LOOKUP(M9,'ASI294-BIN-1specs'!$A$5:$A$45,'ASI294-BIN-1specs'!$M$5:$M$45) -> 4.9176262 | O9: =$D$21/N9 -> 12.201009 | P9: =LOOKUP(M9,'ASI294-BIN-1specs'!$A$5:$A$45,'ASI294-BIN-1specs'!$AA$5:$AA$45) -> 12.444157 | Q9: =LOOKUP(M9,'ASI294-BIN-1specs'!$A$5:$A$45,'ASI294-BIN-1specs'!$AC$5:$AC$45) -> 8.3775878
C10: f/# | D10: =D9/D8 -> 4.5478261 | G10: Exposure duration (seconds) | H10: 120 | I10: Duration (seconds) for light frame & dark | M10: =M9+10 -> 10 | N10: =LOOKUP(M10,'ASI294-BIN-1specs'!$A$5:$A$45,'ASI294-BIN-1specs'!$M$5:$M$45) -> 4.577962 | O10: =$D$21/N10 -> 13.106269 | P10: =LOOKUP(M10,'ASI294-BIN-1specs'!$A$5:$A$45,'ASI294-BIN-1specs'!$AA$5:$AA$45) -> 12.380571 | Q10: =LOOKUP(M10,'ASI294-BIN-1specs'!$A$5:$A$45,'ASI294-BIN-1specs'!$AC$5:$AC$45) -> 8.3775878
C11: pixel size | D11: 2.3 | E11: micron | M11: =M10+10 -> 20 | N11: =LOOKUP(M11,'ASI294-BIN-1specs'!$A$5:$A$45,'ASI294-BIN-1specs'!$M$5:$M$45) -> 4.26307 | O11: =$D$21/N11 -> 14.074364 | P11: =LOOKUP(M11,'ASI294-BIN-1specs'!$A$5:$A$45,'ASI294-BIN-1specs'!$AA$5:$AA$45) -> 12.316559 | Q11: =LOOKUP(M11,'ASI294-BIN-1specs'!$A$5:$A$45,'ASI294-BIN-1specs'!$AC$5:$AC$45) -> 8.3775878
C12: Dark Current | D12: =K24 -> 0.00071466639 | E12: e/sec | G12: 12 bit | M12: =M11+10 -> 30 | N12: =LOOKUP(M12,'ASI294-BIN-1specs'!$A$5:$A$45,'ASI294-BIN-1specs'!$M$5:$M$45) -> 3.9720859 | O12: =$D$21/N12 -> 15.105414 | P12: =LOOKUP(M12,'ASI294-BIN-1specs'!$A$5:$A$45,'ASI294-BIN-1specs'!$AA$5:$AA$45) -> 12.251745 | Q12: =LOOKUP(M12,'ASI294-BIN-1specs'!$A$5:$A$45,'ASI294-BIN-1specs'!$AC$5:$AC$45) -> 8.3775878
B13: Filter: | G13: Skyglow background | H13: =H7*(2^12/2^16) -> 93.75 | I13: ADU of an area in the background | M13: =M12+10 -> 40 | N13: =LOOKUP(M13,'ASI294-BIN-1specs'!$A$5:$A$45,'ASI294-BIN-1specs'!$M$5:$M$45) -> 3.7040682 | O13: =$D$21/N13 -> 16.198406 | P13: =LOOKUP(M13,'ASI294-BIN-1specs'!$A$5:$A$45,'ASI294-BIN-1specs'!$AA$5:$AA$45) -> 12.185732 | Q13: =LOOKUP(M13,'ASI294-BIN-1specs'!$A$5:$A$45,'ASI294-BIN-1specs'!$AC$5:$AC$45) -> 8.3775878
B14: Green | C14: filter wavelength | D14: =LOOKUP(B14,Filters!A2:C23,Filters!B2:B23) -> 550 | E14: nanometers | G14: Dark signal | H14: =H8*(2^12/2^16) -> 50.125 | I14: ADU of a matched dark frame | M14: =M13+10 -> 50 | N14: =LOOKUP(M14,'ASI294-BIN-1specs'!$A$5:$A$45,'ASI294-BIN-1specs'!$M$5:$M$45) -> 3.4580176 | O14: =$D$21/N14 -> 17.350982 | P14: =LOOKUP(M14,'ASI294-BIN-1specs'!$A$5:$A$45,'ASI294-BIN-1specs'!$AA$5:$AA$45) -> 12.118105 | Q14: =LOOKUP(M14,'ASI294-BIN-1specs'!$A$5:$A$45,'ASI294-BIN-1specs'!$AC$5:$AC$45) -> 8.3775878
C15: filter bandwidth | D15: =LOOKUP(B14,Filters!A2:C23,Filters!C2:C23) -> 100 | E15: nanometers | G15: Bias signal | H15: =H9*(2^12/2^16) -> 50 | I15: ADU of your bias | M15: =M14+10 -> 60 | N15: =LOOKUP(M15,'ASI294-BIN-1specs'!$A$5:$A$45,'ASI294-BIN-1specs'!$M$5:$M$45) -> 3.232894 | O15: =$D$21/N15 -> 18.559223 | P15: =LOOKUP(M15,'ASI294-BIN-1specs'!$A$5:$A$45,'ASI294-BIN-1specs'!$AA$5:$AA$45) -> 12.04843 | Q15: =LOOKUP(M15,'ASI294-BIN-1specs'!$A$5:$A$45,'ASI294-BIN-1specs'!$AC$5:$AC$45) -> 8.3775878
M16: =M15+10 -> 70 | N16: =LOOKUP(M16,'ASI294-BIN-1specs'!$A$5:$A$45,'ASI294-BIN-1specs'!$M$5:$M$45) -> 3.027633 | O16: =$D$21/N16 -> 19.817462 | P16: =LOOKUP(M16,'ASI294-BIN-1specs'!$A$5:$A$45,'ASI294-BIN-1specs'!$AA$5:$AA$45) -> 11.976265 | Q16: =LOOKUP(M16,'ASI294-BIN-1specs'!$A$5:$A$45,'ASI294-BIN-1specs'!$AC$5:$AC$45) -> 8.3775878
C17: Transmission efficiency | D17: 0.6 | E17: (QE, etc) | G17: Enter Camera Gain | M17: =M16+10 -> 80 | N17: =LOOKUP(M17,'ASI294-BIN-1specs'!$A$5:$A$45,'ASI294-BIN-1specs'!$M$5:$M$45) -> 2.8411597 | O17: =$D$21/N17 -> 21.118137 | P17: =LOOKUP(M17,'ASI294-BIN-1specs'!$A$5:$A$45,'ASI294-BIN-1specs'!$AA$5:$AA$45) -> 11.901156 | Q17: =LOOKUP(M17,'ASI294-BIN-1specs'!$A$5:$A$45,'ASI294-BIN-1specs'!$AC$5:$AC$45) -> 8.3775878
G18: Gain | H18: 140 | M18: =M17+10 -> 90 | N18: =LOOKUP(M18,'ASI294-BIN-1specs'!$A$5:$A$45,'ASI294-BIN-1specs'!$M$5:$M$45) -> 2.6724023 | O18: =$D$21/N18 -> 22.451709 | P18: =LOOKUP(M18,'ASI294-BIN-1specs'!$A$5:$A$45,'ASI294-BIN-1specs'!$AA$5:$AA$45) -> 11.822648 | Q18: =LOOKUP(M18,'ASI294-BIN-1specs'!$A$5:$A$45,'ASI294-BIN-1specs'!$AC$5:$AC$45) -> 8.3775878
C19: Desired Swamp Factor | D19: 10 | E19: (skyflux / RN2) | M19: =M18+10 -> 100 | N19: =LOOKUP(M19,'ASI294-BIN-1specs'!$A$5:$A$45,'ASI294-BIN-1specs'!$M$5:$M$45) -> 2.5203025 | O19: =$D$21/N19 -> 23.806666 | P19: =LOOKUP(M19,'ASI294-BIN-1specs'!$A$5:$A$45,'ASI294-BIN-1specs'!$AA$5:$AA$45) -> 11.740294 | Q19: =LOOKUP(M19,'ASI294-BIN-1specs'!$A$5:$A$45,'ASI294-BIN-1specs'!$AC$5:$AC$45) -> 8.3775878
G20: Gain | H20: =LOOKUP(H18,'ASI294-BIN-1specs'!A5:A45,'ASI294-BIN-1specs'!B5:B45) -> 0.68607974 | I20: e-/ADU | M20: =M19+10 -> 110 | N20: =LOOKUP(M20,'ASI294-BIN-1specs'!$A$5:$A$45,'ASI294-BIN-1specs'!$M$5:$M$45) -> 2.3838251 | O20: =$D$21/N20 -> 25.169632 | P20: =LOOKUP(M20,'ASI294-BIN-1specs'!$A$5:$A$45,'ASI294-BIN-1specs'!$AA$5:$AA$45) -> 11.653656 | Q20: =LOOKUP(M20,'ASI294-BIN-1specs'!$A$5:$A$45,'ASI294-BIN-1specs'!$AC$5:$AC$45) -> 8.3775878
C21: Total Integration Time | D21: 60 | E21: minutes | G21: Read noise | H21: =LOOKUP(H18,'ASI294-BIN-1specs'!A5:A45,'ASI294-BIN-1specs'!E5:E45) -> 1.7550544 | I21: in electrons | M21: =M20+10 -> 120 | N21: =LOOKUP(M21,'ASI294-BIN-1specs'!$A$5:$A$45,'ASI294-BIN-1specs'!$M$5:$M$45) -> 2.2619652 | O21: =$D$21/N21 -> 26.525607 | P21: =LOOKUP(M21,'ASI294-BIN-1specs'!$A$5:$A$45,'ASI294-BIN-1specs'!$AA$5:$AA$45) -> 11.562321 | Q21: =LOOKUP(M21,'ASI294-BIN-1specs'!$A$5:$A$45,'ASI294-BIN-1specs'!$AC$5:$AC$45) -> 8.3775878
M22: =M21+10 -> 130 | N22: =LOOKUP(M22,'ASI294-BIN-1specs'!$A$5:$A$45,'ASI294-BIN-1specs'!$M$5:$M$45) -> 2.1537544 | O22: =$D$21/N22 -> 27.85833 | P22: =LOOKUP(M22,'ASI294-BIN-1specs'!$A$5:$A$45,'ASI294-BIN-1specs'!$AA$5:$AA$45) -> 11.465903 | Q22: =LOOKUP(M22,'ASI294-BIN-1specs'!$A$5:$A$45,'ASI294-BIN-1specs'!$AC$5:$AC$45) -> 8.3775878
B23: Output: | G23: Output: | H23: ADU | I23: electrons | J23: ADU/sec | K23: e/sec | M23: =M22+10 -> 140 | N23: =LOOKUP(M23,'ASI294-BIN-1specs'!$A$5:$A$45,'ASI294-BIN-1specs'!$M$5:$M$45) -> 2.0582643 | O23: =$D$21/N23 -> 29.150775 | P23: =LOOKUP(M23,'ASI294-BIN-1specs'!$A$5:$A$45,'ASI294-BIN-1specs'!$AA$5:$AA$45) -> 11.364057 | Q23: =LOOKUP(M23,'ASI294-BIN-1specs'!$A$5:$A$45,'ASI294-BIN-1specs'!$AC$5:$AC$45) -> 8.3775878
C24: sampling | D24: =(D11/D9)*0.0036*180/PI() -> 0.90709188 | E24: arc-sec/pixel | G24: Dark signal | H24: =H14-H15 -> 0.125 | I24: =H24*H20 -> 0.085759967 | J24: =H24/H10 -> 0.0010416667 | K24: =I24/H10 -> 0.00071466639 | M24: =M23+10 -> 150 | N24: =LOOKUP(M24,'ASI294-BIN-1specs'!$A$5:$A$45,'ASI294-BIN-1specs'!$M$5:$M$45) -> 1.9746093 | O24: =$D$21/N24 -> 30.385758 | P24: =LOOKUP(M24,'ASI294-BIN-1specs'!$A$5:$A$45,'ASI294-BIN-1specs'!$AA$5:$AA$45) -> 11.256488 | Q24: =LOOKUP(M24,'ASI294-BIN-1specs'!$A$5:$A$45,'ASI294-BIN-1specs'!$AC$5:$AC$45) -> 8.3775878
G25: Skyglow signal | H25: =H13-H14 -> 43.625 | I25: =H25*H20 -> 29.930229 | J25: =H25/H10 -> 0.36354167 | K25: =I25/H10 -> 0.24941857 | M25: =M24+10 -> 160 | N25: =LOOKUP(M25,'ASI294-BIN-1specs'!$A$5:$A$45,'ASI294-BIN-1specs'!$M$5:$M$45) -> 1.9019466 | O25: =$D$21/N25 -> 31.546626 | P25: =LOOKUP(M25,'ASI294-BIN-1specs'!$A$5:$A$45,'ASI294-BIN-1specs'!$AA$5:$AA$45) -> 11.142955 | Q25: =LOOKUP(M25,'ASI294-BIN-1specs'!$A$5:$A$45,'ASI294-BIN-1specs'!$AC$5:$AC$45) -> 8.3775878
C26: actual skyflux | D26: =(-0.00000045063*D14^2 + 0.000090632*D14 + 0.62647)*10^(-0.4*(D6-20.7)) -> 0.48639535 | E26: (phs/s/nm/arcsec2/m2) | M26: =M25+10 -> 170 | N26: =LOOKUP(M26,'ASI294-BIN-1specs'!$A$5:$A$45,'ASI294-BIN-1specs'!$M$5:$M$45) -> 1.839476 | O26: =$D$21/N26 -> 32.617985 | P26: =LOOKUP(M26,'ASI294-BIN-1specs'!$A$5:$A$45,'ASI294-BIN-1specs'!$AA$5:$AA$45) -> 11.023283 | Q26: =LOOKUP(M26,'ASI294-BIN-1specs'!$A$5:$A$45,'ASI294-BIN-1specs'!$AC$5:$AC$45) -> 8.3775878
C27: measured background | D27: =D17*D26*D15*D24^2*(PI()*D8^2/4) -> 0.24941857 | E27: (e/sec) / pixel | G27: Measured Sky Background | H27: =K25 -> 0.24941857 | I27: (e/sec) / pixel | M27: =M26+10 -> 180 | N27: =LOOKUP(M27,'ASI294-BIN-1specs'!$A$5:$A$45,'ASI294-BIN-1specs'!$M$5:$M$45) -> 1.7864367 | O27: =$D$21/N27 -> 33.586413 | P27: =LOOKUP(M27,'ASI294-BIN-1specs'!$A$5:$A$45,'ASI294-BIN-1specs'!$AA$5:$AA$45) -> 10.897365 | Q27: =LOOKUP(M27,'ASI294-BIN-1specs'!$A$5:$A$45,'ASI294-BIN-1specs'!$AC$5:$AC$45) -> 8.3775878
C28: actual background | D28: =D27/D17 -> 0.41569762 | E28: (e/sec) / pixel | M28: =M27+10 -> 190 | N28: =LOOKUP(M28,'ASI294-BIN-1specs'!$A$5:$A$45,'ASI294-BIN-1specs'!$M$5:$M$45) -> 1.7421043 | O28: =$D$21/N28 -> 34.441107 | P28: =LOOKUP(M28,'ASI294-BIN-1specs'!$A$5:$A$45,'ASI294-BIN-1specs'!$AA$5:$AA$45) -> 10.765172 | Q28: =LOOKUP(M28,'ASI294-BIN-1specs'!$A$5:$A$45,'ASI294-BIN-1specs'!$AC$5:$AC$45) -> 8.3775878
G29: Your sky photon flux | H29: =H27/(D17*D15*D24^2*(PI()*D8^2/4)) -> 0.48639535 | I29: (photons/sec/nm/arcsec2/m2) | M29: =M28+10 -> 200 | N29: =LOOKUP(M29,'ASI294-BIN-1specs'!$A$5:$A$45,'ASI294-BIN-1specs'!$M$5:$M$45) -> 1.7057852 | O29: =$D$21/N29 -> 35.174416 | P29: =LOOKUP(M29,'ASI294-BIN-1specs'!$A$5:$A$45,'ASI294-BIN-1specs'!$AA$5:$AA$45) -> 10.626748 | Q29: =LOOKUP(M29,'ASI294-BIN-1specs'!$A$5:$A$45,'ASI294-BIN-1specs'!$AC$5:$AC$45) -> 8.3775878
C30: object signal | D30: 22 | E30: mag/arcsec2 | H30: =H27/D17 -> 0.41569762 | I30: (e/sec) / pixel | M30: =M29+10 -> 210 | N30: =LOOKUP(M30,'ASI294-BIN-1specs'!$A$5:$A$45,'ASI294-BIN-1specs'!$M$5:$M$45) -> 1.6768111 | O30: =$D$21/N30 -> 35.782206 | P30: =LOOKUP(M30,'ASI294-BIN-1specs'!$A$5:$A$45,'ASI294-BIN-1specs'!$AA$5:$AA$45) -> 10.482217 | Q30: =LOOKUP(M30,'ASI294-BIN-1specs'!$A$5:$A$45,'ASI294-BIN-1specs'!$AC$5:$AC$45) -> 8.3775878
D31: =(-0.000001*D14^2 + 0.00064*D14+ 0.4905)*10^(-0.4*((D30)-20.7)) -> 0.16307739 | E31: (phs/s/nm/arcsec2/m2) | M31: =M30+10 -> 220 | N31: =LOOKUP(M31,'ASI294-BIN-1specs'!$A$5:$A$45,'ASI294-BIN-1specs'!$M$5:$M$45) -> 1.6545314 | O31: =$D$21/N31 -> 36.264044 | P31: =LOOKUP(M31,'ASI294-BIN-1specs'!$A$5:$A$45,'ASI294-BIN-1specs'!$AA$5:$AA$45) -> 10.331776 | Q31: =LOOKUP(M31,'ASI294-BIN-1specs'!$A$5:$A$45,'ASI294-BIN-1specs'!$AC$5:$AC$45) -> 8.3775878
D32: =D17*D31*D15*D24^2*(PI()*D8^2/4) -> 0.083624423 | E32: (e/sec) / pixel | G32: Photon flux for 20.7 sky | H32: =(-0.00000045063*D14^2 + 0.000090632*D14 + 0.62647)*10^(-0.4*(20.7-20.7)) -> 0.54000202 | I32: (photons/sec/nm/arcsec2/m2) | M32: =M31+10 -> 230 | N32: =LOOKUP(M32,'ASI294-BIN-1specs'!$A$5:$A$45,'ASI294-BIN-1specs'!$M$5:$M$45) -> 1.6383062 | O32: =$D$21/N32 -> 36.62319 | P32: =LOOKUP(M32,'ASI294-BIN-1specs'!$A$5:$A$45,'ASI294-BIN-1specs'!$AA$5:$AA$45) -> 10.175698 | Q32: =LOOKUP(M32,'ASI294-BIN-1specs'!$A$5:$A$45,'ASI294-BIN-1specs'!$AC$5:$AC$45) -> 8.3775878
M33: =M32+10 -> 240 | N33: =LOOKUP(M33,'ASI294-BIN-1specs'!$A$5:$A$45,'ASI294-BIN-1specs'!$M$5:$M$45) -> 1.6274977 | O33: =$D$21/N33 -> 36.866411 | P33: =LOOKUP(M33,'ASI294-BIN-1specs'!$A$5:$A$45,'ASI294-BIN-1specs'!$AA$5:$AA$45) -> 10.014322 | Q33: =LOOKUP(M33,'ASI294-BIN-1specs'!$A$5:$A$45,'ASI294-BIN-1specs'!$AC$5:$AC$45) -> 8.3775878
B34: Enter Gain for DR and SNR vs. Total Integration: | E34: 100 | G34: Your sky | H34: =20.7-(2.5*LOG(H29/H32)) -> 20.813515 | I34: mag/sq-arcsec | M34: =M33+10 -> 250 | N34: =LOOKUP(M34,'ASI294-BIN-1specs'!$A$5:$A$45,'ASI294-BIN-1specs'!$M$5:$M$45) -> 1.621462 | O34: =$D$21/N34 -> 37.003643 | P34: =LOOKUP(M34,'ASI294-BIN-1specs'!$A$5:$A$45,'ASI294-BIN-1specs'!$AA$5:$AA$45) -> 9.8480518 | Q34: =LOOKUP(M34,'ASI294-BIN-1specs'!$A$5:$A$45,'ASI294-BIN-1specs'!$AC$5:$AC$45) -> 8.3775878
M35: =M34+10 -> 260 | N35: =LOOKUP(M35,'ASI294-BIN-1specs'!$A$5:$A$45,'ASI294-BIN-1specs'!$M$5:$M$45) -> 1.6195404 | O35: =$D$21/N35 -> 37.047547 | P35: =LOOKUP(M35,'ASI294-BIN-1specs'!$A$5:$A$45,'ASI294-BIN-1specs'!$AA$5:$AA$45) -> 9.6773455 | Q35: =LOOKUP(M35,'ASI294-BIN-1specs'!$A$5:$A$45,'ASI294-BIN-1specs'!$AC$5:$AC$45) -> 8.3775878
C36: Total Integration Time | D36: DR (bits) | E36: SNR | M36: =M35+10 -> 270 | N36: =LOOKUP(M36,'ASI294-BIN-1specs'!$A$5:$A$45,'ASI294-BIN-1specs'!$M$5:$M$45) -> 1.6210517 | O36: =$D$21/N36 -> 37.013008 | P36: =LOOKUP(M36,'ASI294-BIN-1specs'!$A$5:$A$45,'ASI294-BIN-1specs'!$AA$5:$AA$45) -> 9.5027137 | Q36: =LOOKUP(M36,'ASI294-BIN-1specs'!$A$5:$A$45,'ASI294-BIN-1specs'!$AC$5:$AC$45) -> 8.3775878
C37: =D21*0.25 -> 15 | D37: =LOOKUP($E$34,$M$9:$M$49,$P$9:$P$49)+(LOG(SQRT((C37/$D$21)*LOOKUP($E$34,$M$9:$M$49,$O$9:$O$49)))/LOG(2)-LOG(SQRT((LOOKUP($E$34,$M$9:$M$49,$O$9:$O$49))))/LOG(2)) -> 10.740294 | E37: =SQRT(C37/$D$21)*LOOKUP($E$34,$M$9:$M$49,$Q$9:$Q$49) -> 4.1887939 | M37: =M36+10 -> 280 | N37: =LOOKUP(M37,'ASI294-BIN-1specs'!$A$5:$A$45,'ASI294-BIN-1specs'!$M$5:$M$45) -> 1.6252839 | O37: =$D$21/N37 -> 36.916627 | P37: =LOOKUP(M37,'ASI294-BIN-1specs'!$A$5:$A$45,'ASI294-BIN-1specs'!$AA$5:$AA$45) -> 9.3247127 | Q37: =LOOKUP(M37,'ASI294-BIN-1specs'!$A$5:$A$45,'ASI294-BIN-1specs'!$AC$5:$AC$45) -> 8.3775878
C38: =D21*0.5 -> 30 | D38: =LOOKUP($E$34,$M$9:$M$49,$P$9:$P$49)+(LOG(SQRT((C38/$D$21)*LOOKUP($E$34,$M$9:$M$49,$O$9:$O$49)))/LOG(2)-LOG(SQRT((LOOKUP($E$34,$M$9:$M$49,$O$9:$O$49))))/LOG(2)) -> 11.240294 | E38: =SQRT(C38/$D$21)*LOOKUP($E$34,$M$9:$M$49,$Q$9:$Q$49) -> 5.9238491 | M38: =M37+10 -> 290 | N38: =LOOKUP(M38,'ASI294-BIN-1specs'!$A$5:$A$45,'ASI294-BIN-1specs'!$M$5:$M$45) -> 1.6314879 | O38: =$D$21/N38 -> 36.776247 | P38: =LOOKUP(M38,'ASI294-BIN-1specs'!$A$5:$A$45,'ASI294-BIN-1specs'!$AA$5:$AA$45) -> 9.1439402 | Q38: =LOOKUP(M38,'ASI294-BIN-1specs'!$A$5:$A$45,'ASI294-BIN-1specs'!$AC$5:$AC$45) -> 8.3775878
C39: =D21*0.75 -> 45 | D39: =LOOKUP($E$34,$M$9:$M$49,$P$9:$P$49)+(LOG(SQRT((C39/$D$21)*LOOKUP($E$34,$M$9:$M$49,$O$9:$O$49)))/LOG(2)-LOG(SQRT((LOOKUP($E$34,$M$9:$M$49,$O$9:$O$49))))/LOG(2)) -> 11.532775 | E39: =SQRT(C39/$D$21)*LOOKUP($E$34,$M$9:$M$49,$Q$9:$Q$49) -> 7.2552038 | M39: =M38+10 -> 300 | N39: =LOOKUP(M39,'ASI294-BIN-1specs'!$A$5:$A$45,'ASI294-BIN-1specs'!$M$5:$M$45) -> 1.6388713 | O39: =$D$21/N39 -> 36.610562 | P39: =LOOKUP(M39,'ASI294-BIN-1specs'!$A$5:$A$45,'ASI294-BIN-1specs'!$AA$5:$AA$45) -> 8.9610332 | Q39: =LOOKUP(M39,'ASI294-BIN-1specs'!$A$5:$A$45,'ASI294-BIN-1specs'!$AC$5:$AC$45) -> 8.3775878
C40: =D21*1 -> 60 | D40: =LOOKUP($E$34,$M$9:$M$49,$P$9:$P$49)+(LOG(SQRT((C40/$D$21)*LOOKUP($E$34,$M$9:$M$49,$O$9:$O$49)))/LOG(2)-LOG(SQRT((LOOKUP($E$34,$M$9:$M$49,$O$9:$O$49))))/LOG(2)) -> 11.740294 | E40: =SQRT(C40/$D$21)*LOOKUP($E$34,$M$9:$M$49,$Q$9:$Q$49) -> 8.3775878 | M40: =M39+10 -> 310 | N40: =LOOKUP(M40,'ASI294-BIN-1specs'!$A$5:$A$45,'ASI294-BIN-1specs'!$M$5:$M$45) -> 1.6465948 | O40: =$D$21/N40 -> 36.438837 | P40: =LOOKUP(M40,'ASI294-BIN-1specs'!$A$5:$A$45,'ASI294-BIN-1specs'!$AA$5:$AA$45) -> 8.7766681 | Q40: =LOOKUP(M40,'ASI294-BIN-1specs'!$A$5:$A$45,'ASI294-BIN-1specs'!$AC$5:$AC$45) -> 8.3775878
C41: =D21*1.5 -> 90 | D41: =LOOKUP($E$34,$M$9:$M$49,$P$9:$P$49)+(LOG(SQRT((C41/$D$21)*LOOKUP($E$34,$M$9:$M$49,$O$9:$O$49)))/LOG(2)-LOG(SQRT((LOOKUP($E$34,$M$9:$M$49,$O$9:$O$49))))/LOG(2)) -> 12.032775 | E41: =SQRT(C41/$D$21)*LOOKUP($E$34,$M$9:$M$49,$Q$9:$Q$49) -> 10.260408 | M41: =M40+10 -> 320 | N41: =LOOKUP(M41,'ASI294-BIN-1specs'!$A$5:$A$45,'ASI294-BIN-1specs'!$M$5:$M$45) -> 1.6537694 | O41: =$D$21/N41 -> 36.280753 | P41: =LOOKUP(M41,'ASI294-BIN-1specs'!$A$5:$A$45,'ASI294-BIN-1specs'!$AA$5:$AA$45) -> 8.5915631 | Q41: =LOOKUP(M41,'ASI294-BIN-1specs'!$A$5:$A$45,'ASI294-BIN-1specs'!$AC$5:$AC$45) -> 8.3775878
C42: =D21*2 -> 120 | D42: =LOOKUP($E$34,$M$9:$M$49,$P$9:$P$49)+(LOG(SQRT((C42/$D$21)*LOOKUP($E$34,$M$9:$M$49,$O$9:$O$49)))/LOG(2)-LOG(SQRT((LOOKUP($E$34,$M$9:$M$49,$O$9:$O$49))))/LOG(2)) -> 12.240294 | E42: =SQRT(C42/$D$21)*LOOKUP($E$34,$M$9:$M$49,$Q$9:$Q$49) -> 11.847698 | M42: =M41+10 -> 330 | N42: =LOOKUP(M42,'ASI294-BIN-1specs'!$A$5:$A$45,'ASI294-BIN-1specs'!$M$5:$M$45) -> 1.6594564 | O42: =$D$21/N42 -> 36.156418 | P42: =LOOKUP(M42,'ASI294-BIN-1specs'!$A$5:$A$45,'ASI294-BIN-1specs'!$AA$5:$AA$45) -> 8.4064843 | Q42: =LOOKUP(M42,'ASI294-BIN-1specs'!$A$5:$A$45,'ASI294-BIN-1specs'!$AC$5:$AC$45) -> 8.3775878
C43: =D21*3 -> 180 | D43: =LOOKUP($E$34,$M$9:$M$49,$P$9:$P$49)+(LOG(SQRT((C43/$D$21)*LOOKUP($E$34,$M$9:$M$49,$O$9:$O$49)))/LOG(2)-LOG(SQRT((LOOKUP($E$34,$M$9:$M$49,$O$9:$O$49))))/LOG(2)) -> 12.532775 | E43: =SQRT(C43/$D$21)*LOOKUP($E$34,$M$9:$M$49,$Q$9:$Q$49) -> 14.510408 | M43: =M42+10 -> 340 | N43: =LOOKUP(M43,'ASI294-BIN-1specs'!$A$5:$A$45,'ASI294-BIN-1specs'!$M$5:$M$45) -> 1.66267 | O43: =$D$21/N43 -> 36.086534 | P43: =LOOKUP(M43,'ASI294-BIN-1specs'!$A$5:$A$45,'ASI294-BIN-1specs'!$AA$5:$AA$45) -> 8.222255 | Q43: =LOOKUP(M43,'ASI294-BIN-1specs'!$A$5:$A$45,'ASI294-BIN-1specs'!$AC$5:$AC$45) -> 8.3775878
C44: =D21*4 -> 240 | D44: =LOOKUP($E$34,$M$9:$M$49,$P$9:$P$49)+(LOG(SQRT((C44/$D$21)*LOOKUP($E$34,$M$9:$M$49,$O$9:$O$49)))/LOG(2)-LOG(SQRT((LOOKUP($E$34,$M$9:$M$49,$O$9:$O$49))))/LOG(2)) -> 12.740294 | E44: =SQRT(C44/$D$21)*LOOKUP($E$34,$M$9:$M$49,$Q$9:$Q$49) -> 16.755176 | M44: =M43+10 -> 350 | N44: =LOOKUP(M44,'ASI294-BIN-1specs'!$A$5:$A$45,'ASI294-BIN-1specs'!$M$5:$M$45) -> 1.6623829 | O44: =$D$21/N44 -> 36.092767 | P44: =LOOKUP(M44,'ASI294-BIN-1specs'!$A$5:$A$45,'ASI294-BIN-1specs'!$AA$5:$AA$45) -> 8.0397698 | Q44: =LOOKUP(M44,'ASI294-BIN-1specs'!$A$5:$A$45,'ASI294-BIN-1specs'!$AC$5:$AC$45) -> 8.3775878
C45: =D21*5 -> 300 | D45: =LOOKUP($E$34,$M$9:$M$49,$P$9:$P$49)+(LOG(SQRT((C45/$D$21)*LOOKUP($E$34,$M$9:$M$49,$O$9:$O$49)))/LOG(2)-LOG(SQRT((LOOKUP($E$34,$M$9:$M$49,$O$9:$O$49))))/LOG(2)) -> 12.901258 | E45: =SQRT(C45/$D$21)*LOOKUP($E$34,$M$9:$M$49,$Q$9:$Q$49) -> 18.732856 | M45: =M44+10 -> 360 | N45: =LOOKUP(M45,'ASI294-BIN-1specs'!$A$5:$A$45,'ASI294-BIN-1specs'!$M$5:$M$45) -> 1.6575351 | O45: =$D$21/N45 -> 36.198328 | P45: =LOOKUP(M45,'ASI294-BIN-1specs'!$A$5:$A$45,'ASI294-BIN-1specs'!$AA$5:$AA$45) -> 7.8600122 | Q45: =LOOKUP(M45,'ASI294-BIN-1specs'!$A$5:$A$45,'ASI294-BIN-1specs'!$AC$5:$AC$45) -> 8.3775878
C46: =D21*10 -> 600 | D46: =LOOKUP($E$34,$M$9:$M$49,$P$9:$P$49)+(LOG(SQRT((C46/$D$21)*LOOKUP($E$34,$M$9:$M$49,$O$9:$O$49)))/LOG(2)-LOG(SQRT((LOOKUP($E$34,$M$9:$M$49,$O$9:$O$49))))/LOG(2)) -> 13.401258 | E46: =SQRT(C46/$D$21)*LOOKUP($E$34,$M$9:$M$49,$Q$9:$Q$49) -> 26.492259 | M46: =M45+10 -> 370 | N46: =LOOKUP(M46,'ASI294-BIN-1specs'!$A$5:$A$45,'ASI294-BIN-1specs'!$M$5:$M$45) -> 1.6470472 | O46: =$D$21/N46 -> 36.428829 | P46: =LOOKUP(M46,'ASI294-BIN-1specs'!$A$5:$A$45,'ASI294-BIN-1specs'!$AA$5:$AA$45) -> 7.6840782 | Q46: =LOOKUP(M46,'ASI294-BIN-1specs'!$A$5:$A$45,'ASI294-BIN-1specs'!$AC$5:$AC$45) -> 8.3775878
M47: =M46+10 -> 380 | N47: =LOOKUP(M47,'ASI294-BIN-1specs'!$A$5:$A$45,'ASI294-BIN-1specs'!$M$5:$M$45) -> 1.6298374 | O47: =$D$21/N47 -> 36.813488 | P47: =LOOKUP(M47,'ASI294-BIN-1specs'!$A$5:$A$45,'ASI294-BIN-1specs'!$AA$5:$AA$45) -> 7.5132039 | Q47: =LOOKUP(M47,'ASI294-BIN-1specs'!$A$5:$A$45,'ASI294-BIN-1specs'!$AC$5:$AC$45) -> 8.3775878
M48: =M47+10 -> 390 | N48: =LOOKUP(M48,'ASI294-BIN-1specs'!$A$5:$A$45,'ASI294-BIN-1specs'!$M$5:$M$45) -> 1.6048442 | O48: =$D$21/N48 -> 37.386808 | P48: =LOOKUP(M48,'ASI294-BIN-1specs'!$A$5:$A$45,'ASI294-BIN-1specs'!$AA$5:$AA$45) -> 7.3487989 | Q48: =LOOKUP(M48,'ASI294-BIN-1specs'!$A$5:$A$45,'ASI294-BIN-1specs'!$AC$5:$AC$45) -> 8.3775878
M49: =M48+10 -> 400 | N49: =LOOKUP(M49,'ASI294-BIN-1specs'!$A$5:$A$45,'ASI294-BIN-1specs'!$M$5:$M$45) -> 1.5710536 | O49: =$D$21/N49 -> 38.190931 | P49: =LOOKUP(M49,'ASI294-BIN-1specs'!$A$5:$A$45,'ASI294-BIN-1specs'!$AA$5:$AA$45) -> 7.1924832 | Q49: =LOOKUP(M49,'ASI294-BIN-1specs'!$A$5:$A$45,'ASI294-BIN-1specs'!$AC$5:$AC$45) -> 8.3775878

Sheet Filters
A1: Filter | B1: Wavelength | C1: Bandpass
A2: Blue | B2: 450 | C2: 100
A3: Green | B3: 550 | C3: 100
A4: Ha 12 nm | B4: 656 | C4: 12
A5: Ha 3 nm | B5: 656 | C5: 3
A6: Ha 6 nm | B6: 656 | C6: 6
A7: Ha 7 nm | B7: 656 | C7: 7
A8: IDAS Duo | B8: 578.5 | C8: 20
A9: IDAS LPS D1 | B9: 526 | C9: 53
A10: L-Extreme | B10: =((7*500.6) + (7*656.3))/14 -> 578.45 | C10: 14
A11: Lum | B11: 550 | C11: 300
A12: OIII 12 nm | B12: 500 | C12: 12
A13: OIII 3 nm | B13: 500 | C13: 3
A14: OIII 6 nm | B14: 500 | C14: 6
A15: OIII 7 nm | B15: 500 | C15: 7
A16: Optolong L-Enhance | B16: 552 | C16: 30
A17: Red | B17: 650 | C17: 100
A18: SII 12 nm | B18: 672 | C18: 12
A19: SII 3 nm | B19: 672 | C19: 3
A20: SII 6 nm | B20: 672 | C20: 6
A21: SII 7 nm | B21: 672 | C21: 7
A22: Triad | B22: 547.8 | C22: 13
A23: ZWO Duo | B23: 552 | C23: 30

Sheet Skyflux
A1: Sky flux
A2: © 2018 S. Bellavia
B4: for a 50%-tile 'dark sky' (20.7 in V-band):
D7: https://www.gemini.edu/sciops/ObsProcess/obsConstraints/atm-models/skybg_50_10.dat
B8: wavelength (nm) | C8: skyflux (photons/sec/nm/arcsec^2/m^2)
E9: lambda | F9: flux
B10: 450 | C10: 0.576 | E10: 450 | F10: 0.576
B11: 500 (OIII) | C11: 0.549 | E11: 550 | F11: 0.54
B12: 550 | C12: 0.54 | E12: 656 | F12: 0.492
B13: 650 | C13: 0.484
B14: 656 (Ha) | C14: 0.492
A16: Enter the skyflux from the table above, based on filter selection (use 550nm for broadband) | B16: 0.54 | C16: photons/sec/nm/arcsec^2/m^2
A18: Enter your sky background in Mag/sq-arcsec | B18: ='Gain-Sub-Exp'!D6 -> 20.813515
A20: re-calcualted skyflux for your sky | B20: ='Gain-Sub-Exp'!D26 -> 0.48639535
B22: wavelength spread | C22: ='Gain-Sub-Exp'!D15 -> 100 | D22: nm
B23: sampling | C23: ='Gain-Sub-Exp'!D24 -> 0.90709188 | D23: arc-sec/pixel
B24: scope aperture | C24: ='Gain-Sub-Exp'!D8 -> 0.115 | D24: m
B25: T | C25: ='Gain-Sub-Exp'!D17 -> 0.6 | D25: optical and electronic efficiency
B27: Sky Flux | C27: =C25*B20*C22*C23^2*(PI()*C24^2/4) -> 0.24941857 | D27: e/sec per pixel
A29: Equations:
A30: m1 = mref-2.5log(I1/Iref)
A31: (e/sec)/pixel = T*Photon flux*bandwidth*sampling^2*(PI()*aperture^2/4)
A32: Photon flux = (e/sec)/pixel/[T*bandwidth*sampling^2*(PI()*aperure^2/4)]

Sheet ASI294-BIN-1specs
A1: © 2019 S. Bellavia | P1: Dark Noise (e-/sec) | R1: Sky fog (e-/sec) | AC1: Obj Signal (e-/sec)
A2: Camera Specification/Controls | P2: ='Gain-Sub-Exp'!D12 -> 0.00071466639 | R2: ='Gain-Sub-Exp'!D27 -> 0.24941857 | AC2: ='Gain-Sub-Exp'!D32 -> 0.083624423
A4: ZWO Gain | B4: GADU (e/ADU) | C4: FWC | D4: DR | E4: Read noise | G4: ZWO Bias | I4: Bias (12 bit ADU's) | J4: Bias (e-'s) | L4: exposure (sec) | M4: exposure (min) | O4: # subs | P4: Single Sub Dark noise | R4: Single Sub Sky Background | S4: Single sub Swamp factor | U4: FWCeff | V4: Ntotal | W4: Bits | Y4: Ntotalint | AA4: Int Bits | AC4: Int SNR
A5: 0 | B5: =0.00000000022587*A5^4 - 0.00000030867*A5^3 + 0.00015765*A5^2 - 0.036866*A5 + 3.5176 -> 3.5176 | C5: =14622.62278*EXP(-0.01153*A5) -> 14622.623 | D5: =0.000000057532*A5^3 - 0.000047103*A5^2 - 0.004011*A5 + 12.061 -> 12.061 | E5: =-0.000000000083384*A5^4 + 0.000000031085*A5^3 + 0.00001783*A5^2 - 0.0097177*A5 + 2.7128 -> 2.7128 | G5: 10 | I5: =5*G5 -> 50 | J5: =I5*B5 -> 175.88 | L5: ='Gain-Sub-Exp'!$D$19*E5^2/$R$2 -> 295.05757 | M5: =L5/60 -> 4.9176262 | O5: =('Gain-Sub-Exp'!O9) -> 12.201009 | P5: =$P$2*L5 -> 0.21086773 | R5: =$R$2*L5 -> 73.592838 | S5: =R5/E5^2 -> 10 | U5: =C5-(J5+P5+R5) -> 14372.939 | V5: =SQRT(R5+P5+E5^2) -> 9.0090504 | W5: =20*LOG(U5/V5)/6 -> 10.676222 | Y5: =V5/SQRT(O5) -> 2.579177 | AA5: =LOG(SQRT(O5)*(U5/V5))/LOG(2) -> 12.444157 | AC5: =(O5*$AC$2*L5)/SQRT(O5*(($AC$2*L5)+R5+P5+E5^2)) -> 8.3775878
A6: =A5+10 -> 10 | B6: =0.00000000022587*A6^4 - 0.00000030867*A6^3 + 0.00015765*A6^2 - 0.036866*A6 + 3.5176 -> 3.1643986 | C6: =14622.62278*EXP(-0.01153*A6) -> 13030.201 | D6: =0.000000057532*A6^3 - 0.000047103*A6^2 - 0.004011*A6 + 12.061 -> 12.016237 | E6: =-0.000000000083384*A6^4 + 0.000000031085*A6^3 + 0.00001783*A6^2 - 0.0097177*A6 + 2.7128 -> 2.6174363 | G6: 10 | I6: =5*G6 -> 50 | J6: =I6*B6 -> 158.21993 | L6: ='Gain-Sub-Exp'!$D$19*E6^2/$R$2 -> 274.67772 | M6: =L6/60 -> 4.577962 | O6: =('Gain-Sub-Exp'!O10) -> 13.106269 | P6: =$P$2*L6 -> 0.19630294 | R6: =$R$2*L6 -> 68.509725 | S6: =R6/E6^2 -> 10 | U6: =C6-(J6+P6+R6) -> 12803.275 | V6: =SQRT(R6+P6+E6^2) -> 8.692353 | W6: =20*LOG(U6/V6)/6 -> 10.560612 | Y6: =V6/SQRT(O6) -> 2.4010313 | AA6: =LOG(SQRT(O6)*(U6/V6))/LOG(2) -> 12.380571 | AC6: =(O6*$AC$2*L6)/SQRT(O6*(($AC$2*L6)+R6+P6+E6^2)) -> 8.3775878
A7: =A6+10 -> 20 | B7: =0.00000000022587*A7^4 - 0.00000030867*A7^3 + 0.00015765*A7^2 - 0.036866*A7 + 3.5176 -> 2.8409068 | C7: =14622.62278*EXP(-0.01153*A7) -> 11611.196 | D7: =0.000000057532*A7^3 - 0.000047103*A7^2 - 0.004011*A7 + 12.061 -> 11.962399 | E7: =-0.000000000083384*A7^4 + 0.000000031085*A7^3 + 0.00001783*A7^2 - 0.0097177*A7 + 2.7128 -> 2.5258133 | G7: 10 | I7: =5*G7 -> 50 | J7: =I7*B7 -> 142.04534 | L7: ='Gain-Sub-Exp'!$D$19*E7^2/$R$2 -> 255.7842 | M7: =L7/60 -> 4.26307 | O7: =('Gain-Sub-Exp'!O11) -> 14.074364 | P7: =$P$2*L7 -> 0.18280037 | R7: =$R$2*L7 -> 63.79733 | S7: =R7/E7^2 -> 10 | U7: =C7-(J7+P7+R7) -> 11405.171 | V7: =SQRT(R7+P7+E7^2) -> 8.3880787 | W7: =20*LOG(U7/V7)/6 -> 10.444798 | Y7: =V7/SQRT(O7) -> 2.235878 | AA7: =LOG(SQRT(O7)*(U7/V7))/LOG(2) -> 12.316559 | AC7: =(O7*$AC$2*L7)/SQRT(O7*(($AC$2*L7)+R7+P7+E7^2)) -> 8.3775878
A8: =A7+10 -> 30 | B8: =0.00000000022587*A8^4 - 0.00000030867*A8^3 + 0.00015765*A8^2 - 0.036866*A8 + 3.5176 -> 2.5453539 | C8: =14622.62278*EXP(-0.01153*A8) -> 10346.723 | D8: =0.000000057532*A8^3 - 0.000047103*A8^2 - 0.004011*A8 + 12.061 -> 11.899831 | E8: =-0.000000000083384*A8^4 + 0.000000031085*A8^3 + 0.00001783*A8^2 - 0.0097177*A8 + 2.7128 -> 2.4380878 | G8: 10 | I8: =5*G8 -> 50 | J8: =I8*B8 -> 127.26769 | L8: ='Gain-Sub-Exp'!$D$19*E8^2/$R$2 -> 238.32515 | M8: =L8/60 -> 3.9720859 | O8: =('Gain-Sub-Exp'!O12) -> 15.105414 | P8: =$P$2*L8 -> 0.17032298 | R8: =$R$2*L8 -> 59.442719 | S8: =R8/E8^2 -> 10 | U8: =C8-(J8+P8+R8) -> 10159.842 | V8: =SQRT(R8+P8+E8^2) -> 8.0967471 | W8: =20*LOG(U8/V8)/6 -> 10.328588 | Y8: =V8/SQRT(O8) -> 2.0832638 | AA8: =LOG(SQRT(O8)*(U8/V8))/LOG(2) -> 12.251745 | AC8: =(O8*$AC$2*L8)/SQRT(O8*(($AC$2*L8)+R8+P8+E8^2)) -> 8.3775878
A9: =A8+10 -> 40 | B9: =0.00000000022587*A9^4 - 0.00000030867*A9^3 + 0.00015765*A9^2 - 0.036866*A9 + 3.5176 -> 2.2760233 | C9: =14622.62278*EXP(-0.01153*A9) -> 9219.952 | D9: =0.000000057532*A9^3 - 0.000047103*A9^2 - 0.004011*A9 + 12.061 -> 11.828877 | E9: =-0.000000000083384*A9^4 + 0.000000031085*A9^3 + 0.00001783*A9^2 - 0.0097177*A9 + 2.7128 -> 2.354396 | G9: 10 | I9: =5*G9 -> 50 | J9: =I9*B9 -> 113.80117 | L9: ='Gain-Sub-Exp'!$D$19*E9^2/$R$2 -> 222.24409 | M9: =L9/60 -> 3.7040682 | O9: =('Gain-Sub-Exp'!O13) -> 16.198406 | P9: =$P$2*L9 -> 0.15883038 | R9: =$R$2*L9 -> 55.431804 | S9: =R9/E9^2 -> 10 | U9: =C9-(J9+P9+R9) -> 9050.5602 | V9: =SQRT(R9+P9+E9^2) -> 7.8188116 | W9: =20*LOG(U9/V9)/6 -> 10.211782 | Y9: =V9/SQRT(O9) -> 1.942695 | AA9: =LOG(SQRT(O9)*(U9/V9))/LOG(2) -> 12.185732 | AC9: =(O9*$AC$2*L9)/SQRT(O9*(($AC$2*L9)+R9+P9+E9^2)) -> 8.3775878
A10: =A9+10 -> 50 | B10: =0.00000000022587*A10^4 - 0.00000030867*A10^3 + 0.00015765*A10^2 - 0.036866*A10 + 3.5176 -> 2.0312529 | C10: =14622.62278*EXP(-0.01153*A10) -> 8215.888 | D10: =0.000000057532*A10^3 - 0.000047103*A10^2 - 0.004011*A10 + 12.061 -> 11.749884 | E10: =-0.000000000083384*A10^4 + 0.000000031085*A10^3 + 0.00001783*A10^2 - 0.0097177*A10 + 2.7128 -> 2.2748545 | G10: 10 | I10: =5*G10 -> 50 | J10: =I10*B10 -> 101.56265 | L10: ='Gain-Sub-Exp'!$D$19*E10^2/$R$2 -> 207.48106 | M10: =L10/60 -> 3.4580176 | O10: =('Gain-Sub-Exp'!O14) -> 17.350982 | P10: =$P$2*L10 -> 0.14827974 | R10: =$R$2*L10 -> 51.749629 | S10: =R10/E10^2 -> 10 | U10: =C10-(J10+P10+R10) -> 8062.4274 | V10: =SQRT(R10+P10+E10^2) -> 7.5546589 | W10: =20*LOG(U10/V10)/6 -> 10.09417 | Y10: =V10/SQRT(O10) -> 1.8136473 | AA10: =LOG(SQRT(O10)*(U10/V10))/LOG(2) -> 12.118105 | AC10: =(O10*$AC$2*L10)/SQRT(O10*(($AC$2*L10)+R10+P10+E10^2)) -> 8.3775878
A11: =A10+10 -> 60 | B11: =0.00000000022587*A11^4 - 0.00000030867*A11^3 + 0.00015765*A11^2 - 0.036866*A11 + 3.5176 -> 1.8094346 | C11: =14622.62278*EXP(-0.01153*A11) -> 7321.1677 | D11: =0.000000057532*A11^3 - 0.000047103*A11^2 - 0.004011*A11 + 12.061 -> 11.663196 | E11: =-0.000000000083384*A11^4 + 0.000000031085*A11^3 + 0.00001783*A11^2 - 0.0097177*A11 + 2.7128 -> 2.1995597 | G11: 10 | I11: =5*G11 -> 50 | J11: =I11*B11 -> 90.471728 | L11: ='Gain-Sub-Exp'!$D$19*E11^2/$R$2 -> 193.97364 | M11: =L11/60 -> 3.232894 | O11: =('Gain-Sub-Exp'!O15) -> 18.559223 | P11: =$P$2*L11 -> 0.13862644 | R11: =$R$2*L11 -> 48.380629 | S11: =R11/E11^2 -> 10 | U11: =C11-(J11+P11+R11) -> 7182.1767 | V11: =SQRT(R11+P11+E11^2) -> 7.3046094 | W11: =20*LOG(U11/V11)/6 -> 9.9755303 | Y11: =V11/SQRT(O11) -> 1.6955754 | AA11: =LOG(SQRT(O11)*(U11/V11))/LOG(2) -> 12.04843 | AC11: =(O11*$AC$2*L11)/SQRT(O11*(($AC$2*L11)+R11+P11+E11^2)) -> 8.3775878
A12: =A11+10 -> 70 | B12: =0.00000000022587*A12^4 - 0.00000030867*A12^3 + 0.00015765*A12^2 - 0.036866*A12 + 3.5176 -> 1.6090143 | C12: =14622.62278*EXP(-0.01153*A12) -> 6523.8835 | D12: =0.000000057532*A12^3 - 0.000047103*A12^2 - 0.004011*A12 + 12.061 -> 11.569159 | E12: =-0.000000000083384*A12^4 + 0.000000031085*A12^3 + 0.00001783*A12^2 - 0.0097177*A12 + 2.7128 -> 2.1285881 | G12: 10 | I12: =5*G12 -> 50 | J12: =I12*B12 -> 80.450716 | L12: ='Gain-Sub-Exp'!$D$19*E12^2/$R$2 -> 181.65798 | M12: =L12/60 -> 3.027633 | O12: =('Gain-Sub-Exp'!O16) -> 19.817462 | P12: =$P$2*L12 -> 0.12982485 | R12: =$R$2*L12 -> 45.308873 | S12: =R12/E12^2 -> 10 | U12: =C12-(J12+P12+R12) -> 6397.9941 | V12: =SQRT(R12+P12+E12^2) -> 7.0689168 | W12: =20*LOG(U12/V12)/6 -> 9.8556365 | Y12: =V12/SQRT(O12) -> 1.5879209 | AA12: =LOG(SQRT(O12)*(U12/V12))/LOG(2) -> 11.976265 | AC12: =(O12*$AC$2*L12)/SQRT(O12*(($AC$2*L12)+R12+P12+E12^2)) -> 8.3775878
A13: =A12+10 -> 80 | B13: =0.00000000022587*A13^4 - 0.00000030867*A13^3 + 0.00015765*A13^2 - 0.036866*A13 + 3.5176 -> 1.4284926 | C13: =14622.62278*EXP(-0.01153*A13) -> 5813.4246 | D13: =0.000000057532*A13^3 - 0.000047103*A13^2 - 0.004011*A13 + 12.061 -> 11.468117 | E13: =-0.000000000083384*A13^4 + 0.000000031085*A13^3 + 0.00001783*A13^2 - 0.0097177*A13 + 2.7128 -> 2.0619961 | G13: 10 | I13: =5*G13 -> 50 | J13: =I13*B13 -> 71.42463 | L13: ='Gain-Sub-Exp'!$D$19*E13^2/$R$2 -> 170.46958 | M13: =L13/60 -> 2.8411597 | O13: =('Gain-Sub-Exp'!O17) -> 21.118137 | P13: =$P$2*L13 -> 0.12182888 | R13: =$R$2*L13 -> 42.51828 | S13: =R13/E13^2 -> 10 | U13: =C13-(J13+P13+R13) -> 5699.3599 | V13: =SQRT(R13+P13+E13^2) -> 6.8477687 | W13: =20*LOG(U13/V13)/6 -> 9.7342567 | Y13: =V13/SQRT(O13) -> 1.4901201 | AA13: =LOG(SQRT(O13)*(U13/V13))/LOG(2) -> 11.901156 | AC13: =(O13*$AC$2*L13)/SQRT(O13*(($AC$2*L13)+R13+P13+E13^2)) -> 8.3775878
A14: =A13+10 -> 90 | B14: =0.00000000022587*A14^4 - 0.00000030867*A14^3 + 0.00015765*A14^2 - 0.036866*A14 + 3.5176 -> 1.2664239 | C14: =14622.62278*EXP(-0.01153*A14) -> 5180.3356 | D14: =0.000000057532*A14^3 - 0.000047103*A14^2 - 0.004011*A14 + 12.061 -> 11.360417 | E14: =-0.000000000083384*A14^4 + 0.000000031085*A14^3 + 0.00001783*A14^2 - 0.0097177*A14 + 2.7128 -> 1.9998201 | G14: 10 | I14: =5*G14 -> 50 | J14: =I14*B14 -> 63.321195 | L14: ='Gain-Sub-Exp'!$D$19*E14^2/$R$2 -> 160.34414 | M14: =L14/60 -> 2.6724023 | O14: =('Gain-Sub-Exp'!O18) -> 22.451709 | P14: =$P$2*L14 -> 0.11459257 | R14: =$R$2*L14 -> 39.992806 | S14: =R14/E14^2 -> 10 | U14: =C14-(J14+P14+R14) -> 5076.907 | V14: =SQRT(R14+P14+E14^2) -> 6.641286 | W14: =20*LOG(U14/V14)/6 -> 9.6111568 | Y14: =V14/SQRT(O14) -> 1.4016109 | AA14: =LOG(SQRT(O14)*(U14/V14))/LOG(2) -> 11.822648 | AC14: =(O14*$AC$2*L14)/SQRT(O14*(($AC$2*L14)+R14+P14+E14^2)) -> 8.3775878
A15: =A14+10 -> 100 | B15: =0.00000000022587*A15^4 - 0.00000030867*A15^3 + 0.00015765*A15^2 - 0.036866*A15 + 3.5176 -> 1.121417 | C15: =14622.62278*EXP(-0.01153*A15) -> 4616.1907 | D15: =0.000000057532*A15^3 - 0.000047103*A15^2 - 0.004011*A15 + 12.061 -> 11.246402 | E15: =-0.000000000083384*A15^4 + 0.000000031085*A15^3 + 0.00001783*A15^2 - 0.0097177*A15 + 2.7128 -> 1.9420766 | G15: 10 | I15: =5*G15 -> 50 | J15: =I15*B15 -> 56.07085 | L15: ='Gain-Sub-Exp'!$D$19*E15^2/$R$2 -> 151.21815 | M15: =L15/60 -> 2.5203025 | O15: =('Gain-Sub-Exp'!O19) -> 23.806666 | P15: =$P$2*L15 -> 0.10807053 | R15: =$R$2*L15 -> 37.716615 | S15: =R15/E15^2 -> 10 | U15: =C15-(J15+P15+R15) -> 4522.2951 | V15: =SQRT(R15+P15+E15^2) -> 6.449523 | W15: =20*LOG(U15/V15)/6 -> 9.4861043 | Y15: =V15/SQRT(O15) -> 1.3218382 | AA15: =LOG(SQRT(O15)*(U15/V15))/LOG(2) -> 11.740294 | AC15: =(O15*$AC$2*L15)/SQRT(O15*(($AC$2*L15)+R15+P15+E15^2)) -> 8.3775878
A16: =A15+10 -> 110 | B16: =0.00000000022587*A16^4 - 0.00000030867*A16^3 + 0.00015765*A16^2 - 0.036866*A16 + 3.5176 -> 0.99213486 | C16: =14622.62278*EXP(-0.01153*A16) -> 4113.4818 | D16: =0.000000057532*A16^3 - 0.000047103*A16^2 - 0.004011*A16 + 12.061 -> 11.126419 | E16: =-0.000000000083384*A16^4 + 0.000000031085*A16^3 + 0.00001783*A16^2 - 0.0097177*A16 + 2.7128 -> 1.8887619 | G16: 10 | I16: =5*G16 -> 50 | J16: =I16*B16 -> 49.606743 | L16: ='Gain-Sub-Exp'!$D$19*E16^2/$R$2 -> 143.0295 | M16: =L16/60 -> 2.3838251 | O16: =('Gain-Sub-Exp'!O20) -> 25.169632 | P16: =$P$2*L16 -> 0.10221838 | R16: =$R$2*L16 -> 35.674215 | S16: =R16/E16^2 -> 10 | U16: =C16-(J16+P16+R16) -> 4028.0987 | V16: =SQRT(R16+P16+E16^2) -> 6.272468 | W16: =20*LOG(U16/V16)/6 -> 9.3588722 | Y16: =V16/SQRT(O16) -> 1.2502591 | AA16: =LOG(SQRT(O16)*(U16/V16))/LOG(2) -> 11.653656 | AC16: =(O16*$AC$2*L16)/SQRT(O16*(($AC$2*L16)+R16+P16+E16^2)) -> 8.3775878
A17: =A16+10 -> 120 | B17: =0.00000000022587*A17^4 - 0.00000030867*A17^3 + 0.00015765*A17^2 - 0.036866*A17 + 3.5176 -> 0.87729464 | C17: =14622.62278*EXP(-0.01153*A17) -> 3665.5186 | D17: =0.000000057532*A17^3 - 0.000047103*A17^2 - 0.004011*A17 + 12.061 -> 11.000812 | E17: =-0.000000000083384*A17^4 + 0.000000031085*A17^3 + 0.00001783*A17^2 - 0.0097177*A17 + 2.7128 -> 1.8398524 | G17: 10 | I17: =5*G17 -> 50 | J17: =I17*B17 -> 43.864732 | L17: ='Gain-Sub-Exp'!$D$19*E17^2/$R$2 -> 135.71791 | M17: =L17/60 -> 2.2619652 | O17: =('Gain-Sub-Exp'!O21) -> 26.525607 | P17: =$P$2*L17 -> 0.09699303 | R17: =$R$2*L17 -> 33.850568 | S17: =R17/E17^2 -> 10 | U17: =C17-(J17+P17+R17) -> 3587.7063 | V17: =SQRT(R17+P17+E17^2) -> 6.1100423 | W17: =20*LOG(U17/V17)/6 -> 9.2292422 | Y17: =V17/SQRT(O17) -> 1.1863465 | AA17: =LOG(SQRT(O17)*(U17/V17))/LOG(2) -> 11.562321 | AC17: =(O17*$AC$2*L17)/SQRT(O17*(($AC$2*L17)+R17+P17+E17^2)) -> 8.3775878
... A45: =A44+10 -> 400 | B45: =0.00000000022587*A45^4 - 0.00000030867*A45^3 + 0.00015765*A45^2 - 0.036866*A45 + 3.5176 -> 0.022592 | C45: =14622.62278*EXP(-0.01153*A45) -> 145.23093 | D45: =0.000000057532*A45^3 - 0.000047103*A45^2 - 0.004011*A45 + 12.061 -> 6.602168 | E45: =-0.000000000083384*A45^4 + 0.000000031085*A45^3 + 0.00001783*A45^2 - 0.0097177*A45 + 2.7128 -> 1.5333296 | G45: 10 | I45: =5*G45 -> 50 | J45: =I45*B45 -> 1.1296 | L45: ='Gain-Sub-Exp'!$D$19*E45^2/$R$2 -> 94.263216 | M45: =L45/60 -> 1.5710536 | O45: =('Gain-Sub-Exp'!O49) -> 38.190931 | P45: =$P$2*L45 -> 0.067366752 | R45: =$R$2*L45 -> 23.510997 | S45: =R45/E45^2 -> 10 | U45: =C45-(J45+P45+R45) -> 120.52297 | V45: =SQRT(R45+P45+E45^2) -> 5.0920981 | W45: =20*LOG(U45/V45)/6 -> 4.5805769 | Y45: =V45/SQRT(O45) -> 0.82397994 | AA45: =LOG(SQRT(O45)*(U45/V45))/LOG(2) -> 7.1924832 | AC45: =(O45*$AC$2*L45)/SQRT(O45*(($AC$2*L45)+R45+P45+E45^2)) -> 8.3775878
A47: Equations
A48: Gain =10*20Log((e/ADU at gain 0)/GADU)
A50: Swamp Factor = Sky Background/RN2
A52: FWCeff = FWC - (Bias+Dark+Sky)
A54: Ntotal = sqrt (Sky + Dark + RN2)
A55: Ntotalint = Ntotal/sqrt(Csubs)
A57: Bits = log(FWCeff/Ntotal) / log(2)
A58: Bitsint = log(sqrt(Csubs)*(FWCeff/Ntotal)) / log(2)
A60: SNR = (Csubs*Obj)/sqrt(Csubs*(Obj+Sky+Dark+RN2))

Sheet ANDY-data
B2: Jan-24-2021 | O2: Nov25-2020

Sheet FWC
A1: Gain | B1: e/ADU | C1: RN | D1: FWC | E1: DR
A2: 0 | B2: 3.55 | C2: 2.75 | D2: 14550.19 | E2: 12
A3: 50 | B3: 2 | C3: 2.24 | D3: 8182.64 | E3: 11.84
A4: 59 | B4: 1.8 | C4: 2.17 | D4: 7378.95 | E4: 11.73
A5: 61 | B5: 1.76 | C5: 2.16 | D5: 7198.19 | E5: 11.71
A6: 100 | B6: 1.13 | C6: 1.95 | D6: 4610.57 | E6: 11.21
A7: 119 | B7: 0.91 | C7: 1.87 | D7: 3713.13 | E7: 10.95
A8: 121 | B8: 0.88 | C8: 1.85 | D8: 3618.43 | E8: 10.93
A9: 150 | B9: 0.64 | C9: 1.76 | D9: 2602.33 | E9: 10.53
A10: 200 | B10: 0.36 | C10: 1.63 | D10: 1465.01 | E10: 9.81
A11: 250 | B11: 0.2 | C11: 1.52 | D11: 831.97 | E11: 9.09
A12: 300 | B12: 0.11 | C12: 1.53 | D12: 465.39 | E12: 8.25
A13: 350 | B13: 0.06 | C13: 1.56 | D13: 259.36 | E13: 7.38
... A16: 500 | B16: 0.01 | C16: 0.97 | D16: 45.09 | E16: 5.53

Sheet Gain
A1: Gain | B1: e/ADU | C1: RN | D1: FWC | E1: DR
A2: 0 | B2: 3.55 | C2: 2.75 | D2: 14550.19 | E2: 12
A3: 50 | B3: 2 | C3: 2.24 | D3: 8182.64 | E3: 11.84
A4: 59 | B4: 1.8 | C4: 2.17 | D4: 7378.95 | E4: 11.73
A5: 61 | B5: 1.76 | C5: 2.16 | D5: 7198.19 | E5: 11.71
A6: 100 | B6: 1.13 | C6: 1.95 | D6: 4610.57 | E6: 11.21
A7: 119 | B7: 0.91 | C7: 1.87 | D7: 3713.13 | E7: 10.95
A8: 121 | B8: 0.88 | C8: 1.85 | D8: 3618.43 | E8: 10.93
A9: 150 | B9: 0.64 | C9: 1.76 | D9: 2602.33 | E9: 10.53
A10: 200 | B10: 0.36 | C10: 1.63 | D10: 1465.01 | E10: 9.81
A11: 250 | B11: 0.2 | C11: 1.52 | D11: 831.97 | E11: 9.09
A12: 300 | B12: 0.11 | C12: 1.53 | D12: 465.39 | E12: 8.25
A13: 350 | B13: 0.06 | C13: 1.56 | D13: 259.36 | E13: 7.38
... A16: 500 | B16: 0.01 | C16: 0.97 | D16: 45.09 | E16: 5.53

Sheet DR
A1: Gain | B1: e/ADU | C1: RN | D1: FWC | E1: DR
A2: 0 | B2: 3.55 | C2: 2.75 | D2: 14550.19 | E2: 12
A3: 50 | B3: 2 | C3: 2.24 | D3: 8182.64 | E3: 11.84
A4: 59 | B4: 1.8 | C4: 2.17 | D4: 7378.95 | E4: 11.73
A5: 61 | B5: 1.76 | C5: 2.16 | D5: 7198.19 | E5: 11.71
A6: 100 | B6: 1.13 | C6: 1.95 | D6: 4610.57 | E6: 11.21
A7: 119 | B7: 0.91 | C7: 1.87 | D7: 3713.13 | E7: 10.95
A8: 121 | B8: 0.88 | C8: 1.85 | D8: 3618.43 | E8: 10.93
A9: 150 | B9: 0.64 | C9: 1.76 | D9: 2602.33 | E9: 10.53
A10: 200 | B10: 0.36 | C10: 1.63 | D10: 1465.01 | E10: 9.81
A11: 250 | B11: 0.2 | C11: 1.52 | D11: 831.97 | E11: 9.09
A12: 300 | B12: 0.11 | C12: 1.53 | D12: 465.39 | E12: 8.25
A13: 350 | B13: 0.06 | C13: 1.56 | D13: 259.36 | E13: 7.38
... A16: 500 | B16: 0.01 | C16: 0.97 | D16: 45.09 | E16: 5.53

Sheet Read Noise
A1: Gain | B1: e/ADU | C1: RN | D1: FWC | E1: DR
A2: 0 | B2: 3.55 | C2: 2.75 | D2: 14550.19 | E2: 12
A3: 50 | B3: 2 | C3: 2.24 | D3: 8182.64 | E3: 11.84
A4: 59 | B4: 1.8 | C4: 2.17 | D4: 7378.95 | E4: 11.73
A5: 61 | B5: 1.76 | C5: 2.16 | D5: 7198.19 | E5: 11.71
A6: 100 | B6: 1.13 | C6: 1.95 | D6: 4610.57 | E6: 11.21
A7: 119 | B7: 0.91 | C7: 1.87 | D7: 3713.13 | E7: 10.95
A8: 121 | B8: 0.88 | C8: 1.85 | D8: 3618.43 | E8: 10.93
A9: 150 | B9: 0.64 | C9: 1.76 | D9: 2602.33 | E9: 10.53
A10: 200 | B10: 0.36 | C10: 1.63 | D10: 1465.01 | E10: 9.81
A11: 250 | B11: 0.2 | C11: 1.52 | D11: 831.97 | E11: 9.09
A12: 300 | B12: 0.11 | C12: 1.53 | D12: 465.39 | E12: 8.25
A13: 350 | B13: 0.06 | C13: 1.56 | D13: 259.36 | E13: 7.38
... A16: 500 | B16: 0.01 | C16: 0.97 | D16: 45.09 | E16: 5.53

Sheet Offset
