Workbook

Sheet Gain-Sub-Exp
B1: ZWO ASI 294 BIN 2 Gain and Sub-Exposure Calculator
B2: ONLY ENTER DATA IN BLUE (OR GRAY) BOXES. DO NOT ALTER DATA ON OTHER SHEETS | P2: © 2021 S. Bellavia
B3: Note: Once you manually enter the Skybackground, Cell D6, and Dark Current, cell D12, you will lose the link to that calcualtion. To retrieve it change Cell D6 back to "=H34" and cell D12 back to "=K24"
B4: If you know your sky background and dark current, enter it here: | G4: OR take data directly from an image: | M4: Results
B5: Input: | G5: Input Data from an Image | M5: ZWO ASI 294 BIN2 Gain-sub-exposure
C6: Sky Background | D6: =H34 -> 20.799954 | E6: mag/sq-arcsec | G6: 16 bit | P6: Integrated
G7: Skyglow background | H7: 1037 | I7: ADU of an area in the background | M7: Gain | N7: Sub-exp | O7: N | P7: bits | Q7: SNR
C8: Scope Aperture | D8: 0.115 | E8: m | G8: Dark signal | H8: 805 | I8: ADU of a matched dark frame | N8: (minutes)
C9: Scope focal length | D9: 0.805 | E9: m | G9: Bias signal | H9: 800 | I9: ADU of your bias | M9: 0 | N9: =LOOKUP(M9,'ASI294-specs-DR-SNR'!$A$5:$A$45,'ASI294-specs-DR-SNR'!$O$5:$O$45) -> 21.127152 | O9: =$D$21/N9 -> 11.359789 | P9: =LOOKUP(M9,'ASI294-specs-DR-SNR'!$A$5:$A$45,'ASI294-specs-DR-SNR'!$AC$5:$AC$45) -> 13.054593 | Q9: =LOOKUP(M9,'ASI294-specs-DR-SNR'!$A$5:$A$45,'ASI294-specs-DR-SNR'!$AE$5:$AE$45) -> 21.667739
C10: f/# | D10: =D9/D8 -> 7 | G10: Exposure duration (seconds) | H10: 120 | I10: Duration (seconds) for light frame & dark | M10: =M9+10 -> 10 | N10: =LOOKUP(M10,'ASI294-specs-DR-SNR'!$A$5:$A$45,'ASI294-specs-DR-SNR'!$O$5:$O$45) -> 19.933964 | O10: =$D$21/N10 -> 12.039753 | P10: =LOOKUP(M10,'ASI294-specs-DR-SNR'!$A$5:$A$45,'ASI294-specs-DR-SNR'!$AC$5:$AC$45) -> 12.964389 | Q10: =LOOKUP(M10,'ASI294-specs-DR-SNR'!$A$5:$A$45,'ASI294-specs-DR-SNR'!$AE$5:$AE$45) -> 21.667739
C11: pixel size | D11: 4.63 | E11: micron | M11: =M10+10 -> 20 | N11: =LOOKUP(M11,'ASI294-specs-DR-SNR'!$A$5:$A$45,'ASI294-specs-DR-SNR'!$O$5:$O$45) -> 18.86168 | O11: =$D$21/N11 -> 12.724211 | P11: =LOOKUP(M11,'ASI294-specs-DR-SNR'!$A$5:$A$45,'ASI294-specs-DR-SNR'!$AC$5:$AC$45) -> 12.869961 | Q11: =LOOKUP(M11,'ASI294-specs-DR-SNR'!$A$5:$A$45,'ASI294-specs-DR-SNR'!$AE$5:$AE$45) -> 21.667739
C12: Dark Current | D12: =K24 -> 0.0093100763 | E12: e/sec | G12: 14 bit | M12: =M11+10 -> 30 | N12: =LOOKUP(M12,'ASI294-specs-DR-SNR'!$A$5:$A$45,'ASI294-specs-DR-SNR'!$O$5:$O$45) -> 17.903041 | O12: =$D$21/N12 -> 13.405544 | P12: =LOOKUP(M12,'ASI294-specs-DR-SNR'!$A$5:$A$45,'ASI294-specs-DR-SNR'!$AC$5:$AC$45) -> 12.770873 | Q12: =LOOKUP(M12,'ASI294-specs-DR-SNR'!$A$5:$A$45,'ASI294-specs-DR-SNR'!$AE$5:$AE$45) -> 21.667739
B13: Filter: | G13: Skyglow background | H13: =H7*(2^14/2^16) -> 259.25 | I13: ADU of an area in the background | M13: =M12+10 -> 40 | N13: =LOOKUP(M13,'ASI294-specs-DR-SNR'!$A$5:$A$45,'ASI294-specs-DR-SNR'!$O$5:$O$45) -> 17.051381 | O13: =$D$21/N13 -> 14.075107 | P13: =LOOKUP(M13,'ASI294-specs-DR-SNR'!$A$5:$A$45,'ASI294-specs-DR-SNR'!$AC$5:$AC$45) -> 12.666687 | Q13: =LOOKUP(M13,'ASI294-specs-DR-SNR'!$A$5:$A$45,'ASI294-specs-DR-SNR'!$AE$5:$AE$45) -> 21.667739
B14: Green | C14: filter wavelength | D14: =LOOKUP(B14,Filters!A2:C23,Filters!B2:B23) -> 550 | E14: nanometers | G14: Dark signal | H14: =H8*(2^14/2^16) -> 201.25 | I14: ADU of a matched dark frame | M14: =M13+10 -> 50 | N14: =LOOKUP(M14,'ASI294-specs-DR-SNR'!$A$5:$A$45,'ASI294-specs-DR-SNR'!$O$5:$O$45) -> 16.300624 | O14: =$D$21/N14 -> 14.723362 | P14: =LOOKUP(M14,'ASI294-specs-DR-SNR'!$A$5:$A$45,'ASI294-specs-DR-SNR'!$AC$5:$AC$45) -> 12.556963 | Q14: =LOOKUP(M14,'ASI294-specs-DR-SNR'!$A$5:$A$45,'ASI294-specs-DR-SNR'!$AE$5:$AE$45) -> 21.667739
C15: filter bandwidth | D15: =LOOKUP(B14,Filters!A2:C23,Filters!C2:C23) -> 100 | E15: nanometers | G15: Bias signal | H15: =H9*(2^14/2^16) -> 200 | I15: ADU of your bias | M15: =M14+10 -> 60 | N15: =LOOKUP(M15,'ASI294-specs-DR-SNR'!$A$5:$A$45,'ASI294-specs-DR-SNR'!$O$5:$O$45) -> 15.645291 | O15: =$D$21/N15 -> 15.340079 | P15: =LOOKUP(M15,'ASI294-specs-DR-SNR'!$A$5:$A$45,'ASI294-specs-DR-SNR'!$AC$5:$AC$45) -> 12.441264 | Q15: =LOOKUP(M15,'ASI294-specs-DR-SNR'!$A$5:$A$45,'ASI294-specs-DR-SNR'!$AE$5:$AE$45) -> 21.667739
M16: =M15+10 -> 70 | N16: =LOOKUP(M16,'ASI294-specs-DR-SNR'!$A$5:$A$45,'ASI294-specs-DR-SNR'!$O$5:$O$45) -> 15.08049 | O16: =$D$21/N16 -> 15.914602 | P16: =LOOKUP(M16,'ASI294-specs-DR-SNR'!$A$5:$A$45,'ASI294-specs-DR-SNR'!$AC$5:$AC$45) -> 12.319167 | Q16: =LOOKUP(M16,'ASI294-specs-DR-SNR'!$A$5:$A$45,'ASI294-specs-DR-SNR'!$AE$5:$AE$45) -> 21.667739
C17: Transmission efficiency | D17: 0.6 | E17: (QE, etc) | G17: Enter Camera Gain | M17: =M16+10 -> 80 | N17: =LOOKUP(M17,'ASI294-specs-DR-SNR'!$A$5:$A$45,'ASI294-specs-DR-SNR'!$O$5:$O$45) -> 14.601927 | O17: =$D$21/N17 -> 16.436187 | P17: =LOOKUP(M17,'ASI294-specs-DR-SNR'!$A$5:$A$45,'ASI294-specs-DR-SNR'!$AC$5:$AC$45) -> 12.190263 | Q17: =LOOKUP(M17,'ASI294-specs-DR-SNR'!$A$5:$A$45,'ASI294-specs-DR-SNR'!$AE$5:$AE$45) -> 21.667739
G18: Gain | H18: 120 | M18: =M17+10 -> 90 | N18: =LOOKUP(M18,'ASI294-specs-DR-SNR'!$A$5:$A$45,'ASI294-specs-DR-SNR'!$O$5:$O$45) -> 14.205897 | O18: =$D$21/N18 -> 16.894392 | P18: =LOOKUP(M18,'ASI294-specs-DR-SNR'!$A$5:$A$45,'ASI294-specs-DR-SNR'!$AC$5:$AC$45) -> 12.054168 | Q18: =LOOKUP(M18,'ASI294-specs-DR-SNR'!$A$5:$A$45,'ASI294-specs-DR-SNR'!$AE$5:$AE$45) -> 21.667739
C19: Desired Swamp Factor | D19: 10 | E19: (skyflux / RN2) | M19: =M18+10 -> 100 | N19: =LOOKUP(M19,'ASI294-specs-DR-SNR'!$A$5:$A$45,'ASI294-specs-DR-SNR'!$O$5:$O$45) -> 13.889289 | O19: =$D$21/N19 -> 17.279502 | P19: =LOOKUP(M19,'ASI294-specs-DR-SNR'!$A$5:$A$45,'ASI294-specs-DR-SNR'!$AC$5:$AC$45) -> 11.910526 | Q19: =LOOKUP(M19,'ASI294-specs-DR-SNR'!$A$5:$A$45,'ASI294-specs-DR-SNR'!$AE$5:$AE$45) -> 21.667739
G20: Gain | H20: =LOOKUP(H18,'ASI294-specs-DR-SNR'!A5:A45,'ASI294-specs-DR-SNR'!B5:B45) -> 0.89376733 | I20: e-/ADU | M20: =M19+10 -> 110 | N20: =LOOKUP(M20,'ASI294-specs-DR-SNR'!$A$5:$A$45,'ASI294-specs-DR-SNR'!$O$5:$O$45) -> 13.649585 | O20: =$D$21/N20 -> 17.582952 | P20: =LOOKUP(M20,'ASI294-specs-DR-SNR'!$A$5:$A$45,'ASI294-specs-DR-SNR'!$AC$5:$AC$45) -> 11.75901 | Q20: =LOOKUP(M20,'ASI294-specs-DR-SNR'!$A$5:$A$45,'ASI294-specs-DR-SNR'!$AE$5:$AE$45) -> 21.667739
C21: Total Integration Time | D21: 240 | E21: minutes | G21: Read noise | H21: =LOOKUP(H18,'ASI294-specs-DR-SNR'!A5:A45,'ASI294-specs-DR-SNR'!E5:E45) -> 1.7339922 | I21: in electrons | M21: =M20+10 -> 120 | N21: =LOOKUP(M21,'ASI294-specs-DR-SNR'!$A$5:$A$45,'ASI294-specs-DR-SNR'!$O$5:$O$45) -> 1.1600369 | O21: =$D$21/N21 -> 206.88998 | P21: =LOOKUP(M21,'ASI294-specs-DR-SNR'!$A$5:$A$45,'ASI294-specs-DR-SNR'!$AC$5:$AC$45) -> 15.173592 | Q21: =LOOKUP(M21,'ASI294-specs-DR-SNR'!$A$5:$A$45,'ASI294-specs-DR-SNR'!$AE$5:$AE$45) -> 21.667739
M22: =M21+10 -> 130 | N22: =LOOKUP(M22,'ASI294-specs-DR-SNR'!$A$5:$A$45,'ASI294-specs-DR-SNR'!$O$5:$O$45) -> 1.1123002 | O22: =$D$21/N22 -> 215.76908 | P22: =LOOKUP(M22,'ASI294-specs-DR-SNR'!$A$5:$A$45,'ASI294-specs-DR-SNR'!$AC$5:$AC$45) -> 15.060657 | Q22: =LOOKUP(M22,'ASI294-specs-DR-SNR'!$A$5:$A$45,'ASI294-specs-DR-SNR'!$AE$5:$AE$45) -> 21.667739
B23: Output: | G23: Output: | H23: ADU | I23: electrons | J23: ADU/sec | K23: e/sec | M23: =M22+10 -> 140 | N23: =LOOKUP(M23,'ASI294-specs-DR-SNR'!$A$5:$A$45,'ASI294-specs-DR-SNR'!$O$5:$O$45) -> 1.0676864 | O23: =$D$21/N23 -> 224.7851 | P23: =LOOKUP(M23,'ASI294-specs-DR-SNR'!$A$5:$A$45,'ASI294-specs-DR-SNR'!$AC$5:$AC$45) -> 14.946113 | Q23: =LOOKUP(M23,'ASI294-specs-DR-SNR'!$A$5:$A$45,'ASI294-specs-DR-SNR'!$AE$5:$AE$45) -> 21.667739
C24: sampling | D24: =(D11/D9)*0.0036*180/PI() -> 1.1863429 | E24: arc-sec/pixel | G24: Dark signal | H24: =H14-H15 -> 1.25 | I24: =H24*H20 -> 1.1172092 | J24: =H24/H10 -> 0.010416667 | K24: =I24/H10 -> 0.0093100763 | M24: =M23+10 -> 150 | N24: =LOOKUP(M24,'ASI294-specs-DR-SNR'!$A$5:$A$45,'ASI294-specs-DR-SNR'!$O$5:$O$45) -> 1.0260639 | O24: =$D$21/N24 -> 233.90356 | P24: =LOOKUP(M24,'ASI294-specs-DR-SNR'!$A$5:$A$45,'ASI294-specs-DR-SNR'!$AC$5:$AC$45) -> 14.82983 | Q24: =LOOKUP(M24,'ASI294-specs-DR-SNR'!$A$5:$A$45,'ASI294-specs-DR-SNR'!$AE$5:$AE$45) -> 21.667739
G25: Skyglow signal | H25: =H13-H14 -> 58 | I25: =H25*H20 -> 51.838505 | J25: =H25/H10 -> 0.48333333 | K25: =I25/H10 -> 0.43198754 | M25: =M24+10 -> 160 | N25: =LOOKUP(M25,'ASI294-specs-DR-SNR'!$A$5:$A$45,'ASI294-specs-DR-SNR'!$O$5:$O$45) -> 0.98730732 | O25: =$D$21/N25 -> 243.0854 | P25: =LOOKUP(M25,'ASI294-specs-DR-SNR'!$A$5:$A$45,'ASI294-specs-DR-SNR'!$AC$5:$AC$45) -> 14.711671 | Q25: =LOOKUP(M25,'ASI294-specs-DR-SNR'!$A$5:$A$45,'ASI294-specs-DR-SNR'!$AE$5:$AE$45) -> 21.667739
C26: actual skyflux | D26: =(-0.00000045063*D14^2 + 0.000090632*D14 + 0.62647)*10^(-0.4*(D6-20.7)) -> 0.49250872 | E26: (phs/s/nm/arcsec2/m2) | M26: =M25+10 -> 170 | N26: =LOOKUP(M26,'ASI294-specs-DR-SNR'!$A$5:$A$45,'ASI294-specs-DR-SNR'!$O$5:$O$45) -> 0.9512978 | O26: =$D$21/N26 -> 252.28693 | P26: =LOOKUP(M26,'ASI294-specs-DR-SNR'!$A$5:$A$45,'ASI294-specs-DR-SNR'!$AC$5:$AC$45) -> 14.591498 | Q26: =LOOKUP(M26,'ASI294-specs-DR-SNR'!$A$5:$A$45,'ASI294-specs-DR-SNR'!$AE$5:$AE$45) -> 21.667739
C27: measured background | D27: =D17*D26*D15*D24^2*(PI()*D8^2/4) -> 0.43198754 | E27: (e/sec) / pixel | G27: Measured Sky Background | H27: =K25 -> 0.43198754 | I27: (e/sec) / pixel | M27: =M26+10 -> 180 | N27: =LOOKUP(M27,'ASI294-specs-DR-SNR'!$A$5:$A$45,'ASI294-specs-DR-SNR'!$O$5:$O$45) -> 0.91792271 | O27: =$D$21/N27 -> 261.45992 | P27: =LOOKUP(M27,'ASI294-specs-DR-SNR'!$A$5:$A$45,'ASI294-specs-DR-SNR'!$AC$5:$AC$45) -> 14.469168 | Q27: =LOOKUP(M27,'ASI294-specs-DR-SNR'!$A$5:$A$45,'ASI294-specs-DR-SNR'!$AE$5:$AE$45) -> 21.667739
C28: actual background | D28: =D27/D17 -> 0.71997924 | E28: (e/sec) / pixel | M28: =M27+10 -> 190 | N28: =LOOKUP(M28,'ASI294-specs-DR-SNR'!$A$5:$A$45,'ASI294-specs-DR-SNR'!$O$5:$O$45) -> 0.88707575 | O28: =$D$21/N28 -> 270.55187 | P28: =LOOKUP(M28,'ASI294-specs-DR-SNR'!$A$5:$A$45,'ASI294-specs-DR-SNR'!$AC$5:$AC$45) -> 14.344537 | Q28: =LOOKUP(M28,'ASI294-specs-DR-SNR'!$A$5:$A$45,'ASI294-specs-DR-SNR'!$AE$5:$AE$45) -> 21.667739
G29: Your sky photon flux | H29: =H27/(D17*D15*D24^2*(PI()*D8^2/4)) -> 0.49250872 | I29: (photons/sec/nm/arcsec2/m2) | M29: =M28+10 -> 200 | N29: =LOOKUP(M29,'ASI294-specs-DR-SNR'!$A$5:$A$45,'ASI294-specs-DR-SNR'!$O$5:$O$45) -> 0.85865696 | O29: =$D$21/N29 -> 279.50627 | P29: =LOOKUP(M29,'ASI294-specs-DR-SNR'!$A$5:$A$45,'ASI294-specs-DR-SNR'!$AC$5:$AC$45) -> 14.217461 | Q29: =LOOKUP(M29,'ASI294-specs-DR-SNR'!$A$5:$A$45,'ASI294-specs-DR-SNR'!$AE$5:$AE$45) -> 21.667739
C30: object signal | D30: 22 | E30: mag/arcsec2 | H30: =H27/D17 -> 0.71997924 | I30: (e/sec) / pixel | M30: =M29+10 -> 210 | N30: =LOOKUP(M30,'ASI294-specs-DR-SNR'!$A$5:$A$45,'ASI294-specs-DR-SNR'!$O$5:$O$45) -> 0.83257266 | O30: =$D$21/N30 -> 288.26313 | P30: =LOOKUP(M30,'ASI294-specs-DR-SNR'!$A$5:$A$45,'ASI294-specs-DR-SNR'!$AC$5:$AC$45) -> 14.087795 | Q30: =LOOKUP(M30,'ASI294-specs-DR-SNR'!$A$5:$A$45,'ASI294-specs-DR-SNR'!$AE$5:$AE$45) -> 21.667739
D31: =(-0.000001*D14^2 + 0.00064*D14+ 0.4905)*10^(-0.4*((D30)-20.7)) -> 0.16307739 | E31: (phs/s/nm/arcsec2/m2) | M31: =M30+10 -> 220 | N31: =LOOKUP(M31,'ASI294-specs-DR-SNR'!$A$5:$A$45,'ASI294-specs-DR-SNR'!$O$5:$O$45) -> 0.80873554 | O31: =$D$21/N31 -> 296.75956 | P31: =LOOKUP(M31,'ASI294-specs-DR-SNR'!$A$5:$A$45,'ASI294-specs-DR-SNR'!$AC$5:$AC$45) -> 13.955395 | Q31: =LOOKUP(M31,'ASI294-specs-DR-SNR'!$A$5:$A$45,'ASI294-specs-DR-SNR'!$AE$5:$AE$45) -> 21.667739
D32: =D17*D31*D15*D24^2*(PI()*D8^2/4) -> 0.14303788 | E32: (e/sec) / pixel | G32: Photon flux for 20.7 sky | H32: =(-0.00000045063*D14^2 + 0.000090632*D14 + 0.62647)*10^(-0.4*(20.7-20.7)) -> 0.54000202 | I32: (photons/sec/nm/arcsec2/m2) | M32: =M31+10 -> 230 | N32: =LOOKUP(M32,'ASI294-specs-DR-SNR'!$A$5:$A$45,'ASI294-specs-DR-SNR'!$O$5:$O$45) -> 0.78706456 | O32: =$D$21/N32 -> 304.93051 | P32: =LOOKUP(M32,'ASI294-specs-DR-SNR'!$A$5:$A$45,'ASI294-specs-DR-SNR'!$AC$5:$AC$45) -> 13.820119 | Q32: =LOOKUP(M32,'ASI294-specs-DR-SNR'!$A$5:$A$45,'ASI294-specs-DR-SNR'!$AE$5:$AE$45) -> 21.667739
M33: =M32+10 -> 240 | N33: =LOOKUP(M33,'ASI294-specs-DR-SNR'!$A$5:$A$45,'ASI294-specs-DR-SNR'!$O$5:$O$45) -> 0.76748502 | O33: =$D$21/N33 -> 312.70968 | P33: =LOOKUP(M33,'ASI294-specs-DR-SNR'!$A$5:$A$45,'ASI294-specs-DR-SNR'!$AC$5:$AC$45) -> 13.681828 | Q33: =LOOKUP(M33,'ASI294-specs-DR-SNR'!$A$5:$A$45,'ASI294-specs-DR-SNR'!$AE$5:$AE$45) -> 21.667739
B34: Enter Gain for DR and SNR vs. Total Integration: | E34: 120 | G34: Your sky | H34: =20.7-(2.5*LOG(H29/H32)) -> 20.799954 | I34: mag/sq-arcsec | M34: =M33+10 -> 250 | N34: =LOOKUP(M34,'ASI294-specs-DR-SNR'!$A$5:$A$45,'ASI294-specs-DR-SNR'!$O$5:$O$45) -> 0.74992857 | O34: =$D$21/N34 -> 320.03048 | P34: =LOOKUP(M34,'ASI294-specs-DR-SNR'!$A$5:$A$45,'ASI294-specs-DR-SNR'!$AC$5:$AC$45) -> 13.54039 | Q34: =LOOKUP(M34,'ASI294-specs-DR-SNR'!$A$5:$A$45,'ASI294-specs-DR-SNR'!$AE$5:$AE$45) -> 21.667739
M35: =M34+10 -> 260 | N35: =LOOKUP(M35,'ASI294-specs-DR-SNR'!$A$5:$A$45,'ASI294-specs-DR-SNR'!$O$5:$O$45) -> 0.73433312 | O35: =$D$21/N35 -> 326.82715 | P35: =LOOKUP(M35,'ASI294-specs-DR-SNR'!$A$5:$A$45,'ASI294-specs-DR-SNR'!$AC$5:$AC$45) -> 13.395677 | Q35: =LOOKUP(M35,'ASI294-specs-DR-SNR'!$A$5:$A$45,'ASI294-specs-DR-SNR'!$AE$5:$AE$45) -> 21.667739
C36: Total Integration Time | D36: DR (bits) | E36: SNR | M36: =M35+10 -> 270 | N36: =LOOKUP(M36,'ASI294-specs-DR-SNR'!$A$5:$A$45,'ASI294-specs-DR-SNR'!$O$5:$O$45) -> 0.72064295 | O36: =$D$21/N36 -> 333.03594 | P36: =LOOKUP(M36,'ASI294-specs-DR-SNR'!$A$5:$A$45,'ASI294-specs-DR-SNR'!$AC$5:$AC$45) -> 13.247567 | Q36: =LOOKUP(M36,'ASI294-specs-DR-SNR'!$A$5:$A$45,'ASI294-specs-DR-SNR'!$AE$5:$AE$45) -> 21.667739
C37: =D21*0.25 -> 60 | D37: =LOOKUP($E$34,$M$9:$M$49,$P$9:$P$49)+(LOG(SQRT((C37/$D$21)*LOOKUP($E$34,$M$9:$M$49,$O$9:$O$49)))/LOG(2)-LOG(SQRT((LOOKUP($E$34,$M$9:$M$49,$O$9:$O$49))))/LOG(2)) -> 14.173592 | E37: =SQRT(C37/$D$21)*LOOKUP($E$34,$M$9:$M$49,$Q$9:$Q$49) -> 10.833869 | M37: =M36+10 -> 280 | N37: =LOOKUP(M37,'ASI294-specs-DR-SNR'!$A$5:$A$45,'ASI294-specs-DR-SNR'!$O$5:$O$45) -> 0.70880863 | O37: =$D$21/N37 -> 338.59633 | P37: =LOOKUP(M37,'ASI294-specs-DR-SNR'!$A$5:$A$45,'ASI294-specs-DR-SNR'!$AC$5:$AC$45) -> 13.095945 | Q37: =LOOKUP(M37,'ASI294-specs-DR-SNR'!$A$5:$A$45,'ASI294-specs-DR-SNR'!$AE$5:$AE$45) -> 21.667739
C38: =D21*0.5 -> 120 | D38: =LOOKUP($E$34,$M$9:$M$49,$P$9:$P$49)+(LOG(SQRT((C38/$D$21)*LOOKUP($E$34,$M$9:$M$49,$O$9:$O$49)))/LOG(2)-LOG(SQRT((LOOKUP($E$34,$M$9:$M$49,$O$9:$O$49))))/LOG(2)) -> 14.673592 | E38: =SQRT(C38/$D$21)*LOOKUP($E$34,$M$9:$M$49,$Q$9:$Q$49) -> 15.321405 | M38: =M37+10 -> 290 | N38: =LOOKUP(M38,'ASI294-specs-DR-SNR'!$A$5:$A$45,'ASI294-specs-DR-SNR'!$O$5:$O$45) -> 0.69878707 | O38: =$D$21/N38 -> 343.45226 | P38: =LOOKUP(M38,'ASI294-specs-DR-SNR'!$A$5:$A$45,'ASI294-specs-DR-SNR'!$AC$5:$AC$45) -> 12.940704 | Q38: =LOOKUP(M38,'ASI294-specs-DR-SNR'!$A$5:$A$45,'ASI294-specs-DR-SNR'!$AE$5:$AE$45) -> 21.667739
C39: =D21*0.75 -> 180 | D39: =LOOKUP($E$34,$M$9:$M$49,$P$9:$P$49)+(LOG(SQRT((C39/$D$21)*LOOKUP($E$34,$M$9:$M$49,$O$9:$O$49)))/LOG(2)-LOG(SQRT((LOOKUP($E$34,$M$9:$M$49,$O$9:$O$49))))/LOG(2)) -> 14.966073 | E39: =SQRT(C39/$D$21)*LOOKUP($E$34,$M$9:$M$49,$Q$9:$Q$49) -> 18.764812 | M39: =M38+10 -> 300 | N39: =LOOKUP(M39,'ASI294-specs-DR-SNR'!$A$5:$A$45,'ASI294-specs-DR-SNR'!$O$5:$O$45) -> 0.69054149 | O39: =$D$21/N39 -> 347.55334 | P39: =LOOKUP(M39,'ASI294-specs-DR-SNR'!$A$5:$A$45,'ASI294-specs-DR-SNR'!$AC$5:$AC$45) -> 12.781735 | Q39: =LOOKUP(M39,'ASI294-specs-DR-SNR'!$A$5:$A$45,'ASI294-specs-DR-SNR'!$AE$5:$AE$45) -> 21.667739
C40: =D21*1 -> 240 | D40: =LOOKUP($E$34,$M$9:$M$49,$P$9:$P$49)+(LOG(SQRT((C40/$D$21)*LOOKUP($E$34,$M$9:$M$49,$O$9:$O$49)))/LOG(2)-LOG(SQRT((LOOKUP($E$34,$M$9:$M$49,$O$9:$O$49))))/LOG(2)) -> 15.173592 | E40: =SQRT(C40/$D$21)*LOOKUP($E$34,$M$9:$M$49,$Q$9:$Q$49) -> 21.667739 | M40: =M39+10 -> 310 | N40: =LOOKUP(M40,'ASI294-specs-DR-SNR'!$A$5:$A$45,'ASI294-specs-DR-SNR'!$O$5:$O$45) -> 0.68404142 | O40: =$D$21/N40 -> 350.85595 | P40: =LOOKUP(M40,'ASI294-specs-DR-SNR'!$A$5:$A$45,'ASI294-specs-DR-SNR'!$AC$5:$AC$45) -> 12.618928 | Q40: =LOOKUP(M40,'ASI294-specs-DR-SNR'!$A$5:$A$45,'ASI294-specs-DR-SNR'!$AE$5:$AE$45) -> 21.667739
...

Sheet Filters
A1: Filter | B1: Wavelength | C1: Bandpass
A2: Blue | B2: 450 | C2: 100
A3: Green | B3: 550 | C3: 100
A4: Ha 12 nm | B4: 656 | C4: 12
A5: Ha 3 nm | B5: 656 | C5: 3
A6: Ha 6 nm | B6: 656 | C6: 6
A7: Ha 7 nm | B7: 656 | C7: 7
A8: IDAS Duo | B8: 578.5 | C8: 20
A9: IDAS LPS D1 | B9: 526 | C9: 53
A10: L-Extreme | B10: =((7*500.6) + (7*656.3))/14 -> 578.45 | C10: 14
A11: Lum | B11: 550 | C11: 300
A12: OIII 12 nm | B12: 500 | C12: 12
A13: OIII 3 nm | B13: 500 | C13: 3
A14: OIII 6 nm | B14: 500 | C14: 6
A15: OIII 7 nm | B15: 500 | C15: 7
A16: Optolong L-Enhance | B16: 552 | C16: 30
A17: Red | B17: 650 | C17: 100
A18: SII 12 nm | B18: 672 | C18: 12
A19: SII 3 nm | B19: 672 | C19: 3
A20: SII 6 nm | B20: 672 | C20: 6
A21: SII 7 nm | B21: 672 | C21: 7
A22: Triad | B22: 547.8 | C22: 13
A23: ZWO Duo | B23: 552 | C23: 30

Sheet Skyflux
A1: Sky flux
A2: © 2018 S. Bellavia
B4: for a 50%-tile 'dark sky' (20.7 in V-band):
B8: wavelength (nm) | C8: skyflux (photons/sec/nm/arcsec^2/m^2)
E9: lambda | F9: flux
B10: 450 | C10: 0.576 | E10: 450 | F10: 0.576
B11: 500 (OIII) | C11: 0.549 | E11: 550 | F11: 0.54
B12: 550 | C12: 0.54 | E12: 656 | F12: 0.492
B13: 650 | C13: 0.484
B14: 656 (Ha) | C14: 0.492
A16: Enter the skyflux from the table above, based on filter selection (use 550nm for broadband) | B16: 0.54 | C16: photons/sec/nm/arcsec^2/m^2
A18: Enter your sky background in Mag/sq-arcsec | B18: ='Gain-Sub-Exp'!D6 -> 20.799954
A20: re-calcualted skyflux for your sky | B20: ='Gain-Sub-Exp'!D26 -> 0.49250872
B22: wavelength spread | C22: ='Gain-Sub-Exp'!D15 -> 100 | D22: nm
B23: sampling | C23: ='Gain-Sub-Exp'!D24 -> 1.1863429 | D23: arc-sec/pixel
B24: scope aperture | C24: ='Gain-Sub-Exp'!D8 -> 0.115 | D24: m
B25: T | C25: ='Gain-Sub-Exp'!D17 -> 0.6 | D25: optical and electronic efficiency
B27: Sky Flux | C27: =C25*B20*C22*C23^2*(PI()*C24^2/4) -> 0.43198754 | D27: e/sec per pixel
A29: Equations:
A30: m1 = mref-2.5log(I1/Iref)
A31: (e/sec)/pixel = T*Photon flux*bandwidth*sampling^2*(PI()*aperture^2/4)
A32: Photon flux = (e/sec)/pixel/[T*bandwidth*sampling^2*(PI()*aperure^2/4)]

Sheet ASI294-specs-DR-SNR
A1: © 2019 S. Bellavia | R1: Dark Noise (e-/sec) | T1: Sky fog (e-/sec) | AE1: Obj Signal (e-/sec)
A2: Camera Specification/Controls | R2: ='Gain-Sub-Exp'!D12 -> 0.0093100763 | T2: ='Gain-Sub-Exp'!D27 -> 0.43198754 | AE2: ='Gain-Sub-Exp'!D32 -> 0.14303788
A4: ZWO Gain | B4: GADU (e/ADU) | C4: FWC | D4: DR | E4: Read noise | G4: DR calc | I4: ZWO Bias | K4: Bias (14 bit ADU's) | L4: Bias (e-'s) | N4: exposure (sec) | O4: exposure (min) | Q4: # subs | R4: Single Sub Dark noise | T4: Single Sub Sky Background | U4: Single sub Swamp factor | W4: FWCeff | X4: Ntotal | Y4: Bits | AA4: Ntotalint | AC4: Int Bits | AE4: Int SNR
A5: 0 | B5: =0.00000000039655*A5^4 - 0.00000046426*A5^3 + 0.00020865*A5^2 - 0.043964*A5 + 3.8849 -> 3.8849 | C5: =1000*63.253*EXP(-0.012*A5) -> 63253 | D5: =-0.0135*A5+ 13.092 -> 13.092 | E5: =0.00008*A5^2 - 0.022*A5 + 7.4 -> 7.4 | G5: =LOG(C5/E5)/LOG(2) -> 13.061321 | I5: =0.0004*A5^2+0.02*A5+7 -> 7 | K5: =5*I5 -> 35 | L5: =K5*B5 -> 135.9715 | N5: ='Gain-Sub-Exp'!$D$19*E5^2/$T$2 -> 1267.6291 | O5: =N5/60 -> 21.127152 | Q5: =('Gain-Sub-Exp'!O9) -> 11.359789 | R5: =$R$2*N5 -> 11.801724 | T5: =$T$2*N5 -> 547.6 | U5: =T5/E5^2 -> 10 | W5: =C5-(L5+R5+T5) -> 62557.627 | X5: =SQRT(T5+R5+E5^2) -> 24.782286 | Y5: =20*LOG(W5/X5)/6 -> 11.340463 | AA5: =X5/SQRT(Q5) -> 7.352859 | AC5: =LOG(SQRT(Q5)*(W5/X5))/LOG(2) -> 13.054593 | AE5: =(Q5*$AE$2*N5)/SQRT(Q5*(($AE$2*N5)+T5+R5+E5^2)) -> 21.667739
A6: =A5+10 -> 10 | B6: =0.00000000039655*A6^4 - 0.00000046426*A6^3 + 0.00020865*A6^2 - 0.043964*A6 + 3.8849 -> 3.4656647 | C6: =1000*63.253*EXP(-0.012*A6) -> 56100.378 | D6: =-0.0135*A6+ 13.092 -> 12.957 | E6: =0.00008*A6^2 - 0.022*A6 + 7.4 -> 7.188 | G6: =LOG(C6/E6)/LOG(2) -> 12.930132 | I6: =0.0004*A6^2+0.02*A6+7 -> 7.24 | K6: =5*I6 -> 36.2 | L6: =K6*B6 -> 125.45706 | N6: ='Gain-Sub-Exp'!$D$19*E6^2/$T$2 -> 1196.0378 | O6: =N6/60 -> 19.933964 | Q6: =('Gain-Sub-Exp'!O10) -> 12.039753 | R6: =$R$2*N6 -> 11.135203 | T6: =$T$2*N6 -> 516.67344 | U6: =T6/E6^2 -> 10 | W6: =C6-(L6+R6+T6) -> 55447.113 | X6: =SQRT(T6+R6+E6^2) -> 24.072307 | Y6: =20*LOG(W6/X6)/6 -> 11.207871 | AA6: =X6/SQRT(Q6) -> 6.9375948 | AC6: =LOG(SQRT(Q6)*(W6/X6))/LOG(2) -> 12.964389 | AE6: =(Q6*$AE$2*N6)/SQRT(Q6*(($AE$2*N6)+T6+R6+E6^2)) -> 21.667739
A7: =A6+10 -> 20 | B7: =0.00000000039655*A7^4 - 0.00000046426*A7^3 + 0.00020865*A7^2 - 0.043964*A7 + 3.8849 -> 3.0854294 | C7: =1000*63.253*EXP(-0.012*A7) -> 49756.572 | D7: =-0.0135*A7+ 13.092 -> 12.822 | E7: =0.00008*A7^2 - 0.022*A7 + 7.4 -> 6.992 | G7: =LOG(C7/E7)/LOG(2) -> 12.796894 | I7: =0.0004*A7^2+0.02*A7+7 -> 7.56 | K7: =5*I7 -> 37.8 | L7: =K7*B7 -> 116.62923 | N7: ='Gain-Sub-Exp'!$D$19*E7^2/$T$2 -> 1131.7008 | O7: =N7/60 -> 18.86168 | Q7: =('Gain-Sub-Exp'!O11) -> 12.724211 | R7: =$R$2*N7 -> 10.536221 | T7: =$T$2*N7 -> 488.88064 | U7: =T7/E7^2 -> 10 | W7: =C7-(L7+R7+T7) -> 49140.526 | X7: =SQRT(T7+R7+E7^2) -> 23.415912 | Y7: =20*LOG(W7/X7)/6 -> 11.073096 | AA7: =X7/SQRT(Q7) -> 6.5644091 | AC7: =LOG(SQRT(Q7)*(W7/X7))/LOG(2) -> 12.869961 | AE7: =(Q7*$AE$2*N7)/SQRT(Q7*(($AE$2*N7)+T7+R7+E7^2)) -> 21.667739
A8: =A7+10 -> 30 | B8: =0.00000000039655*A8^4 - 0.00000046426*A8^3 + 0.00020865*A8^2 - 0.043964*A8 + 3.8849 -> 2.7415512 | C8: =1000*63.253*EXP(-0.012*A8) -> 44130.121 | D8: =-0.0135*A8+ 13.092 -> 12.687 | E8: =0.00008*A8^2 - 0.022*A8 + 7.4 -> 6.812 | G8: =LOG(C8/E8)/LOG(2) -> 12.661398 | I8: =0.0004*A8^2+0.02*A8+7 -> 7.96 | K8: =5*I8 -> 39.8 | L8: =K8*B8 -> 109.11374 | N8: ='Gain-Sub-Exp'!$D$19*E8^2/$T$2 -> 1074.1825 | O8: =N8/60 -> 17.903041 | Q8: =('Gain-Sub-Exp'!O12) -> 13.405544 | R8: =$R$2*N8 -> 10.000721 | T8: =$T$2*N8 -> 464.03344 | U8: =T8/E8^2 -> 10 | W8: =C8-(L8+R8+T8) -> 43546.973 | X8: =SQRT(T8+R8+E8^2) -> 22.813099 | Y8: =20*LOG(W8/X8)/6 -> 10.935912 | AA8: =X8/SQRT(Q8) -> 6.2307751 | AC8: =LOG(SQRT(Q8)*(W8/X8))/LOG(2) -> 12.770873 | AE8: =(Q8*$AE$2*N8)/SQRT(Q8*(($AE$2*N8)+T8+R8+E8^2)) -> 21.667739
A9: =A8+10 -> 40 | B9: =0.00000000039655*A9^4 - 0.00000046426*A9^3 + 0.00020865*A9^2 - 0.043964*A9 + 3.8849 -> 2.4314825 | C9: =1000*63.253*EXP(-0.012*A9) -> 39139.906 | D9: =-0.0135*A9+ 13.092 -> 12.552 | E9: =0.00008*A9^2 - 0.022*A9 + 7.4 -> 6.648 | G9: =LOG(C9/E9)/LOG(2) -> 12.523432 | I9: =0.0004*A9^2+0.02*A9+7 -> 8.44 | K9: =5*I9 -> 42.2 | L9: =K9*B9 -> 102.60856 | N9: ='Gain-Sub-Exp'!$D$19*E9^2/$T$2 -> 1023.0828 | O9: =N9/60 -> 17.051381 | Q9: =('Gain-Sub-Exp'!O13) -> 14.075107 | R9: =$R$2*N9 -> 9.5249793 | T9: =$T$2*N9 -> 441.95904 | U9: =T9/E9^2 -> 10 | W9: =C9-(L9+R9+T9) -> 38585.813 | X9: =SQRT(T9+R9+E9^2) -> 22.26387 | Y9: =20*LOG(W9/X9)/6 -> 10.79609 | AA9: =X9/SQRT(Q9) -> 5.9343727 | AC9: =LOG(SQRT(Q9)*(W9/X9))/LOG(2) -> 12.666687 | AE9: =(Q9*$AE$2*N9)/SQRT(Q9*(($AE$2*N9)+T9+R9+E9^2)) -> 21.667739
A10: =A9+10 -> 50 | B10: =0.00000000039655*A10^4 - 0.00000046426*A10^3 + 0.00020865*A10^2 - 0.043964*A10 + 3.8849 -> 2.1527709 | C10: =1000*63.253*EXP(-0.012*A10) -> 34713.982 | D10: =-0.0135*A10+ 13.092 -> 12.417 | E10: =0.00008*A10^2 - 0.022*A10 + 7.4 -> 6.5 | G10: =LOG(C10/E10)/LOG(2) -> 12.38279 | I10: =0.0004*A10^2+0.02*A10+7 -> 9 | K10: =5*I10 -> 45 | L10: =K10*B10 -> 96.874692 | N10: ='Gain-Sub-Exp'!$D$19*E10^2/$T$2 -> 978.03746 | O10: =N10/60 -> 16.300624 | Q10: =('Gain-Sub-Exp'!O14) -> 14.723362 | R10: =$R$2*N10 -> 9.1056034 | T10: =$T$2*N10 -> 422.5 | U10: =T10/E10^2 -> 10 | W10: =C10-(L10+R10+T10) -> 34185.502 | X10: =SQRT(T10+R10+E10^2) -> 21.768225 | Y10: =20*LOG(W10/X10)/6 -> 10.653397 | AA10: =X10/SQRT(Q10) -> 5.6730879 | AC10: =LOG(SQRT(Q10)*(W10/X10))/LOG(2) -> 12.556963 | AE10: =(Q10*$AE$2*N10)/SQRT(Q10*(($AE$2*N10)+T10+R10+E10^2)) -> 21.667739
A11: =A10+10 -> 60 | B11: =0.00000000039655*A11^4 - 0.00000046426*A11^3 + 0.00020865*A11^2 - 0.043964*A11 + 3.8849 -> 1.9030591 | C11: =1000*63.253*EXP(-0.012*A11) -> 30788.54 | D11: =-0.0135*A11+ 13.092 -> 12.282 | E11: =0.00008*A11^2 - 0.022*A11 + 7.4 -> 6.368 | G11: =LOG(C11/E11)/LOG(2) -> 12.239266 | I11: =0.0004*A11^2+0.02*A11+7 -> 9.64 | K11: =5*I11 -> 48.2 | L11: =K11*B11 -> 91.72745 | N11: ='Gain-Sub-Exp'!$D$19*E11^2/$T$2 -> 938.71744 | O11: =N11/60 -> 15.645291 | Q11: =('Gain-Sub-Exp'!O15) -> 15.340079 | R11: =$R$2*N11 -> 8.739531 | T11: =$T$2*N11 -> 405.51424 | U11: =T11/E11^2 -> 10 | W11: =C11-(L11+R11+T11) -> 30282.559 | X11: =SQRT(T11+R11+E11^2) -> 21.326162 | Y11: =20*LOG(W11/X11)/6 -> 10.5076 | AA11: =X11/SQRT(Q11) -> 5.4450128 | AC11: =LOG(SQRT(Q11)*(W11/X11))/LOG(2) -> 12.441264 | AE11: =(Q11*$AE$2*N11)/SQRT(Q11*(($AE$2*N11)+T11+R11+E11^2)) -> 21.667739
A12: =A11+10 -> 70 | B12: =0.00000000039655*A12^4 - 0.00000046426*A12^3 + 0.00020865*A12^2 - 0.043964*A12 + 3.8849 -> 1.680085 | C12: =1000*63.253*EXP(-0.012*A12) -> 27306.986 | D12: =-0.0135*A12+ 13.092 -> 12.147 | E12: =0.00008*A12^2 - 0.022*A12 + 7.4 -> 6.252 | G12: =LOG(C12/E12)/LOG(2) -> 12.092665 | I12: =0.0004*A12^2+0.02*A12+7 -> 10.36 | K12: =5*I12 -> 51.8 | L12: =K12*B12 -> 87.028402 | N12: ='Gain-Sub-Exp'!$D$19*E12^2/$T$2 -> 904.82943 | O12: =N12/60 -> 15.08049 | Q12: =('Gain-Sub-Exp'!O16) -> 15.914602 | R12: =$R$2*N12 -> 8.424031 | T12: =$T$2*N12 -> 390.87504 | U12: =T12/E12^2 -> 10 | W12: =C12-(L12+R12+T12) -> 26820.658 | X12: =SQRT(T12+R12+E12^2) -> 20.937683 | Y12: =20*LOG(W12/X12)/6 -> 10.358469 | AA12: =X12/SQRT(Q12) -> 5.248446 | AC12: =LOG(SQRT(Q12)*(W12/X12))/LOG(2) -> 12.319167 | AE12: =(Q12*$AE$2*N12)/SQRT(Q12*(($AE$2*N12)+T12+R12+E12^2)) -> 21.667739
A13: =A12+10 -> 80 | B13: =0.00000000039655*A13^4 - 0.00000046426*A13^3 + 0.00020865*A13^2 - 0.043964*A13 + 3.8849 -> 1.4816816 | C13: =1000*63.253*EXP(-0.012*A13) -> 24219.124 | D13: =-0.0135*A13+ 13.092 -> 12.012 | E13: =0.00008*A13^2 - 0.022*A13 + 7.4 -> 6.152 | G13: =LOG(C13/E13)/LOG(2) -> 11.942804 | I13: =0.0004*A13^2+0.02*A13+7 -> 11.16 | K13: =5*I13 -> 55.8 | L13: =K13*B13 -> 82.677831 | N13: ='Gain-Sub-Exp'!$D$19*E13^2/$T$2 -> 876.11564 | O13: =N13/60 -> 14.601927 | Q13: =('Gain-Sub-Exp'!O17) -> 16.436187 | R13: =$R$2*N13 -> 8.1567034 | T13: =$T$2*N13 -> 378.47104 | U13: =T13/E13^2 -> 10 | W13: =C13-(L13+R13+T13) -> 23749.818 | X13: =SQRT(T13+R13+E13^2) -> 20.602787 | Y13: =20*LOG(W13/X13)/6 -> 10.205781 | AA13: =X13/SQRT(Q13) -> 5.0818922 | AC13: =LOG(SQRT(Q13)*(W13/X13))/LOG(2) -> 12.190263 | AE13: =(Q13*$AE$2*N13)/SQRT(Q13*(($AE$2*N13)+T13+R13+E13^2)) -> 21.667739
A14: =A13+10 -> 90 | B14: =0.00000000039655*A14^4 - 0.00000046426*A14^3 + 0.00020865*A14^2 - 0.043964*A14 + 3.8849 -> 1.3057771 | C14: =1000*63.253*EXP(-0.012*A14) -> 21480.436 | D14: =-0.0135*A14+ 13.092 -> 11.877 | E14: =0.00008*A14^2 - 0.022*A14 + 7.4 -> 6.068 | G14: =LOG(C14/E14)/LOG(2) -> 11.789515 | I14: =0.0004*A14^2+0.02*A14+7 -> 12.04 | K14: =5*I14 -> 60.2 | L14: =K14*B14 -> 78.607782 | N14: ='Gain-Sub-Exp'!$D$19*E14^2/$T$2 -> 852.35384 | O14: =N14/60 -> 14.205897 | Q14: =('Gain-Sub-Exp'!O18) -> 16.894392 | R14: =$R$2*N14 -> 7.9354793 | T14: =$T$2*N14 -> 368.20624 | U14: =T14/E14^2 -> 10 | W14: =C14-(L14+R14+T14) -> 21025.686 | X14: =SQRT(T14+R14+E14^2) -> 20.321475 | Y14: =20*LOG(W14/X14)/6 -> 10.049317 | AA14: =X14/SQRT(Q14) -> 4.9440624 | AC14: =LOG(SQRT(Q14)*(W14/X14))/LOG(2) -> 12.054168 | AE14: =(Q14*$AE$2*N14)/SQRT(Q14*(($AE$2*N14)+T14+R14+E14^2)) -> 21.667739
A15: =A14+10 -> 100 | B15: =0.00000000039655*A15^4 - 0.00000046426*A15^3 + 0.00020865*A15^2 - 0.043964*A15 + 3.8849 -> 1.150395 | C15: =1000*63.253*EXP(-0.012*A15) -> 19051.437 | D15: =-0.0135*A15+ 13.092 -> 11.742 | E15: =0.00008*A15^2 - 0.022*A15 + 7.4 -> 6 | G15: =LOG(C15/E15)/LOG(2) -> 11.63265 | I15: =0.0004*A15^2+0.02*A15+7 -> 13 | K15: =5*I15 -> 65 | L15: =K15*B15 -> 74.775675 | N15: ='Gain-Sub-Exp'!$D$19*E15^2/$T$2 -> 833.35737 | O15: =N15/60 -> 13.889289 | Q15: =('Gain-Sub-Exp'!O19) -> 17.279502 | R15: =$R$2*N15 -> 7.7586207 | T15: =$T$2*N15 -> 360 | U15: =T15/E15^2 -> 10 | W15: =C15-(L15+R15+T15) -> 18608.903 | X15: =SQRT(T15+R15+E15^2) -> 20.093746 | Y15: =20*LOG(W15/X15)/6 -> 9.8888662 | AA15: =X15/SQRT(Q15) -> 4.8338737 | AC15: =LOG(SQRT(Q15)*(W15/X15))/LOG(2) -> 11.910526 | AE15: =(Q15*$AE$2*N15)/SQRT(Q15*(($AE$2*N15)+T15+R15+E15^2)) -> 21.667739
A16: =A15+10 -> 110 | B16: =0.00000000039655*A16^4 - 0.00000046426*A16^3 + 0.00020865*A16^2 - 0.043964*A16 + 3.8849 -> 1.0136538 | C16: =1000*63.253*EXP(-0.012*A16) -> 16897.109 | D16: =-0.0135*A16+ 13.092 -> 11.607 | E16: =0.00008*A16^2 - 0.022*A16 + 7.4 -> 5.948 | G16: =LOG(C16/E16)/LOG(2) -> 11.472084 | I16: =0.0004*A16^2+0.02*A16+7 -> 14.04 | K16: =5*I16 -> 70.2 | L16: =K16*B16 -> 71.158499 | N16: ='Gain-Sub-Exp'!$D$19*E16^2/$T$2 -> 818.9751 | O16: =N16/60 -> 13.649585 | Q16: =('Gain-Sub-Exp'!O20) -> 17.582952 | R16: =$R$2*N16 -> 7.6247207 | T16: =$T$2*N16 -> 353.78704 | U16: =T16/E16^2 -> 10 | W16: =C16-(L16+R16+T16) -> 16464.539 | X16: =SQRT(T16+R16+E16^2) -> 19.9196 | Y16: =20*LOG(W16/X16)/6 -> 9.7242299 | AA16: =X16/SQRT(Q16) -> 4.7504496 | AC16: =LOG(SQRT(Q16)*(W16/X16))/LOG(2) -> 11.75901 | AE16: =(Q16*$AE$2*N16)/SQRT(Q16*(($AE$2*N16)+T16+R16+E16^2)) -> 21.667739
A17: =A16+10 -> 120 | B17: =0.00000000039655*A17^4 - 0.00000046426*A17^3 + 0.00020865*A17^2 - 0.043964*A17 + 3.8849 -> 0.89376733 | C17: =1000*63.253*EXP(-0.012*A17) -> 14986.392 | D17: =-0.0148*A17 + 14.78 -> 13.004 | E17: =0.0000082614*A17^2 - 0.0056706*A17 + 2.2955 -> 1.7339922 | G17: =LOG(C17/E17)/LOG(2) -> 13.077268 | I17: =3.7488*EXP(0.0061*A17) -> 7.7946359 | K17: =5*I17 -> 38.973179 | L17: =K17*B17 -> 34.832954 | N17: ='Gain-Sub-Exp'!$D$19*E17^2/$T$2 -> 69.602211 | O17: =N17/60 -> 1.1600369 | Q17: =('Gain-Sub-Exp'!O21) -> 206.88998 | R17: =$R$2*N17 -> 0.6480019 | T17: =$T$2*N17 -> 30.067288 | U17: =T17/E17^2 -> 10 | W17: =C17-(L17+R17+T17) -> 14920.843 | X17: =SQRT(T17+R17+E17^2) -> 5.8070663 | Y17: =20*LOG(W17/X17)/6 -> 11.366122 | AA17: =X17/SQRT(Q17) -> 0.40372631 | AC17: =LOG(SQRT(Q17)*(W17/X17))/LOG(2) -> 15.173592 | AE17: =(Q17*$AE$2*N17)/SQRT(Q17*(($AE$2*N17)+T17+R17+E17^2)) -> 21.667739
A18: =A17+10 -> 130 | B18: =0.00000000039655*A18^4 - 0.00000046426*A18^3 + 0.00020865*A18^2 - 0.043964*A18 + 3.8849 -> 0.78904443 | C18: =1000*63.253*EXP(-0.012*A18) -> 13291.737 | D18: =-0.0148*A18 + 14.78 -> 12.856 | E18: =0.0000082614*A18^2 - 0.0056706*A18 + 2.2955 -> 1.6979397 | G18: =LOG(C18/E18)/LOG(2) -> 12.934457 | I18: =3.7488*EXP(0.0061*A18) -> 8.28491 | K18: =5*I18 -> 41.42455 | L18: =K18*B18 -> 32.68581 | N18: ='Gain-Sub-Exp'!$D$19*E18^2/$T$2 -> 66.738015 | O18: =N18/60 -> 1.1123002 | Q18: =('Gain-Sub-Exp'!O22) -> 215.76908 | R18: =$R$2*N18 -> 0.62133601 | T18: =$T$2*N18 -> 28.829991 | U18: =T18/E18^2 -> 10 | W18: =C18-(L18+R18+T18) -> 13229.6 | X18: =SQRT(T18+R18+E18^2) -> 5.686328 | Y18: =20*LOG(W18/X18)/6 -> 11.222383 | AA18: =X18/SQRT(Q18) -> 0.38711259 | AC18: =LOG(SQRT(Q18)*(W18/X18))/LOG(2) -> 15.060657 | AE18: =(Q18*$AE$2*N18)/SQRT(Q18*(($AE$2*N18)+T18+R18+E18^2)) -> 21.667739
A19: =A18+10 -> 140 | B19: =0.00000000039655*A19^4 - 0.00000046426*A19^3 + 0.00020865*A19^2 - 0.043964*A19 + 3.8849 -> 0.69788921 | C19: =1000*63.253*EXP(-0.012*A19) -> 11788.713 | D19: =-0.0148*A19 + 14.78 -> 12.708 | E19: =0.0000082614*A19^2 - 0.0056706*A19 + 2.2955 -> 1.6635394 | G19: =LOG(C19/E19)/LOG(2) -> 12.790863 | I19: =3.7488*EXP(0.0061*A19) -> 8.8060219 | K19: =5*I19 -> 44.030109 | L19: =K19*B19 -> 30.728138 | N19: ='Gain-Sub-Exp'!$D$19*E19^2/$T$2 -> 64.061187 | O19: =N19/60 -> 1.0676864 | Q19: =('Gain-Sub-Exp'!O23) -> 224.7851 | R19: =$R$2*N19 -> 0.59641454 | T19: =$T$2*N19 -> 27.673635 | U19: =T19/E19^2 -> 10 | W19: =C19-(L19+R19+T19) -> 11729.715 | X19: =SQRT(T19+R19+E19^2) -> 5.5711231 | Y19: =20*LOG(W19/X19)/6 -> 11.077816 | AA19: =X19/SQRT(Q19) -> 0.37158571 | AC19: =LOG(SQRT(Q19)*(W19/X19))/LOG(2) -> 14.946113 | AE19: =(Q19*$AE$2*N19)/SQRT(Q19*(($AE$2*N19)+T19+R19+E19^2)) -> 21.667739
A20: =A19+10 -> 150 | B20: =0.00000000039655*A20^4 - 0.00000046426*A20^3 + 0.00020865*A20^2 - 0.043964*A20 + 3.8849 -> 0.61880094 | C20: =1000*63.253*EXP(-0.012*A20) -> 10455.651 | D20: =-0.0148*A20 + 14.78 -> 12.56 | E20: =0.0000082614*A20^2 - 0.0056706*A20 + 2.2955 -> 1.6307915 | G20: =LOG(C20/E20)/LOG(2) -> 12.646423 | I20: =3.7488*EXP(0.0061*A20) -> 9.3599111 | K20: =5*I20 -> 46.799555 | L20: =K20*B20 -> 28.959609 | N20: ='Gain-Sub-Exp'!$D$19*E20^2/$T$2 -> 61.563834 | O20: =N20/60 -> 1.0260639 | Q20: =('Gain-Sub-Exp'!O24) -> 233.90356 | R20: =$R$2*N20 -> 0.57316399 | T20: =$T$2*N20 -> 26.594809 | U20: =T20/E20^2 -> 10 | W20: =C20-(L20+R20+T20) -> 10399.523 | X20: =SQRT(T20+R20+E20^2) -> 5.4614516 | Y20: =20*LOG(W20/X20)/6 -> 10.932351 | AA20: =X20/SQRT(Q20) -> 0.35709986 | AC20: =LOG(SQRT(Q20)*(W20/X20))/LOG(2) -> 14.82983 | AE20: =(Q20*$AE$2*N20)/SQRT(Q20*(($AE$2*N20)+T20+R20+E20^2)) -> 21.667739
A21: =A20+10 -> 160 | B21: =0.00000000039655*A21^4 - 0.00000046426*A21^3 + 0.00020865*A21^2 - 0.043964*A21 + 3.8849 -> 0.55037405 | C21: =1000*63.253*EXP(-0.012*A21) -> 9273.3302 | D21: =-0.0148*A21 + 14.78 -> 12.412 | E21: =0.0000082614*A21^2 - 0.0056706*A21 + 2.2955 -> 1.5996958 | G21: =LOG(C21/E21)/LOG(2) -> 12.501074 | I21: =3.7488*EXP(0.0061*A21) -> 9.9486393 | K21: =5*I21 -> 49.743197 | L21: =K21*B21 -> 27.377364 | N21: ='Gain-Sub-Exp'!$D$19*E21^2/$T$2 -> 59.238439 | O21: =N21/60 -> 0.98730732 | Q21: =('Gain-Sub-Exp'!O25) -> 243.0854 | R21: =$R$2*N21 -> 0.55151439 | T21: =$T$2*N21 -> 25.590268 | U21: =T21/E21^2 -> 10 | W21: =C21-(L21+R21+T21) -> 9219.811 | X21: =SQRT(T21+R21+E21^2) -> 5.3573136 | Y21: =20*LOG(W21/X21)/6 -> 10.785917 | AA21: =X21/SQRT(Q21) -> 0.34361145 | AC21: =LOG(SQRT(Q21)*(W21/X21))/LOG(2) -> 14.711671 | AE21: =(Q21*$AE$2*N21)/SQRT(Q21*(($AE$2*N21)+T21+R21+E21^2)) -> 21.667739
A22: =A21+10 -> 170 | B22: =0.00000000039655*A22^4 - 0.00000046426*A22^3 + 0.00020865*A22^2 - 0.043964*A22 + 3.8849 -> 0.49129815 | C22: =1000*63.253*EXP(-0.012*A22) -> 8224.706 | D22: =-0.0148*A22 + 14.78 -> 12.264 | E22: =0.0000082614*A22^2 - 0.0056706*A22 + 2.2955 -> 1.5702525 | G22: =LOG(C22/E22)/LOG(2) -> 12.354752 | I22: =3.7488*EXP(0.0061*A22) -> 10.574398 | K22: =5*I22 -> 52.87199 | L22: =K22*B22 -> 25.97591 | N22: ='Gain-Sub-Exp'!$D$19*E22^2/$T$2 -> 57.077868 | O22: =N22/60 -> 0.9512978 | Q22: =('Gain-Sub-Exp'!O26) -> 252.28693 | R22: =$R$2*N22 -> 0.53139931 | T22: =$T$2*N22 -> 24.656928 | U22: =T22/E22^2 -> 10 | W22: =C22-(L22+R22+T22) -> 8173.5418 | X22: =SQRT(T22+R22+E22^2) -> 5.258709 | Y22: =20*LOG(W22/X22)/6 -> 10.638437 | AA22: =X22/SQRT(Q22) -> 0.3310791 | AC22: =LOG(SQRT(Q22)*(W22/X22))/LOG(2) -> 14.591498 | AE22: =(Q22*$AE$2*N22)/SQRT(Q22*(($AE$2*N22)+T22+R22+E22^2)) -> 21.667739
A23: =A22+10 -> 180 | B23: =0.00000000039655*A23^4 - 0.00000046426*A23^3 + 0.00020865*A23^2 - 0.043964*A23 + 3.8849 -> 0.44035801 | C23: =1000*63.253*EXP(-0.012*A23) -> 7294.6599 | D23: =-0.0148*A23 + 14.78 -> 12.116 | E23: =0.0000082614*A23^2 - 0.0056706*A23 + 2.2955 -> 1.5424614 | G23: =LOG(C23/E23)/LOG(2) -> 12.207391 | I23: =3.7488*EXP(0.0061*A23) -> 11.239516 | K23: =5*I23 -> 56.19758 | L23: =K23*B23 -> 24.747055 | N23: ='Gain-Sub-Exp'!$D$19*E23^2/$T$2 -> 55.075363 | O23: =N23/60 -> 0.91792271 | Q23: =('Gain-Sub-Exp'!O27) -> 261.45992 | R23: =$R$2*N23 -> 0.51275583 | T23: =$T$2*N23 -> 23.79187 | U23: =T23/E23^2 -> 10 | W23: =C23-(L23+R23+T23) -> 7245.6082 | X23: =SQRT(T23+R23+E23^2) -> 5.1656377 | Y23: =20*LOG(W23/X23)/6 -> 10.489836 | AA23: =X23/SQRT(Q23) -> 0.3194636 | AC23: =LOG(SQRT(Q23)*(W23/X23))/LOG(2) -> 14.469168 | AE23: =(Q23*$AE$2*N23)/SQRT(Q23*(($AE$2*N23)+T23+R23+E23^2)) -> 21.667739
A24: =A23+10 -> 190 | B24: =0.00000000039655*A24^4 - 0.00000046426*A24^3 + 0.00020865*A24^2 - 0.043964*A24 + 3.8849 -> 0.39643359 | C24: =1000*63.253*EXP(-0.012*A24) -> 6469.7829 | D24: =-0.0148*A24 + 14.78 -> 11.968 | E24: =0.0000082614*A24^2 - 0.0056706*A24 + 2.2955 -> 1.5163225 | G24: =LOG(C24/E24)/LOG(2) -> 12.058925 | I24: =3.7488*EXP(0.0061*A24) -> 11.946469 | K24: =5*I24 -> 59.732347 | L24: =K24*B24 -> 23.679909 | N24: ='Gain-Sub-Exp'!$D$19*E24^2/$T$2 -> 53.224545 | O24: =N24/60 -> 0.88707575 | Q24: =('Gain-Sub-Exp'!O28) -> 270.55187 | R24: =$R$2*N24 -> 0.49552458 | T24: =$T$2*N24 -> 22.99234 | U24: =T24/E24^2 -> 10 | W24: =C24-(L24+R24+T24) -> 6422.6152 | X24: =SQRT(T24+R24+E24^2) -> 5.0780999 | Y24: =20*LOG(W24/X24)/6 -> 10.340036 | AA24: =X24/SQRT(Q24) -> 0.30872797 | AC24: =LOG(SQRT(Q24)*(W24/X24))/LOG(2) -> 14.344537 | AE24: =(Q24*$AE$2*N24)/SQRT(Q24*(($AE$2*N24)+T24+R24+E24^2)) -> 21.667739
A25: =A24+10 -> 200 | B25: =0.00000000039655*A25^4 - 0.00000046426*A25^3 + 0.00020865*A25^2 - 0.043964*A25 + 3.8849 -> 0.3585 | C25: =1000*63.253*EXP(-0.012*A25) -> 5738.1827 | D25: =-0.0148*A25 + 14.78 -> 11.82 | E25: =0.0000082614*A25^2 - 0.0056706*A25 + 2.2955 -> 1.491836 | G25: =LOG(C25/E25)/LOG(2) -> 11.909289 | I25: =3.7488*EXP(0.0061*A25) -> 12.697889 | K25: =5*I25 -> 63.489447 | L25: =K25*B25 -> 22.760967 | N25: ='Gain-Sub-Exp'!$D$19*E25^2/$T$2 -> 51.519417 | O25: =N25/60 -> 0.85865696 | Q25: =('Gain-Sub-Exp'!O29) -> 279.50627 | R25: =$R$2*N25 -> 0.47964971 | T25: =$T$2*N25 -> 22.255747 | U25: =T25/E25^2 -> 10 | W25: =C25-(L25+R25+T25) -> 5692.6863 | X25: =SQRT(T25+R25+E25^2) -> 4.9960956 | Y25: =20*LOG(W25/X25)/6 -> 10.188955 | AA25: =X25/SQRT(Q25) -> 0.29883741 | AC25: =LOG(SQRT(Q25)*(W25/X25))/LOG(2) -> 14.217461 | AE25: =(Q25*$AE$2*N25)/SQRT(Q25*(($AE$2*N25)+T25+R25+E25^2)) -> 21.667739
A26: =A25+10 -> 210 | B26: =0.00000000039655*A26^4 - 0.00000046426*A26^3 + 0.00020865*A26^2 - 0.043964*A26 + 3.8849 -> 0.32562755 | C26: =1000*63.253*EXP(-0.012*A26) -> 5089.3115 | D26: =-0.0148*A26 + 14.78 -> 11.672 | E26: =0.0000082614*A26^2 - 0.0056706*A26 + 2.2955 -> 1.4690017 | G26: =LOG(C26/E26)/LOG(2) -> 11.758419 | I26: =3.7488*EXP(0.0061*A26) -> 13.496573 | K26: =5*I26 -> 67.482864 | L26: =K26*B26 -> 21.974279 | N26: ='Gain-Sub-Exp'!$D$19*E26^2/$T$2 -> 49.95436 | O26: =N26/60 -> 0.83257266 | Q26: =('Gain-Sub-Exp'!O30) -> 288.26313 | R26: =$R$2*N26 -> 0.4650789 | T26: =$T$2*N26 -> 21.579661 | U26: =T26/E26^2 -> 10 | W26: =C26-(L26+R26+T26) -> 5045.2925 | X26: =SQRT(T26+R26+E26^2) -> 4.9196246 | Y26: =20*LOG(W26/X26)/6 -> 10.036515 | AA26: =X26/SQRT(Q26) -> 0.28975932 | AC26: =LOG(SQRT(Q26)*(W26/X26))/LOG(2) -> 14.087795 | AE26: =(Q26*$AE$2*N26)/SQRT(Q26*(($AE$2*N26)+T26+R26+E26^2)) -> 21.667739
A27: =A26+10 -> 220 | B27: =0.00000000039655*A27^4 - 0.00000046426*A27^3 + 0.00020865*A27^2 - 0.043964*A27 + 3.8849 -> 0.29698169 | C27: =1000*63.253*EXP(-0.012*A27) -> 4513.8144 | D27: =-0.0148*A27 + 14.78 -> 11.524 | E27: =0.0000082614*A27^2 - 0.0056706*A27 + 2.2955 -> 1.4478198 | G27: =LOG(C27/E27)/LOG(2) -> 11.606249 | I27: =3.7488*EXP(0.0061*A27) -> 14.345493 | K27: =5*I27 -> 71.727463 | L27: =K27*B27 -> 21.301743 | N27: ='Gain-Sub-Exp'!$D$19*E27^2/$T$2 -> 48.524132 | O27: =N27/60 -> 0.80873554 | Q27: =('Gain-Sub-Exp'!O31) -> 296.75956 | R27: =$R$2*N27 -> 0.45176337 | T27: =$T$2*N27 -> 20.961821 | U27: =T27/E27^2 -> 10 | W27: =C27-(L27+R27+T27) -> 4471.0991 | X27: =SQRT(T27+R27+E27^2) -> 4.848687 | Y27: =20*LOG(W27/X27)/6 -> 9.8826338 | AA27: =X27/SQRT(Q27) -> 0.28146331 | AC27: =LOG(SQRT(Q27)*(W27/X27))/LOG(2) -> 13.955395 | AE27: =(Q27*$AE$2*N27)/SQRT(Q27*(($AE$2*N27)+T27+R27+E27^2)) -> 21.667739
A28: =A27+10 -> 230 | B28: =0.00000000039655*A28^4 - 0.00000046426*A28^3 + 0.00020865*A28^2 - 0.043964*A28 + 3.8849 -> 0.27182307 | C28: =1000*63.253*EXP(-0.012*A28) -> 4003.3942 | D28: =-0.0148*A28 + 14.78 -> 11.376 | E28: =0.0000082614*A28^2 - 0.0056706*A28 + 2.2955 -> 1.4282901 | G28: =LOG(C28/E28)/LOG(2) -> 11.452719 | I28: =3.7488*EXP(0.0061*A28) -> 15.247809 | K28: =5*I28 -> 76.239043 | L28: =K28*B28 -> 20.72353 | N28: ='Gain-Sub-Exp'!$D$19*E28^2/$T$2 -> 47.223873 | O28: =N28/60 -> 0.78706456 | Q28: =('Gain-Sub-Exp'!O32) -> 304.93051 | R28: =$R$2*N28 -> 0.43965787 | T28: =$T$2*N28 -> 20.400125 | U28: =T28/E28^2 -> 10 | W28: =C28-(L28+R28+T28) -> 3961.8309 | X28: =SQRT(T28+R28+E28^2) -> 4.7832829 | Y28: =20*LOG(W28/X28)/6 -> 9.7272329 | AA28: =X28/SQRT(Q28) -> 0.27392119 | AC28: =LOG(SQRT(Q28)*(W28/X28))/LOG(2) -> 13.820119 | AE28: =(Q28*$AE$2*N28)/SQRT(Q28*(($AE$2*N28)+T28+R28+E28^2)) -> 21.667739
... A45: =A44+10 -> 400 | B45: =0.00000000039655*A45^4 - 0.00000046426*A45^3 + 0.00020865*A45^2 - 0.043964*A45 + 3.8849 -> 0.12234 | C45: =1000*63.253*EXP(-0.012*A45) -> 520.55619 | D45: =-0.0148*A45 + 14.78 -> 8.86 | E45: =0.0000082614*A45^2 - 0.0056706*A45 + 2.2955 -> 1.349084 | G45: =LOG(C45/E45)/LOG(2) -> 8.5919299 | I45: =3.7488*EXP(0.0061*A45) -> 43.010135 | K45: =5*I45 -> 215.05068 | L45: =K45*B45 -> 26.3093 | N45: ='Gain-Sub-Exp'!$D$19*E45^2/$T$2 -> 42.131484 | O45: =N45/60 -> 0.70219141 | Q45: =('Gain-Sub-Exp'!O49) -> 341.78715 | R45: =$R$2*N45 -> 0.39224734 | T45: =$T$2*N45 -> 18.200276 | U45: =T45/E45^2 -> 10 | W45: =C45-(L45+R45+T45) -> 475.65437 | X45: =SQRT(T45+R45+E45^2) -> 4.5180252 | Y45: =20*LOG(W45/X45)/6 -> 6.7411428 | AA45: =X45/SQRT(Q45) -> 0.24438288 | AC45: =LOG(SQRT(Q45)*(W45/X45))/LOG(2) -> 10.926555 | AE45: =(Q45*$AE$2*N45)/SQRT(Q45*(($AE$2*N45)+T45+R45+E45^2)) -> 21.667739
A47: Equations
A48: Gain =10*20Log((e/ADU at gain 0)/GADU)
A50: Swamp Factor = Sky Background/RN2
A52: FWCeff = FWC - (Bias+Dark+Sky)
A54: Dynamic Range = 20 × Log(FWC /RN) in decibels
A55: DR = Log (FWC/RN) / Log (2) in stops
A57: Ntotal = sqrt (Sky + Dark + RN2)
A58: Ntotalint = Ntotal/sqrt(Csubs)
A60: Bits = log(FWCeff/Ntotal) / log(2)
A61: Bitsint = log(sqrt(Csubs)*(FWCeff/Ntotal)) / log(2)
A63: SNR = (Csubs*Obj)/sqrt(Csubs*(Obj+Sky+Dark+RN2))

Sheet graphs

Sheet FWC
A1: Gain | B1: FWC
A2: 0 | B2: 63.7
A3: =A2+10 -> 10
A4: =A3+10 -> 20
A5: =A4+10 -> 30
A6: =A5+10 -> 40
A7: =A6+10 -> 50 | B7: 35
A8: =A7+10 -> 60
A9: =A8+10 -> 70
A10: =A9+10 -> 80
A11: =A10+10 -> 90
A12: =A11+10 -> 100 | B12: 21
A13: =A12+10 -> 110
A14: =A13+10 -> 120 | B14: 16
A15: =A14+10 -> 130 | B15: 13
A16: =A15+10 -> 140
A17: =A16+10 -> 150 | B17: 10
A18: =A17+10 -> 160
A19: =A18+10 -> 170
A20: =A19+10 -> 180
A21: =A20+10 -> 190
A22: =A21+10 -> 200 | B22: 5.6
A23: =A22+10 -> 210
A24: =A23+10 -> 220
A25: =A24+10 -> 230
A26: =A25+10 -> 240
A27: =A26+10 -> 250 | B27: 3.2
A28: =A27+10 -> 260
A29: =A28+10 -> 270
A30: =A29+10 -> 280
A31: =A30+10 -> 290
A32: =A31+10 -> 300 | B32: 1.8
A33: =A32+10 -> 310
A34: =A33+10 -> 320
A35: =A34+10 -> 330
A36: =A35+10 -> 340
A37: =A36+10 -> 350 | B37: 1
A38: =A37+10 -> 360
A39: =A38+10 -> 370
A40: =A39+10 -> 380
...

Sheet Gain
A1: Gain | B1: Gain
A2: 0 | B2: 3.9
A3: =A2+10 -> 10
A4: =A3+10 -> 20
A5: =A4+10 -> 30
A6: =A5+10 -> 40
A7: =A6+10 -> 50 | B7: 2.1
A8: =A7+10 -> 60
A9: =A8+10 -> 70
A10: =A9+10 -> 80
A11: =A10+10 -> 90
A12: =A11+10 -> 100 | B12: 1.2
A13: =A12+10 -> 110
A14: =A13+10 -> 120 | B14: 0.9
A15: =A14+10 -> 130 | B15: 0.8
A16: =A15+10 -> 140
A17: =A16+10 -> 150 | B17: 0.6
A18: =A17+10 -> 160
A19: =A18+10 -> 170
A20: =A19+10 -> 180
A21: =A20+10 -> 190
A22: =A21+10 -> 200 | B22: 0.35
A23: =A22+10 -> 210
A24: =A23+10 -> 220
A25: =A24+10 -> 230
A26: =A25+10 -> 240
A27: =A26+10 -> 250 | B27: 0.22
A28: =A27+10 -> 260
A29: =A28+10 -> 270
A30: =A29+10 -> 280
A31: =A30+10 -> 290
A32: =A31+10 -> 300 | B32: 0.15
A33: =A32+10 -> 310
A34: =A33+10 -> 320
A35: =A34+10 -> 330
A36: =A35+10 -> 340
A37: =A36+10 -> 350 | B37: 0.12
A38: =A37+10 -> 360
A39: =A38+10 -> 370
A40: =A39+10 -> 380
...

Sheet DR
A1: Gain | B1: DR
A2: 0 | B2: 13.1
A3: =A2+10 -> 10
A4: =A3+10 -> 20
A5: =A4+10 -> 30
A6: =A5+10 -> 40
A7: =A6+10 -> 50 | B7: 12.4
A8: =A7+10 -> 60
A9: =A8+10 -> 70
A10: =A9+10 -> 80
A11: =A10+10 -> 90
A12: =A11+10 -> 100 | B12: 11.75
A13: =A12+10 -> 110
A14: =A13+10 -> 120 | B14: 13
A15: =A14+10 -> 130 | B15: 12.8
A16: =A15+10 -> 140
A17: =A16+10 -> 150 | B17: 12.6
A18: =A17+10 -> 160
A19: =A18+10 -> 170
A20: =A19+10 -> 180
A21: =A20+10 -> 190
A22: =A21+10 -> 200 | B22: 11.85
A23: =A22+10 -> 210
A24: =A23+10 -> 220
A25: =A24+10 -> 230
A26: =A25+10 -> 240
A27: =A26+10 -> 250 | B27: 11.1
A28: =A27+10 -> 260
A29: =A28+10 -> 270
A30: =A29+10 -> 280
A31: =A30+10 -> 290
A32: =A31+10 -> 300 | B32: 10.4
A33: =A32+10 -> 310
A34: =A33+10 -> 320
A35: =A34+10 -> 330
A36: =A35+10 -> 340
A37: =A36+10 -> 350 | B37: 9.6
A38: =A37+10 -> 360
A39: =A38+10 -> 370
A40: =A39+10 -> 380
...

Sheet Read Noise
A1: Gain | B1: Read Noise
A2: 0 | B2: 7.4
A3: =A2+10 -> 10
A4: =A3+10 -> 20
A5: =A4+10 -> 30
A6: =A5+10 -> 40
A7: =A6+10 -> 50 | B7: 6.5
A8: =A7+10 -> 60
A9: =A8+10 -> 70
A10: =A9+10 -> 80
A11: =A10+10 -> 90
A12: =A11+10 -> 100 | B12: 6
A13: =A12+10 -> 110
A14: =A13+10 -> 120 | B14: 1.75
A15: =A14+10 -> 130 | B15: 1.7
A16: =A15+10 -> 140
A17: =A16+10 -> 150 | B17: 1.6
A18: =A17+10 -> 160
A19: =A18+10 -> 170
A20: =A19+10 -> 180
A21: =A20+10 -> 190
A22: =A21+10 -> 200 | B22: 1.5
A23: =A22+10 -> 210
A24: =A23+10 -> 220
A25: =A24+10 -> 230
A26: =A25+10 -> 240
A27: =A26+10 -> 250 | B27: 1.4
A28: =A27+10 -> 260
A29: =A28+10 -> 270
A30: =A29+10 -> 280
A31: =A30+10 -> 290
A32: =A31+10 -> 300 | B32: 1.35
A33: =A32+10 -> 310
A34: =A33+10 -> 320
A35: =A34+10 -> 330
A36: =A35+10 -> 340
A37: =A36+10 -> 350 | B37: 1.3
A38: =A37+10 -> 360
A39: =A38+10 -> 370
A40: =A39+10 -> 380
...

Sheet Offset
A1: Gain | B1: Offset | K1: Gain | L1: Offset
A2: 0 | B2: 7 | K2: 0 | L2: 7
A3: =A2+10 -> 10 | K3: =K2+10 -> 10
A4: =A3+10 -> 20 | K4: =K3+10 -> 20
A5: =A4+10 -> 30 | K5: =K4+10 -> 30
A6: =A5+10 -> 40 | K6: =K5+10 -> 40
A7: =A6+10 -> 50 | B7: 9 | K7: =K6+10 -> 50 | L7: 9
A8: =A7+10 -> 60 | K8: =K7+10 -> 60
A9: =A8+10 -> 70 | K9: =K8+10 -> 70
A10: =A9+10 -> 80 | K10: =K9+10 -> 80
A11: =A10+10 -> 90 | K11: =K10+10 -> 90
A12: =A11+10 -> 100 | B12: 13 | K12: =K11+10 -> 100 | L12: 13
A13: =A12+10 -> 110 | K13: =K12+10 -> 110
A14: =A13+10 -> 120 | B14: 8
A15: =A14+10 -> 130
A16: =A15+10 -> 140
A17: =A16+10 -> 150 | K17: =120 -> 120 | L17: 8
A18: =A17+10 -> 160 | B18: 10 | K18: =K17+10 -> 130
A19: =A18+10 -> 170 | K19: =K18+10 -> 140
A20: =A19+10 -> 180 | K20: =K19+10 -> 150
A21: =A20+10 -> 190 | K21: =K20+10 -> 160 | L21: 10
A22: =A21+10 -> 200 | B22: 12 | K22: =K21+10 -> 170
A23: =A22+10 -> 210 | K23: =K22+10 -> 180
A24: =A23+10 -> 220 | K24: =K23+10 -> 190
A25: =A24+10 -> 230 | K25: =K24+10 -> 200 | L25: 12
A26: =A25+10 -> 240 | K26: =K25+10 -> 210
A27: =A26+10 -> 250 | B27: 18 | K27: =K26+10 -> 220
A28: =A27+10 -> 260 | K28: =K27+10 -> 230
A29: =A28+10 -> 270 | K29: =K28+10 -> 240
A30: =A29+10 -> 280 | K30: =K29+10 -> 250 | L30: 18
A31: =A30+10 -> 290
A32: =A31+10 -> 300
A33: =A32+10 -> 310
A34: =A33+10 -> 320
A35: =A34+10 -> 330
A36: =A35+10 -> 340
A37: =A36+10 -> 350
A38: =A37+10 -> 360
A39: =A38+10 -> 370
A40: =A39+10 -> 380
...
