Workbook

Sheet Gain-Sub-Exp
B1: ZWO ASI 533 Gain and Sub-Exposure Calculator
B2: ONLY ENTER DATA IN BLUE (OR GRAY) BOXES. DO NOT ALTER DATA ON OTHER SHEETS | P2: © 2021 S. Bellavia
B3: Note: Once you manually enter the Skybackground, Cell D6, and Dark Current, cell D12, you will lose the link to that calcualtion. To retrieve it change Cell D6 back to "=H34" and cell D12 back to "=K24"
B4: If you know your sky background and dark current, enter it here: | G4: OR take data directly from an image: | M4: Results
B5: Input: | G5: Input Data from an Image | M5: ZWO ASI 533 Gain-sub-exposure
C6: Sky Background | D6: =H34 -> 20.803386 | E6: mag/sq-arcsec | G6: 16 bit | P6: Integrated
G7: Skyglow background | H7: 806 | I7: ADU of an area in the background | M7: Gain | N7: Sub-exp | O7: N | P7: bits | Q7: SNR
C8: Scope Aperture | D8: 0.115 | E8: m | G8: Dark signal | H8: 598 | I8: ADU of a matched dark frame | N8: minutes
C9: Scope focal length | D9: 0.643 | E9: m | G9: Bias signal | H9: 595 | I9: ADU of your bias | M9: 0 | N9: =LOOKUP(M9,'ASI533-specs-DR-SNR'!$A$5:$A$50,'ASI533-specs-DR-SNR'!$O$5:$O$50) -> 5.8914149 | O9: =$D$21/N9 -> 40.737243 | P9: =LOOKUP(M9,'ASI533-specs-DR-SNR'!$A$5:$A$50,'ASI533-specs-DR-SNR'!$AC$5:$AC$50) -> 14.558121 | Q9: =LOOKUP(M9,'ASI533-specs-DR-SNR'!$A$5:$A$50,'ASI533-specs-DR-SNR'!$AE$5:$AE50) -> 21.739075
C10: f/ratio | D10: =D9/D8 -> 5.5913043 | G10: Exposure duration | H10: 120 | I10: Duration (seconds) for light frame & dark | M10: =M9+10 -> 10 | N10: =LOOKUP(M10,'ASI533-specs-DR-SNR'!$A$5:$A$50,'ASI533-specs-DR-SNR'!$O$5:$O$50) -> 5.6865744 | O10: =$D$21/N10 -> 42.204671 | P10: =LOOKUP(M10,'ASI533-specs-DR-SNR'!$A$5:$A$50,'ASI533-specs-DR-SNR'!$AC$5:$AC$50) -> 14.445358 | Q10: =LOOKUP(M10,'ASI533-specs-DR-SNR'!$A$5:$A$50,'ASI533-specs-DR-SNR'!$AE$5:$AE51) -> 21.739075
C11: pixel size | D11: 3.76 | E11: micron | M11: =M10+10 -> 20 | N11: =LOOKUP(M11,'ASI533-specs-DR-SNR'!$A$5:$A$50,'ASI533-specs-DR-SNR'!$O$5:$O$50) -> 5.4888571 | O11: =$D$21/N11 -> 43.72495 | P11: =LOOKUP(M11,'ASI533-specs-DR-SNR'!$A$5:$A$50,'ASI533-specs-DR-SNR'!$AC$5:$AC$50) -> 14.332529 | Q11: =LOOKUP(M11,'ASI533-specs-DR-SNR'!$A$5:$A$50,'ASI533-specs-DR-SNR'!$AE$5:$AE52) -> 21.739075
C12: Dark Current | D12: =K24 -> 0.0062060644 | E12: e/sec | G12: 14 bit | M12: =M11+10 -> 30 | N12: =LOOKUP(M12,'ASI533-specs-DR-SNR'!$A$5:$A$50,'ASI533-specs-DR-SNR'!$O$5:$O$50) -> 5.2980756 | O12: =$D$21/N12 -> 45.299467 | P12: =LOOKUP(M12,'ASI533-specs-DR-SNR'!$A$5:$A$50,'ASI533-specs-DR-SNR'!$AC$5:$AC$50) -> 14.219616 | Q12: =LOOKUP(M12,'ASI533-specs-DR-SNR'!$A$5:$A$50,'ASI533-specs-DR-SNR'!$AE$5:$AE53) -> 21.739075
B13: Filter: | G13: Skyglow background | H13: =H7*(2^14/2^16) -> 201.5 | I13: ADU of an area in the background | M13: =M12+10 -> 40 | N13: =LOOKUP(M13,'ASI533-specs-DR-SNR'!$A$5:$A$50,'ASI533-specs-DR-SNR'!$O$5:$O$50) -> 5.114046 | O13: =$D$21/N13 -> 46.929574 | P13: =LOOKUP(M13,'ASI533-specs-DR-SNR'!$A$5:$A$50,'ASI533-specs-DR-SNR'!$AC$5:$AC$50) -> 14.106598 | Q13: =LOOKUP(M13,'ASI533-specs-DR-SNR'!$A$5:$A$50,'ASI533-specs-DR-SNR'!$AE$5:$AE54) -> 21.739075
B14: Green | C14: filter wavelength | D14: =LOOKUP(B14,Filters!A2:C23,Filters!B2:B23) -> 550 | E14: nanometers | G14: Dark signal | H14: =H8*(2^14/2^16) -> 149.5 | I14: ADU of a matched dark frame | M14: =M13+10 -> 50 | N14: =LOOKUP(M14,'ASI533-specs-DR-SNR'!$A$5:$A$50,'ASI533-specs-DR-SNR'!$O$5:$O$50) -> 4.9365873 | O14: =$D$21/N14 -> 48.616581 | P14: =LOOKUP(M14,'ASI533-specs-DR-SNR'!$A$5:$A$50,'ASI533-specs-DR-SNR'!$AC$5:$AC$50) -> 13.993454 | Q14: =LOOKUP(M14,'ASI533-specs-DR-SNR'!$A$5:$A$50,'ASI533-specs-DR-SNR'!$AE$5:$AE55) -> 21.739075
C15: filter bandwidth | D15: =LOOKUP(B14,Filters!A2:C23,Filters!C2:C23) -> 100 | E15: nanometers | G15: Bias signal | H15: =H9*(2^14/2^16) -> 148.75 | I15: ADU of your bias | M15: =M14+10 -> 60 | N15: =LOOKUP(M15,'ASI533-specs-DR-SNR'!$A$5:$A$50,'ASI533-specs-DR-SNR'!$O$5:$O$50) -> 4.7655224 | O15: =$D$21/N15 -> 50.36174 | P15: =LOOKUP(M15,'ASI533-specs-DR-SNR'!$A$5:$A$50,'ASI533-specs-DR-SNR'!$AC$5:$AC$50) -> 13.88016 | Q15: =LOOKUP(M15,'ASI533-specs-DR-SNR'!$A$5:$A$50,'ASI533-specs-DR-SNR'!$AE$5:$AE56) -> 21.739075
M16: =M15+10 -> 70 | N16: =LOOKUP(M16,'ASI533-specs-DR-SNR'!$A$5:$A$50,'ASI533-specs-DR-SNR'!$O$5:$O$50) -> 4.6006771 | O16: =$D$21/N16 -> 52.166234 | P16: =LOOKUP(M16,'ASI533-specs-DR-SNR'!$A$5:$A$50,'ASI533-specs-DR-SNR'!$AC$5:$AC$50) -> 13.766692 | Q16: =LOOKUP(M16,'ASI533-specs-DR-SNR'!$A$5:$A$50,'ASI533-specs-DR-SNR'!$AE$5:$AE57) -> 21.739075
C17: Transmission efficiency | D17: 0.58 | E17: (QE, etc) | G17: Enter Camera Gain | M17: =M16+10 -> 80 | N17: =LOOKUP(M17,'ASI533-specs-DR-SNR'!$A$5:$A$50,'ASI533-specs-DR-SNR'!$O$5:$O$50) -> 4.4418808 | O17: =$D$21/N17 -> 54.031166 | P17: =LOOKUP(M17,'ASI533-specs-DR-SNR'!$A$5:$A$50,'ASI533-specs-DR-SNR'!$AC$5:$AC$50) -> 13.653023 | Q17: =LOOKUP(M17,'ASI533-specs-DR-SNR'!$A$5:$A$50,'ASI533-specs-DR-SNR'!$AE$5:$AE58) -> 21.739075
G18: Gain | H18: 100 | M18: =M17+10 -> 90 | N18: =LOOKUP(M18,'ASI533-specs-DR-SNR'!$A$5:$A$50,'ASI533-specs-DR-SNR'!$O$5:$O$50) -> 4.2889662 | O18: =$D$21/N18 -> 55.95754 | P18: =LOOKUP(M18,'ASI533-specs-DR-SNR'!$A$5:$A$50,'ASI533-specs-DR-SNR'!$AC$5:$AC$50) -> 13.539125 | Q18: =LOOKUP(M18,'ASI533-specs-DR-SNR'!$A$5:$A$50,'ASI533-specs-DR-SNR'!$AE$5:$AE59) -> 21.739075
C19: Desired Swamp Factor | D19: 10 | E19: (skyflux / RN2) | M19: =M18+10 -> 100 | N19: =LOOKUP(M19,'ASI533-specs-DR-SNR'!$A$5:$A$50,'ASI533-specs-DR-SNR'!$O$5:$O$50) -> 0.88704377 | O19: =$D$21/N19 -> 270.56162 | P19: =LOOKUP(M19,'ASI533-specs-DR-SNR'!$A$5:$A$50,'ASI533-specs-DR-SNR'!$AC$5:$AC$50) -> 15.648442 | Q19: =LOOKUP(M19,'ASI533-specs-DR-SNR'!$A$5:$A$50,'ASI533-specs-DR-SNR'!$AE$5:$AE60) -> 21.739075
G20: Gain | H20: =LOOKUP(H18,'ASI533-specs-DR-SNR'!A5:A45,'ASI533-specs-DR-SNR'!B5:B45) -> 0.9929703 | I20: e-/ADU | M20: =M19+10 -> 110 | N20: =LOOKUP(M20,'ASI533-specs-DR-SNR'!$A$5:$A$50,'ASI533-specs-DR-SNR'!$O$5:$O$50) -> 0.86036254 | O20: =$D$21/N20 -> 278.95217 | P20: =LOOKUP(M20,'ASI533-specs-DR-SNR'!$A$5:$A$50,'ASI533-specs-DR-SNR'!$AC$5:$AC$50) -> 15.538453 | Q20: =LOOKUP(M20,'ASI533-specs-DR-SNR'!$A$5:$A$50,'ASI533-specs-DR-SNR'!$AE$5:$AE61) -> 21.739075
C21: Total Integration Time | D21: 240 | E21: minutes | G21: Read noise | H21: =LOOKUP(H18,'ASI533-specs-DR-SNR'!A5:A45,'ASI533-specs-DR-SNR'!E5:E45) -> 1.513308 | I21: in electrons | M21: =M20+10 -> 120 | N21: =LOOKUP(M21,'ASI533-specs-DR-SNR'!$A$5:$A$50,'ASI533-specs-DR-SNR'!$O$5:$O$50) -> 0.8348901 | O21: =$D$21/N21 -> 287.46298 | P21: =LOOKUP(M21,'ASI533-specs-DR-SNR'!$A$5:$A$50,'ASI533-specs-DR-SNR'!$AC$5:$AC$50) -> 15.418039 | Q21: =LOOKUP(M21,'ASI533-specs-DR-SNR'!$A$5:$A$50,'ASI533-specs-DR-SNR'!$AE$5:$AE62) -> 21.739075
M22: =M21+10 -> 130 | N22: =LOOKUP(M22,'ASI533-specs-DR-SNR'!$A$5:$A$50,'ASI533-specs-DR-SNR'!$O$5:$O$50) -> 0.81059003 | O22: =$D$21/N22 -> 296.08062 | P22: =LOOKUP(M22,'ASI533-specs-DR-SNR'!$A$5:$A$50,'ASI533-specs-DR-SNR'!$AC$5:$AC$50) -> 15.296844 | Q22: =LOOKUP(M22,'ASI533-specs-DR-SNR'!$A$5:$A$50,'ASI533-specs-DR-SNR'!$AE$5:$AE63) -> 21.739075
B23: Output: | G23: Output: | H23: ADU | I23: electrons | J23: ADU/sec | K23: e/sec | M23: =M22+10 -> 140 | N23: =LOOKUP(M23,'ASI533-specs-DR-SNR'!$A$5:$A$50,'ASI533-specs-DR-SNR'!$O$5:$O$50) -> 0.78742707 | O23: =$D$21/N23 -> 304.79013 | P23: =LOOKUP(M23,'ASI533-specs-DR-SNR'!$A$5:$A$50,'ASI533-specs-DR-SNR'!$AC$5:$AC$50) -> 15.174821 | Q23: =LOOKUP(M23,'ASI533-specs-DR-SNR'!$A$5:$A$50,'ASI533-specs-DR-SNR'!$AE$5:$AE64) -> 21.739075
C24: sampling | D24: =(D11/D9)*0.0036*180/PI() -> 1.2061519 | E24: arc-sec/pixel | G24: Dark signal | H24: =H14-H15 -> 0.75 | I24: =H24*H20 -> 0.74472772 | J24: =H24/H10 -> 0.00625 | K24: =I24/H10 -> 0.0062060644 | M24: =M23+10 -> 150 | N24: =LOOKUP(M24,'ASI533-specs-DR-SNR'!$A$5:$A$50,'ASI533-specs-DR-SNR'!$O$5:$O$50) -> 0.76536714 | O24: =$D$21/N24 -> 313.575 | P24: =LOOKUP(M24,'ASI533-specs-DR-SNR'!$A$5:$A$50,'ASI533-specs-DR-SNR'!$AC$5:$AC$50) -> 15.051924 | Q24: =LOOKUP(M24,'ASI533-specs-DR-SNR'!$A$5:$A$50,'ASI533-specs-DR-SNR'!$AE$5:$AE65) -> 21.739075
G25: Skyglow signal | H25: =H13-H14 -> 52 | I25: =H25*H20 -> 51.634456 | J25: =H25/H10 -> 0.43333333 | K25: =I25/H10 -> 0.43028713 | M25: =M24+10 -> 160 | N25: =LOOKUP(M25,'ASI533-specs-DR-SNR'!$A$5:$A$50,'ASI533-specs-DR-SNR'!$O$5:$O$50) -> 0.74437728 | O25: =$D$21/N25 -> 322.41715 | P25: =LOOKUP(M25,'ASI533-specs-DR-SNR'!$A$5:$A$50,'ASI533-specs-DR-SNR'!$AC$5:$AC$50) -> 14.928105 | Q25: =LOOKUP(M25,'ASI533-specs-DR-SNR'!$A$5:$A$50,'ASI533-specs-DR-SNR'!$AE$5:$AE66) -> 21.739075
C26: actual skyflux | D26: =(-0.00000045063*D14^2 + 0.000090632*D14 + 0.62647)*10^(-0.4*(D6-20.7)) -> 0.49095399 | E26: (phs/s/nm/arcsec2/m2) | M26: =M25+10 -> 170 | N26: =LOOKUP(M26,'ASI533-specs-DR-SNR'!$A$5:$A$50,'ASI533-specs-DR-SNR'!$O$5:$O$50) -> 0.72442571 | O26: =$D$21/N26 -> 331.29691 | P26: =LOOKUP(M26,'ASI533-specs-DR-SNR'!$A$5:$A$50,'ASI533-specs-DR-SNR'!$AC$5:$AC$50) -> 14.803316 | Q26: =LOOKUP(M26,'ASI533-specs-DR-SNR'!$A$5:$A$50,'ASI533-specs-DR-SNR'!$AE$5:$AE67) -> 21.739075
C27: measured background | D27: =D17*D26*D15*D24^2*(PI()*D8^2/4) -> 0.43028713 | E27: (e/sec) / pixel | G27: Measured Sky Background | H27: =K25 -> 0.43028713 | I27: (e/sec) / pixel | M27: =M26+10 -> 180 | N27: =LOOKUP(M27,'ASI533-specs-DR-SNR'!$A$5:$A$50,'ASI533-specs-DR-SNR'!$O$5:$O$50) -> 0.70548179 | O27: =$D$21/N27 -> 340.19305 | P27: =LOOKUP(M27,'ASI533-specs-DR-SNR'!$A$5:$A$50,'ASI533-specs-DR-SNR'!$AC$5:$AC$50) -> 14.677508 | Q27: =LOOKUP(M27,'ASI533-specs-DR-SNR'!$A$5:$A$50,'ASI533-specs-DR-SNR'!$AE$5:$AE68) -> 21.739075
C28: actual background | D28: =D27/D17 -> 0.74187436 | E28: (e/sec) / pixel | M28: =M27+10 -> 190 | N28: =LOOKUP(M28,'ASI533-specs-DR-SNR'!$A$5:$A$50,'ASI533-specs-DR-SNR'!$O$5:$O$50) -> 0.68751603 | O28: =$D$21/N28 -> 349.08277 | P28: =LOOKUP(M28,'ASI533-specs-DR-SNR'!$A$5:$A$50,'ASI533-specs-DR-SNR'!$AC$5:$AC$50) -> 14.550635 | Q28: =LOOKUP(M28,'ASI533-specs-DR-SNR'!$A$5:$A$50,'ASI533-specs-DR-SNR'!$AE$5:$AE69) -> 21.739075
G29: Your sky photon flux | H29: =H27/(D17*D15*D24^2*(PI()*D8^2/4)) -> 0.49095399 | I29: (photons/sec/nm/arcsec2/m2) | M29: =M28+10 -> 200 | N29: =LOOKUP(M29,'ASI533-specs-DR-SNR'!$A$5:$A$50,'ASI533-specs-DR-SNR'!$O$5:$O$50) -> 0.67050012 | O29: =$D$21/N29 -> 357.94177 | P29: =LOOKUP(M29,'ASI533-specs-DR-SNR'!$A$5:$A$50,'ASI533-specs-DR-SNR'!$AC$5:$AC$50) -> 14.422648 | Q29: =LOOKUP(M29,'ASI533-specs-DR-SNR'!$A$5:$A$50,'ASI533-specs-DR-SNR'!$AE$5:$AE70) -> 21.739075
C30: object signal | D30: 22 | E30: mag/arcsec2 | H30: =H27/D17 -> 0.74187436 | I30: (e/sec) / pixel | M30: =M29+10 -> 210 | N30: =LOOKUP(M30,'ASI533-specs-DR-SNR'!$A$5:$A$50,'ASI533-specs-DR-SNR'!$O$5:$O$50) -> 0.65440688 | O30: =$D$21/N30 -> 366.74431 | P30: =LOOKUP(M30,'ASI533-specs-DR-SNR'!$A$5:$A$50,'ASI533-specs-DR-SNR'!$AC$5:$AC$50) -> 14.293498 | Q30: =LOOKUP(M30,'ASI533-specs-DR-SNR'!$A$5:$A$50,'ASI533-specs-DR-SNR'!$AE$5:$AE71) -> 21.739075
D31: =(-0.000001*D14^2 + 0.00064*D14+ 0.4905)*10^(-0.4*((D30)-20.7)) -> 0.16307739 | E31: (phs/s/nm/arcsec2/m2) | M31: =M30+10 -> 220 | N31: =LOOKUP(M31,'ASI533-specs-DR-SNR'!$A$5:$A$50,'ASI533-specs-DR-SNR'!$O$5:$O$50) -> 0.63921029 | O31: =$D$21/N31 -> 375.4633 | P31: =LOOKUP(M31,'ASI533-specs-DR-SNR'!$A$5:$A$50,'ASI533-specs-DR-SNR'!$AC$5:$AC$50) -> 14.16314 | Q31: =LOOKUP(M31,'ASI533-specs-DR-SNR'!$A$5:$A$50,'ASI533-specs-DR-SNR'!$AE$5:$AE72) -> 21.739075
D32: =D17*D31*D15*D24^2*(PI()*D8^2/4) -> 0.14292603 | E32: (e/sec) / pixel | G32: Photon flux for 20.7 sky | H32: =(-0.00000045063*D14^2 + 0.000090632*D14 + 0.62647)*10^(-0.4*(20.7-20.7)) -> 0.54000202 | I32: (photons/sec/nm/arcsec2/m2) | M32: =M31+10 -> 230 | N32: =LOOKUP(M32,'ASI533-specs-DR-SNR'!$A$5:$A$50,'ASI533-specs-DR-SNR'!$O$5:$O$50) -> 0.62488548 | O32: =$D$21/N32 -> 384.07038 | P32: =LOOKUP(M32,'ASI533-specs-DR-SNR'!$A$5:$A$50,'ASI533-specs-DR-SNR'!$AC$5:$AC$50) -> 14.031524 | Q32: =LOOKUP(M32,'ASI533-specs-DR-SNR'!$A$5:$A$50,'ASI533-specs-DR-SNR'!$AE$5:$AE73) -> 21.739075
M33: =M32+10 -> 240 | N33: =LOOKUP(M33,'ASI533-specs-DR-SNR'!$A$5:$A$50,'ASI533-specs-DR-SNR'!$O$5:$O$50) -> 0.61140875 | O33: =$D$21/N33 -> 392.53609 | P33: =LOOKUP(M33,'ASI533-specs-DR-SNR'!$A$5:$A$50,'ASI533-specs-DR-SNR'!$AC$5:$AC$50) -> 13.898603 | Q33: =LOOKUP(M33,'ASI533-specs-DR-SNR'!$A$5:$A$50,'ASI533-specs-DR-SNR'!$AE$5:$AE74) -> 21.739075
B34: Enter Gain for DR and SNR vs. Total Integration: | E34: 100 | G34: Your sky | H34: =20.7-(2.5*LOG(H29/H32)) -> 20.803386 | I34: mag/sq-arcsec | M34: =M33+10 -> 250 | N34: =LOOKUP(M34,'ASI533-specs-DR-SNR'!$A$5:$A$50,'ASI533-specs-DR-SNR'!$O$5:$O$50) -> 0.59875754 | O34: =$D$21/N34 -> 400.83003 | P34: =LOOKUP(M34,'ASI533-specs-DR-SNR'!$A$5:$A$50,'ASI533-specs-DR-SNR'!$AC$5:$AC$50) -> 13.76433 | Q34: =LOOKUP(M34,'ASI533-specs-DR-SNR'!$A$5:$A$50,'ASI533-specs-DR-SNR'!$AE$5:$AE75) -> 21.739075
M35: =M34+10 -> 260 | N35: =LOOKUP(M35,'ASI533-specs-DR-SNR'!$A$5:$A$50,'ASI533-specs-DR-SNR'!$O$5:$O$50) -> 0.58691045 | O35: =$D$21/N35 -> 408.92099 | P35: =LOOKUP(M35,'ASI533-specs-DR-SNR'!$A$5:$A$50,'ASI533-specs-DR-SNR'!$AC$5:$AC$50) -> 13.628653 | Q35: =LOOKUP(M35,'ASI533-specs-DR-SNR'!$A$5:$A$50,'ASI533-specs-DR-SNR'!$AE$5:$AE76) -> 21.739075
C36: Total Integration Time | D36: DR (bits) | E36: SNR | M36: =M35+10 -> 270 | N36: =LOOKUP(M36,'ASI533-specs-DR-SNR'!$A$5:$A$50,'ASI533-specs-DR-SNR'!$O$5:$O$50) -> 0.57584723 | O36: =$D$21/N36 -> 416.77721 | P36: =LOOKUP(M36,'ASI533-specs-DR-SNR'!$A$5:$A$50,'ASI533-specs-DR-SNR'!$AC$5:$AC$50) -> 13.491521 | Q36: =LOOKUP(M36,'ASI533-specs-DR-SNR'!$A$5:$A$50,'ASI533-specs-DR-SNR'!$AE$5:$AE77) -> 21.739075
C37: =D21*0.25 -> 60 | D37: =LOOKUP($E$34,$M$9:$M$53,$P$9:$P$53)+(LOG(SQRT((C37/$D$21)*LOOKUP($E$34,$M$9:$M$53,$O$9:$O$53)))/LOG(2)-LOG(SQRT((LOOKUP($E$34,$M$9:$M$53,$O$9:$O$53))))/LOG(2)) -> 14.648442 | E37: =SQRT(C37/$D$21)*LOOKUP($E$34,$M$9:$M$53,$Q$9:$Q$53) -> 10.869537 | M37: =M36+10 -> 280 | N37: =LOOKUP(M37,'ASI533-specs-DR-SNR'!$A$5:$A$50,'ASI533-specs-DR-SNR'!$O$5:$O$50) -> 0.56554879 | O37: =$D$21/N37 -> 424.36657 | P37: =LOOKUP(M37,'ASI533-specs-DR-SNR'!$A$5:$A$50,'ASI533-specs-DR-SNR'!$AC$5:$AC$50) -> 13.352877 | Q37: =LOOKUP(M37,'ASI533-specs-DR-SNR'!$A$5:$A$50,'ASI533-specs-DR-SNR'!$AE$5:$AE78) -> 21.739075
C38: =D21*0.5 -> 120 | D38: =LOOKUP($E$34,$M$9:$M$53,$P$9:$P$53)+(LOG(SQRT((C38/$D$21)*LOOKUP($E$34,$M$9:$M$53,$O$9:$O$53)))/LOG(2)-LOG(SQRT((LOOKUP($E$34,$M$9:$M$53,$O$9:$O$53))))/LOG(2)) -> 15.148442 | E38: =SQRT(C38/$D$21)*LOOKUP($E$34,$M$9:$M$53,$Q$9:$Q$53) -> 15.371847 | M38: =M37+10 -> 290 | N38: =LOOKUP(M38,'ASI533-specs-DR-SNR'!$A$5:$A$50,'ASI533-specs-DR-SNR'!$O$5:$O$50) -> 0.55599719 | O38: =$D$21/N38 -> 431.65685 | P38: =LOOKUP(M38,'ASI533-specs-DR-SNR'!$A$5:$A$50,'ASI533-specs-DR-SNR'!$AC$5:$AC$50) -> 13.212659 | Q38: =LOOKUP(M38,'ASI533-specs-DR-SNR'!$A$5:$A$50,'ASI533-specs-DR-SNR'!$AE$5:$AE79) -> 21.739075
C39: =D21*0.75 -> 180 | D39: =LOOKUP($E$34,$M$9:$M$53,$P$9:$P$53)+(LOG(SQRT((C39/$D$21)*LOOKUP($E$34,$M$9:$M$53,$O$9:$O$53)))/LOG(2)-LOG(SQRT((LOOKUP($E$34,$M$9:$M$53,$O$9:$O$53))))/LOG(2)) -> 15.440923 | E39: =SQRT(C39/$D$21)*LOOKUP($E$34,$M$9:$M$53,$Q$9:$Q$53) -> 18.826591 | M39: =M38+10 -> 300 | N39: =LOOKUP(M39,'ASI533-specs-DR-SNR'!$A$5:$A$50,'ASI533-specs-DR-SNR'!$O$5:$O$50) -> 0.54717566 | O39: =$D$21/N39 -> 438.616 | P39: =LOOKUP(M39,'ASI533-specs-DR-SNR'!$A$5:$A$50,'ASI533-specs-DR-SNR'!$AC$5:$AC$50) -> 13.070799 | Q39: =LOOKUP(M39,'ASI533-specs-DR-SNR'!$A$5:$A$50,'ASI533-specs-DR-SNR'!$AE$5:$AE80) -> 21.739075
C40: =D21*1 -> 240 | D40: =LOOKUP($E$34,$M$9:$M$53,$P$9:$P$53)+(LOG(SQRT((C40/$D$21)*LOOKUP($E$34,$M$9:$M$53,$O$9:$O$53)))/LOG(2)-LOG(SQRT((LOOKUP($E$34,$M$9:$M$53,$O$9:$O$53))))/LOG(2)) -> 15.648442 | E40: =SQRT(C40/$D$21)*LOOKUP($E$34,$M$9:$M$53,$Q$9:$Q$53) -> 21.739075 | M40: =M39+10 -> 310 | N40: =LOOKUP(M40,'ASI533-specs-DR-SNR'!$A$5:$A$50,'ASI533-specs-DR-SNR'!$O$5:$O$50) -> 0.53906855 | O40: =$D$21/N40 -> 445.2124 | P40: =LOOKUP(M40,'ASI533-specs-DR-SNR'!$A$5:$A$50,'ASI533-specs-DR-SNR'!$AC$5:$AC$50) -> 12.927217 | Q40: =LOOKUP(M40,'ASI533-specs-DR-SNR'!$A$5:$A$50,'ASI533-specs-DR-SNR'!$AE$5:$AE81) -> 21.739075
...

Sheet Filters
A1: Filter | B1: Wavelength | C1: Bandpass
A2: Blue | B2: 450 | C2: 100
A3: Green | B3: 550 | C3: 100
A4: Ha 12 nm | B4: 656 | C4: 12
A5: Ha 3 nm | B5: 656 | C5: 3
A6: Ha 6 nm | B6: 656 | C6: 6
A7: Ha 7 nm | B7: 656 | C7: 7
A8: IDAS Duo | B8: 578.5 | C8: 20
A9: IDAS LPS D1 | B9: 526 | C9: 53
A10: L-Extreme | B10: =((7*500.6) + (7*656.3))/14 -> 578.45 | C10: 14
A11: Lum | B11: 550 | C11: 300
A12: OIII 12 nm | B12: 500 | C12: 12
A13: OIII 3 nm | B13: 500 | C13: 3
A14: OIII 6 nm | B14: 500 | C14: 6
A15: OIII 7 nm | B15: 500 | C15: 7
A16: Optolong L-Enhance | B16: 552 | C16: 30
A17: Red | B17: 650 | C17: 100
A18: SII 12 nm | B18: 672 | C18: 12
A19: SII 3 nm | B19: 672 | C19: 3
A20: SII 6 nm | B20: 672 | C20: 6
A21: SII 7 nm | B21: 672 | C21: 7
A22: Triad | B22: 547.8 | C22: 13
A23: ZWO Duo | B23: 552 | C23: 30

Sheet Skyflux
A1: Sky flux
A2: © 2018 S. Bellavia
B4: for a 50%-tile 'dark sky' (20.7 in V-band):
B8: wavelength (nm) | C8: skyflux (photons/sec/nm/arcsec^2/m^2)
E9: lambda | F9: flux
B10: 450 | C10: 0.576 | E10: 450 | F10: 0.576
B11: 500 (OIII) | C11: 0.549 | E11: 550 | F11: 0.54
B12: 550 | C12: 0.54 | E12: 656 | F12: 0.492
B13: 650 | C13: 0.484
B14: 656 (Ha) | C14: 0.492
A16: Enter the skyflux from the table above, based on filter selection (use 550nm for broadband) | B16: 0.54 | C16: photons/sec/nm/arcsec^2/m^2
A18: Enter your sky background in Mag/sq-arcsec | B18: ='Gain-Sub-Exp'!D6 -> 20.803386
A20: re-calcualted skyflux for your sky | B20: ='Gain-Sub-Exp'!D26 -> 0.49095399
B22: wavelength spread | C22: ='Gain-Sub-Exp'!D15 -> 100 | D22: nm
B23: sampling | C23: ='Gain-Sub-Exp'!D24 -> 1.2061519 | D23: arc-sec/pixel
B24: scope aperture | C24: ='Gain-Sub-Exp'!D8 -> 0.115 | D24: m
B25: T | C25: ='Gain-Sub-Exp'!D17 -> 0.58 | D25: optical and electronic efficiency
B27: Sky Flux | C27: =C25*B20*C22*C23^2*(PI()*C24^2/4) -> 0.43028713 | D27: e/sec per pixel
A29: Equations:
A30: m1 = mref-2.5log(I1/Iref)
A31: (e/sec)/pixel = T*Photon flux*bandwidth*sampling^2*(PI()*aperture^2/4)
A32: Photon flux = (e/sec)/pixel/[T*bandwidth*sampling^2*(PI()*aperure^2/4)]

Sheet ASI533-specs-DR-SNR
A1: © 2019 S. Bellavia | R1: Dark Noise (e-/sec) | T1: Sky fog (e-/sec) | AE1: Obj Signal (e-/sec)
A2: Camera Specification/Controls | R2: ='Gain-Sub-Exp'!D12 -> 0.0062060644 | T2: ='Gain-Sub-Exp'!D27 -> 0.43028713 | AE2: ='Gain-Sub-Exp'!D32 -> 0.14292603
A4: ZWO Gain | B4: GADU (e/ADU) | C4: FWC | D4: DR | E4: Read noise | G4: Quant error | H4: ZWO Bias | J4: Bias (16 bit ADU's) | K4: Bias (14 bit ADU's) | L4: Bias (e-'s) | N4: exposure (sec) | O4: exposure (min) | Q4: # subs | R4: Single Sub Dark noise | T4: Single Sub Sky Background | U4: Single sub Swamp factor | W4: FWCeff | X4: Ntotal | Y4: Bits | AA4: Ntotalint | AC4: Int Bits | AE4: Int SNR
A5: 0 | B5: =-0.00000000000083897*A5^5 + 0.0000000012097*A5^4 - 0.00000070441*A5^3 + 0.00021672*A5^2 - 0.0378*A5 + 3.1976 -> 3.1976 | C5: =1000*49.473*EXP(-0.011323*A5) -> 49473 | D5: =+-0.014*A5 + 13.7 -> 13.7 | E5: =0.000006*A5^2 - 0.0069*A5 + 3.9 -> 3.9 | G5: =(B5-1)/SQRT(12) -> 0.63439248 | H5: =0.0004*A5^2 + 0.02*A5 + 7 -> 7 | K5: =IF(J5>0,(J5/4),5*H5) -> 35 | L5: =K5*B5 -> 111.916 | N5: ='Gain-Sub-Exp'!$D$19*E5^2/$T$2 -> 353.48489 | O5: =N5/60 -> 5.8914149 | Q5: =('Gain-Sub-Exp'!O9) -> 40.737243 | R5: =$R$2*N5 -> 2.19375 | T5: =$T$2*N5 -> 152.1 | U5: =T5/E5^2 -> 10 | W5: =C5-(L5+R5+T5) -> 49206.79 | X5: =SQRT(T5+R5+E5^2) -> 13.019361 | Y5: =20*LOG(W5/X5)/6 -> 11.924785 | AA5: =X5/SQRT(Q5) -> 2.0398294 | AC5: =LOG(SQRT(Q5)*(W5/X5))/LOG(2) -> 14.558121 | AE5: =(Q5*$AE$2*N5)/SQRT(Q5*(($AE$2*N5)+T5+R5+E5^2)) -> 21.739075
A6: =A5+10 -> 10 | B6: =-0.00000000000083897*A6^5 + 0.0000000012097*A6^4 - 0.00000070441*A6^3 + 0.00021672*A6^2 - 0.0378*A6 + 3.1976 -> 2.8405796 | C6: =1000*49.473*EXP(-0.011323*A6) -> 44176.681 | D6: =+-0.014*A6 + 13.7 -> 13.56 | E6: =0.000006*A6^2 - 0.0069*A6 + 3.9 -> 3.8316 | G6: =(B6-1)/SQRT(12) -> 0.53132956 | H6: =0.0004*A6^2 + 0.02*A6 + 7 -> 7.24 | K6: =IF(J6>0,(J6/4),5*H6) -> 36.2 | L6: =K6*B6 -> 102.82898 | N6: ='Gain-Sub-Exp'!$D$19*E6^2/$T$2 -> 341.19446 | O6: =N6/60 -> 5.6865744 | Q6: =('Gain-Sub-Exp'!O10) -> 42.204671 | R6: =$R$2*N6 -> 2.1174748 | T6: =$T$2*N6 -> 146.81159 | U6: =T6/E6^2 -> 10 | W6: =C6-(L6+R6+T6) -> 43924.923 | X6: =SQRT(T6+R6+E6^2) -> 12.791021 | Y6: =20*LOG(W6/X6)/6 -> 11.786019 | AA6: =X6/SQRT(Q6) -> 1.9689059 | AC6: =LOG(SQRT(Q6)*(W6/X6))/LOG(2) -> 14.445358 | AE6: =(Q6*$AE$2*N6)/SQRT(Q6*(($AE$2*N6)+T6+R6+E6^2)) -> 21.739075
A7: =A6+10 -> 20 | B7: =-0.00000000000083897*A7^5 + 0.0000000012097*A7^4 - 0.00000070441*A7^3 + 0.00021672*A7^2 - 0.0378*A7 + 3.1976 -> 2.5228436 | C7: =1000*49.473*EXP(-0.011323*A7) -> 39447.358 | D7: =+-0.014*A7 + 13.7 -> 13.42 | E7: =0.000006*A7^2 - 0.0069*A7 + 3.9 -> 3.7644 | G7: =(B7-1)/SQRT(12) -> 0.43960708 | H7: =0.0004*A7^2 + 0.02*A7 + 7 -> 7.56 | K7: =IF(J7>0,(J7/4),5*H7) -> 37.8 | L7: =K7*B7 -> 95.363488 | N7: ='Gain-Sub-Exp'!$D$19*E7^2/$T$2 -> 329.33142 | O7: =N7/60 -> 5.4888571 | Q7: =('Gain-Sub-Exp'!O11) -> 43.72495 | R7: =$R$2*N7 -> 2.043852 | T7: =$T$2*N7 -> 141.70707 | U7: =T7/E7^2 -> 10 | W7: =C7-(L7+R7+T7) -> 39208.243 | X7: =SQRT(T7+R7+E7^2) -> 12.566687 | Y7: =20*LOG(W7/X7)/6 -> 11.647189 | AA7: =X7/SQRT(Q7) -> 1.9004487 | AC7: =LOG(SQRT(Q7)*(W7/X7))/LOG(2) -> 14.332529 | AE7: =(Q7*$AE$2*N7)/SQRT(Q7*(($AE$2*N7)+T7+R7+E7^2)) -> 21.739075
A8: =A7+10 -> 30 | B8: =-0.00000000000083897*A8^5 + 0.0000000012097*A8^4 - 0.00000070441*A8^3 + 0.00021672*A8^2 - 0.0378*A8 + 3.1976 -> 2.2405884 | C8: =1000*49.473*EXP(-0.011323*A8) -> 35224.331 | D8: =+-0.014*A8 + 13.7 -> 13.28 | E8: =0.000006*A8^2 - 0.0069*A8 + 3.9 -> 3.6984 | G8: =(B8-1)/SQRT(12) -> 0.35812702 | H8: =0.0004*A8^2 + 0.02*A8 + 7 -> 7.96 | K8: =IF(J8>0,(J8/4),5*H8) -> 39.8 | L8: =K8*B8 -> 89.175418 | N8: ='Gain-Sub-Exp'!$D$19*E8^2/$T$2 -> 317.88454 | O8: =N8/60 -> 5.2980756 | Q8: =('Gain-Sub-Exp'!O12) -> 45.299467 | R8: =$R$2*N8 -> 1.9728119 | T8: =$T$2*N8 -> 136.78163 | U8: =T8/E8^2 -> 10 | W8: =C8-(L8+R8+T8) -> 34996.401 | X8: =SQRT(T8+R8+E8^2) -> 12.34636 | Y8: =20*LOG(W8/X8)/6 -> 11.508282 | AA8: =X8/SQRT(Q8) -> 1.834393 | AC8: =LOG(SQRT(Q8)*(W8/X8))/LOG(2) -> 14.219616 | AE8: =(Q8*$AE$2*N8)/SQRT(Q8*(($AE$2*N8)+T8+R8+E8^2)) -> 21.739075
A9: =A8+10 -> 40 | B9: =-0.00000000000083897*A9^5 + 0.0000000012097*A9^4 - 0.00000070441*A9^3 + 0.00021672*A9^2 - 0.0378*A9 + 3.1976 -> 1.9902807 | C9: =1000*49.473*EXP(-0.011323*A9) -> 31453.399 | D9: =+-0.014*A9 + 13.7 -> 13.14 | E9: =0.000006*A9^2 - 0.0069*A9 + 3.9 -> 3.6336 | G9: =(B9-1)/SQRT(12) -> 0.28586941 | H9: =0.0004*A9^2 + 0.02*A9 + 7 -> 8.44 | K9: =IF(J9>0,(J9/4),5*H9) -> 42.2 | L9: =K9*B9 -> 83.989845 | N9: ='Gain-Sub-Exp'!$D$19*E9^2/$T$2 -> 306.84276 | O9: =N9/60 -> 5.114046 | Q9: =('Gain-Sub-Exp'!O13) -> 46.929574 | R9: =$R$2*N9 -> 1.9042859 | T9: =$T$2*N9 -> 132.03049 | U9: =T9/E9^2 -> 10 | W9: =C9-(L9+R9+T9) -> 31235.475 | X9: =SQRT(T9+R9+E9^2) -> 12.130038 | Y9: =20*LOG(W9/X9)/6 -> 11.369286 | AA9: =X9/SQRT(Q9) -> 1.770675 | AC9: =LOG(SQRT(Q9)*(W9/X9))/LOG(2) -> 14.106598 | AE9: =(Q9*$AE$2*N9)/SQRT(Q9*(($AE$2*N9)+T9+R9+E9^2)) -> 21.739075
A10: =A9+10 -> 50 | B10: =-0.00000000000083897*A10^5 + 0.0000000012097*A10^4 - 0.00000070441*A10^3 + 0.00021672*A10^2 - 0.0378*A10 + 3.1976 -> 1.7686472 | C10: =1000*49.473*EXP(-0.011323*A10) -> 28086.164 | D10: =+-0.014*A10 + 13.7 -> 13 | E10: =0.000006*A10^2 - 0.0069*A10 + 3.9 -> 3.57 | G10: =(B10-1)/SQRT(12) -> 0.22188933 | H10: =0.0004*A10^2 + 0.02*A10 + 7 -> 9 | K10: =IF(J10>0,(J10/4),5*H10) -> 45 | L10: =K10*B10 -> 79.589124 | N10: ='Gain-Sub-Exp'!$D$19*E10^2/$T$2 -> 296.19524 | O10: =N10/60 -> 4.9365873 | Q10: =('Gain-Sub-Exp'!O14) -> 48.616581 | R10: =$R$2*N10 -> 1.8382067 | T10: =$T$2*N10 -> 127.449 | U10: =T10/E10^2 -> 10 | W10: =C10-(L10+R10+T10) -> 27877.288 | X10: =SQRT(T10+R10+E10^2) -> 11.917722 | Y10: =20*LOG(W10/X10)/6 -> 11.230191 | AA10: =X10/SQRT(Q10) -> 1.7092322 | AC10: =LOG(SQRT(Q10)*(W10/X10))/LOG(2) -> 13.993454 | AE10: =(Q10*$AE$2*N10)/SQRT(Q10*(($AE$2*N10)+T10+R10+E10^2)) -> 21.739075
A11: =A10+10 -> 60 | B11: =-0.00000000000083897*A11^5 + 0.0000000012097*A11^4 - 0.00000070441*A11^3 + 0.00021672*A11^2 - 0.0378*A11 + 3.1976 -> 1.5726648 | C11: =1000*49.473*EXP(-0.011323*A11) -> 25079.407 | D11: =+-0.014*A11 + 13.7 -> 12.86 | E11: =0.000006*A11^2 - 0.0069*A11 + 3.9 -> 3.5076 | G11: =(B11-1)/SQRT(12) -> 0.16531408 | H11: =0.0004*A11^2 + 0.02*A11 + 7 -> 9.64 | K11: =IF(J11>0,(J11/4),5*H11) -> 48.2 | L11: =K11*B11 -> 75.802442 | N11: ='Gain-Sub-Exp'!$D$19*E11^2/$T$2 -> 285.93134 | O11: =N11/60 -> 4.7655224 | Q11: =('Gain-Sub-Exp'!O15) -> 50.36174 | R11: =$R$2*N11 -> 1.7745083 | T11: =$T$2*N11 -> 123.03258 | U11: =T11/E11^2 -> 10 | W11: =C11-(L11+R11+T11) -> 24878.797 | X11: =SQRT(T11+R11+E11^2) -> 11.709413 | Y11: =20*LOG(W11/X11)/6 -> 11.090981 | AA11: =X11/SQRT(Q11) -> 1.650003 | AC11: =LOG(SQRT(Q11)*(W11/X11))/LOG(2) -> 13.88016 | AE11: =(Q11*$AE$2*N11)/SQRT(Q11*(($AE$2*N11)+T11+R11+E11^2)) -> 21.739075
A12: =A11+10 -> 70 | B12: =-0.00000000000083897*A12^5 + 0.0000000012097*A12^4 - 0.00000070441*A12^3 + 0.00021672*A12^2 - 0.0378*A12 + 3.1976 -> 1.3995502 | C12: =1000*49.473*EXP(-0.011323*A12) -> 22394.537 | D12: =+-0.014*A12 + 13.7 -> 12.72 | E12: =0.000006*A12^2 - 0.0069*A12 + 3.9 -> 3.4464 | G12: =(B12-1)/SQRT(12) -> 0.11534021 | H12: =0.0004*A12^2 + 0.02*A12 + 7 -> 10.36 | K12: =IF(J12>0,(J12/4),5*H12) -> 51.8 | L12: =K12*B12 -> 72.496701 | N12: ='Gain-Sub-Exp'!$D$19*E12^2/$T$2 -> 276.04063 | O12: =N12/60 -> 4.6006771 | Q12: =('Gain-Sub-Exp'!O16) -> 52.166234 | R12: =$R$2*N12 -> 1.7131259 | T12: =$T$2*N12 -> 118.77673 | U12: =T12/E12^2 -> 10 | W12: =C12-(L12+R12+T12) -> 22201.551 | X12: =SQRT(T12+R12+E12^2) -> 11.505109 | Y12: =20*LOG(W12/X12)/6 -> 10.951642 | AA12: =X12/SQRT(Q12) -> 1.5929274 | AC12: =LOG(SQRT(Q12)*(W12/X12))/LOG(2) -> 13.766692 | AE12: =(Q12*$AE$2*N12)/SQRT(Q12*(($AE$2*N12)+T12+R12+E12^2)) -> 21.739075
A13: =A12+10 -> 80 | B13: =-0.00000000000083897*A13^5 + 0.0000000012097*A13^4 - 0.00000070441*A13^3 + 0.00021672*A13^2 - 0.0378*A13 + 3.1976 -> 1.2467503 | C13: =1000*49.473*EXP(-0.011323*A13) -> 19997.096 | D13: =+-0.014*A13 + 13.7 -> 12.58 | E13: =0.000006*A13^2 - 0.0069*A13 + 3.9 -> 3.3864 | G13: =(B13-1)/SQRT(12) -> 0.071230663 | H13: =0.0004*A13^2 + 0.02*A13 + 7 -> 11.16 | K13: =IF(J13>0,(J13/4),5*H13) -> 55.8 | L13: =K13*B13 -> 69.568664 | N13: ='Gain-Sub-Exp'!$D$19*E13^2/$T$2 -> 266.51285 | O13: =N13/60 -> 4.4418808 | Q13: =('Gain-Sub-Exp'!O17) -> 54.031166 | R13: =$R$2*N13 -> 1.6539959 | T13: =$T$2*N13 -> 114.67705 | U13: =T13/E13^2 -> 10 | W13: =C13-(L13+R13+T13) -> 19811.196 | X13: =SQRT(T13+R13+E13^2) -> 11.304811 | Y13: =20*LOG(W13/X13)/6 -> 10.812158 | AA13: =X13/SQRT(Q13) -> 1.5379462 | AC13: =LOG(SQRT(Q13)*(W13/X13))/LOG(2) -> 13.653023 | AE13: =(Q13*$AE$2*N13)/SQRT(Q13*(($AE$2*N13)+T13+R13+E13^2)) -> 21.739075
A14: =A13+10 -> 90 | B14: =-0.00000000000083897*A14^5 + 0.0000000012097*A14^4 - 0.00000070441*A14^3 + 0.00021672*A14^2 - 0.0378*A14 + 3.1976 -> 1.1119315 | C14: =1000*49.473*EXP(-0.011323*A14) -> 17856.312 | D14: =+-0.014*A14 + 13.7 -> 12.44 | E14: =0.000006*A14^2 - 0.0069*A14 + 3.9 -> 3.3276 | G14: =(B14-1)/SQRT(12) -> 0.032311839 | H14: =0.0004*A14^2 + 0.02*A14 + 7 -> 12.04 | K14: =IF(J14>0,(J14/4),5*H14) -> 60.2 | L14: =K14*B14 -> 66.938276 | N14: ='Gain-Sub-Exp'!$D$19*E14^2/$T$2 -> 257.33797 | O14: =N14/60 -> 4.2889662 | Q14: =('Gain-Sub-Exp'!O18) -> 55.95754 | R14: =$R$2*N14 -> 1.597056 | T14: =$T$2*N14 -> 110.72922 | U14: =T14/E14^2 -> 10 | W14: =C14-(L14+R14+T14) -> 17677.048 | X14: =SQRT(T14+R14+E14^2) -> 11.108519 | Y14: =20*LOG(W14/X14)/6 -> 10.672512 | AA14: =X14/SQRT(Q14) -> 1.4850014 | AC14: =LOG(SQRT(Q14)*(W14/X14))/LOG(2) -> 13.539125 | AE14: =(Q14*$AE$2*N14)/SQRT(Q14*(($AE$2*N14)+T14+R14+E14^2)) -> 21.739075
A15: =A14+10 -> 100 | B15: =-0.00000000000083897*A15^5 + 0.0000000012097*A15^4 - 0.00000070441*A15^3 + 0.00021672*A15^2 - 0.0378*A15 + 3.1976 -> 0.9929703 | C15: =1000*49.473*EXP(-0.011323*A15) -> 15944.709 | D15: =-0.0151*A15 + 14.951 -> 13.441 | E15: =0.0000035238*A15^2 - 0.0030333*A15 + 1.7814 -> 1.513308 | G15: 0 | H15: 15 | J15: 590 | K15: =IF(J15>0,(J15/4),5*H15) -> 147.5 | L15: =K15*B15 -> 146.46312 | N15: ='Gain-Sub-Exp'!$D$19*E15^2/$T$2 -> 53.222626 | O15: =N15/60 -> 0.88704377 | Q15: =('Gain-Sub-Exp'!O19) -> 270.56162 | R15: =$R$2*N15 -> 0.33030304 | T15: =$T$2*N15 -> 22.901011 | U15: =T15/E15^2 -> 10 | W15: =C15-(L15+R15+T15) -> 15775.015 | X15: =SQRT(T15+R15+E15^2) -> 5.0518724 | Y15: =20*LOG(W15/X15)/6 -> 11.648391 | AA15: =X15/SQRT(Q15) -> 0.30712791 | AC15: =LOG(SQRT(Q15)*(W15/X15))/LOG(2) -> 15.648442 | AE15: =(Q15*$AE$2*N15)/SQRT(Q15*(($AE$2*N15)+T15+R15+E15^2)) -> 21.739075
A16: =A15+10 -> 110 | B16: =-0.00000000000083897*A16^5 + 0.0000000012097*A16^4 - 0.00000070441*A16^3 + 0.00021672*A16^2 - 0.0378*A16 + 3.1976 -> 0.88794277 | C16: =1000*49.473*EXP(-0.011323*A16) -> 14237.753 | D16: =-0.0151*A16 + 14.951 -> 13.29 | E16: =0.0000035238*A16^2 - 0.0030333*A16 + 1.7814 -> 1.490375 | G16: 0 | H16: =4.8101*EXP(0.0052*A16) -> 8.5225694 | K16: =IF(J16>0,(J16/4),5*H16) -> 42.612847 | L16: =K16*B16 -> 37.83777 | N16: ='Gain-Sub-Exp'!$D$19*E16^2/$T$2 -> 51.621753 | O16: =N16/60 -> 0.86036254 | Q16: =('Gain-Sub-Exp'!O20) -> 278.95217 | R16: =$R$2*N16 -> 0.32036792 | T16: =$T$2*N16 -> 22.212176 | U16: =T16/E16^2 -> 10 | W16: =C16-(L16+R16+T16) -> 14177.382 | X16: =SQRT(T16+R16+E16^2) -> 4.9753152 | Y16: =20*LOG(W16/X16)/6 -> 11.515918 | AA16: =X16/SQRT(Q16) -> 0.29788986 | AC16: =LOG(SQRT(Q16)*(W16/X16))/LOG(2) -> 15.538453 | AE16: =(Q16*$AE$2*N16)/SQRT(Q16*(($AE$2*N16)+T16+R16+E16^2)) -> 21.739075
A17: =A16+10 -> 120 | B17: =-0.00000000000083897*A17^5 + 0.0000000012097*A17^4 - 0.00000070441*A17^3 + 0.00021672*A17^2 - 0.0378*A17 + 3.1976 -> 0.79511465 | C17: =1000*49.473*EXP(-0.011323*A17) -> 12713.534 | D17: =-0.0151*A17 + 14.951 -> 13.139 | E17: =0.0000035238*A17^2 - 0.0030333*A17 + 1.7814 -> 1.4681467 | G17: 0 | H17: =4.8101*EXP(0.0052*A17) -> 8.9774679 | K17: =IF(J17>0,(J17/4),5*H17) -> 44.88734 | L17: =K17*B17 -> 35.690581 | N17: ='Gain-Sub-Exp'!$D$19*E17^2/$T$2 -> 50.093406 | O17: =N17/60 -> 0.8348901 | Q17: =('Gain-Sub-Exp'!O21) -> 287.46298 | R17: =$R$2*N17 -> 0.3108829 | T17: =$T$2*N17 -> 21.554548 | U17: =T17/E17^2 -> 10 | W17: =C17-(L17+R17+T17) -> 12655.978 | X17: =SQRT(T17+R17+E17^2) -> 4.9011107 | Y17: =20*LOG(W17/X17)/6 -> 11.373337 | AA17: =X17/SQRT(Q17) -> 0.28907035 | AC17: =LOG(SQRT(Q17)*(W17/X17))/LOG(2) -> 15.418039 | AE17: =(Q17*$AE$2*N17)/SQRT(Q17*(($AE$2*N17)+T17+R17+E17^2)) -> 21.739075
A18: =A17+10 -> 130 | B18: =-0.00000000000083897*A18^5 + 0.0000000012097*A18^4 - 0.00000070441*A18^3 + 0.00021672*A18^2 - 0.0378*A18 + 3.1976 -> 0.71293128 | C18: =1000*49.473*EXP(-0.011323*A18) -> 11352.49 | D18: =-0.0151*A18 + 14.951 -> 12.988 | E18: =0.0000035238*A18^2 - 0.0030333*A18 + 1.7814 -> 1.4466232 | G18: 0 | H18: =4.8101*EXP(0.0052*A18) -> 9.4566469 | K18: =IF(J18>0,(J18/4),5*H18) -> 47.283235 | L18: =K18*B18 -> 33.709697 | N18: ='Gain-Sub-Exp'!$D$19*E18^2/$T$2 -> 48.635402 | O18: =N18/60 -> 0.81059003 | Q18: =('Gain-Sub-Exp'!O22) -> 296.08062 | R18: =$R$2*N18 -> 0.30183443 | T18: =$T$2*N18 -> 20.927187 | U18: =T18/E18^2 -> 10 | W18: =C18-(L18+R18+T18) -> 11297.551 | X18: =SQRT(T18+R18+E18^2) -> 4.8292588 | Y18: =20*LOG(W18/X18)/6 -> 11.230346 | AA18: =X18/SQRT(Q18) -> 0.28065675 | AC18: =LOG(SQRT(Q18)*(W18/X18))/LOG(2) -> 15.296844 | AE18: =(Q18*$AE$2*N18)/SQRT(Q18*(($AE$2*N18)+T18+R18+E18^2)) -> 21.739075
A19: =A18+10 -> 140 | B19: =-0.00000000000083897*A19^5 + 0.0000000012097*A19^4 - 0.00000070441*A19^3 + 0.00021672*A19^2 - 0.0378*A19 + 3.1976 -> 0.64000749 | C19: =1000*49.473*EXP(-0.011323*A19) -> 10137.152 | D19: =-0.0151*A19 + 14.951 -> 12.837 | E19: =0.0000035238*A19^2 - 0.0030333*A19 + 1.7814 -> 1.4258045 | G19: 0 | H19: =4.8101*EXP(0.0052*A19) -> 9.9614025 | K19: =IF(J19>0,(J19/4),5*H19) -> 49.807012 | L19: =K19*B19 -> 31.876861 | N19: ='Gain-Sub-Exp'!$D$19*E19^2/$T$2 -> 47.245624 | O19: =N19/60 -> 0.78742707 | Q19: =('Gain-Sub-Exp'!O23) -> 304.79013 | R19: =$R$2*N19 -> 0.29320939 | T19: =$T$2*N19 -> 20.329184 | U19: =T19/E19^2 -> 10 | W19: =C19-(L19+R19+T19) -> 10084.652 | X19: =SQRT(T19+R19+E19^2) -> 4.7597597 | Y19: =20*LOG(W19/X19)/6 -> 11.08692 | AA19: =X19/SQRT(Q19) -> 0.27263686 | AC19: =LOG(SQRT(Q19)*(W19/X19))/LOG(2) -> 15.174821 | AE19: =(Q19*$AE$2*N19)/SQRT(Q19*(($AE$2*N19)+T19+R19+E19^2)) -> 21.739075
A20: =A19+10 -> 150 | B20: =-0.00000000000083897*A20^5 + 0.0000000012097*A20^4 - 0.00000070441*A20^3 + 0.00021672*A20^2 - 0.0378*A20 + 3.1976 -> 0.57511759 | C20: =1000*49.473*EXP(-0.011323*A20) -> 9051.9216 | D20: =-0.0151*A20 + 14.951 -> 12.686 | E20: =0.0000035238*A20^2 - 0.0030333*A20 + 1.7814 -> 1.4056905 | G20: 0 | H20: =4.8101*EXP(0.0052*A20) -> 10.4931 | K20: =IF(J20>0,(J20/4),5*H20) -> 52.465499 | L20: =K20*B20 -> 30.173831 | N20: ='Gain-Sub-Exp'!$D$19*E20^2/$T$2 -> 45.922028 | O20: =N20/60 -> 0.76536714 | Q20: =('Gain-Sub-Exp'!O24) -> 313.575 | R20: =$R$2*N20 -> 0.28499506 | T20: =$T$2*N20 -> 19.759658 | U20: =T20/E20^2 -> 10 | W20: =C20-(L20+R20+T20) -> 9001.7031 | X20: =SQRT(T20+R20+E20^2) -> 4.6926132 | Y20: =20*LOG(W20/X20)/6 -> 10.943033 | AA20: =X20/SQRT(Q20) -> 0.26499888 | AC20: =LOG(SQRT(Q20)*(W20/X20))/LOG(2) -> 15.051924 | AE20: =(Q20*$AE$2*N20)/SQRT(Q20*(($AE$2*N20)+T20+R20+E20^2)) -> 21.739075
A21: =A20+10 -> 160 | B21: =-0.00000000000083897*A21^5 + 0.0000000012097*A21^4 - 0.00000070441*A21^3 + 0.00021672*A21^2 - 0.0378*A21 + 3.1976 -> 0.51718525 | C21: =1000*49.473*EXP(-0.011323*A21) -> 8082.8705 | D21: =-0.0151*A21 + 14.951 -> 12.535 | E21: =0.0000035238*A21^2 - 0.0030333*A21 + 1.7814 -> 1.3862813 | G21: 0 | H21: =4.8101*EXP(0.0052*A21) -> 11.053177 | K21: =IF(J21>0,(J21/4),5*H21) -> 55.265884 | L21: =K21*B21 -> 28.5827 | N21: ='Gain-Sub-Exp'!$D$19*E21^2/$T$2 -> 44.662637 | O21: =N21/60 -> 0.74437728 | Q21: =('Gain-Sub-Exp'!O25) -> 322.41715 | R21: =$R$2*N21 -> 0.2771792 | T21: =$T$2*N21 -> 19.217758 | U21: =T21/E21^2 -> 10 | W21: =C21-(L21+R21+T21) -> 8034.7928 | X21: =SQRT(T21+R21+E21^2) -> 4.6278194 | Y21: =20*LOG(W21/X21)/6 -> 10.798661 | AA21: =X21/SQRT(Q21) -> 0.25773141 | AC21: =LOG(SQRT(Q21)*(W21/X21))/LOG(2) -> 14.928105 | AE21: =(Q21*$AE$2*N21)/SQRT(Q21*(($AE$2*N21)+T21+R21+E21^2)) -> 21.739075
A22: =A21+10 -> 170 | B22: =-0.00000000000083897*A22^5 + 0.0000000012097*A22^4 - 0.00000070441*A22^3 + 0.00021672*A22^2 - 0.0378*A22 + 3.1976 -> 0.46527346 | C22: =1000*49.473*EXP(-0.011323*A22) -> 7217.5609 | D22: =-0.0151*A22 + 14.951 -> 12.384 | E22: =0.0000035238*A22^2 - 0.0030333*A22 + 1.7814 -> 1.3675768 | G22: 0 | H22: =4.8101*EXP(0.0052*A22) -> 11.643148 | K22: =IF(J22>0,(J22/4),5*H22) -> 58.215741 | L22: =K22*B22 -> 27.08624 | N22: ='Gain-Sub-Exp'!$D$19*E22^2/$T$2 -> 43.465543 | O22: =N22/60 -> 0.72442571 | Q22: =('Gain-Sub-Exp'!O26) -> 331.29691 | R22: =$R$2*N22 -> 0.26974996 | T22: =$T$2*N22 -> 18.702664 | U22: =T22/E22^2 -> 10 | W22: =C22-(L22+R22+T22) -> 7171.5022 | X22: =SQRT(T22+R22+E22^2) -> 4.5653784 | Y22: =20*LOG(W22/X22)/6 -> 10.653778 | AA22: =X22/SQRT(Q22) -> 0.25082342 | AC22: =LOG(SQRT(Q22)*(W22/X22))/LOG(2) -> 14.803316 | AE22: =(Q22*$AE$2*N22)/SQRT(Q22*(($AE$2*N22)+T22+R22+E22^2)) -> 21.739075
A23: =A22+10 -> 180 | B23: =-0.00000000000083897*A23^5 + 0.0000000012097*A23^4 - 0.00000070441*A23^3 + 0.00021672*A23^2 - 0.0378*A23 + 3.1976 -> 0.41857447 | C23: =1000*49.473*EXP(-0.011323*A23) -> 6444.8868 | D23: =-0.0151*A23 + 14.951 -> 12.233 | E23: =0.0000035238*A23^2 - 0.0030333*A23 + 1.7814 -> 1.3495771 | G23: 0 | H23: =4.8101*EXP(0.0052*A23) -> 12.26461 | K23: =IF(J23>0,(J23/4),5*H23) -> 61.32305 | L23: =K23*B23 -> 25.668263 | N23: ='Gain-Sub-Exp'!$D$19*E23^2/$T$2 -> 42.328907 | O23: =N23/60 -> 0.70548179 | Q23: =('Gain-Sub-Exp'!O27) -> 340.19305 | R23: =$R$2*N23 -> 0.26269592 | T23: =$T$2*N23 -> 18.213584 | U23: =T23/E23^2 -> 10 | W23: =C23-(L23+R23+T23) -> 6400.7422 | X23: =SQRT(T23+R23+E23^2) -> 4.50529 | Y23: =20*LOG(W23/X23)/6 -> 10.508359 | AA23: =X23/SQRT(Q23) -> 0.24426432 | AC23: =LOG(SQRT(Q23)*(W23/X23))/LOG(2) -> 14.677508 | AE23: =(Q23*$AE$2*N23)/SQRT(Q23*(($AE$2*N23)+T23+R23+E23^2)) -> 21.739075
A24: =A23+10 -> 190 | B24: =-0.00000000000083897*A24^5 + 0.0000000012097*A24^4 - 0.00000070441*A24^3 + 0.00021672*A24^2 - 0.0378*A24 + 3.1976 -> 0.37639967 | C24: =1000*49.473*EXP(-0.011323*A24) -> 5754.9311 | D24: =-0.0151*A24 + 14.951 -> 12.082 | E24: =0.0000035238*A24^2 - 0.0030333*A24 + 1.7814 -> 1.3322822 | G24: 0 | H24: =4.8101*EXP(0.0052*A24) -> 12.919243 | K24: =IF(J24>0,(J24/4),5*H24) -> 64.596213 | L24: =K24*B24 -> 24.313993 | N24: ='Gain-Sub-Exp'!$D$19*E24^2/$T$2 -> 41.250962 | O24: =N24/60 -> 0.68751603 | Q24: =('Gain-Sub-Exp'!O28) -> 349.08277 | R24: =$R$2*N24 -> 0.25600613 | T24: =$T$2*N24 -> 17.749758 | U24: =T24/E24^2 -> 10 | W24: =C24-(L24+R24+T24) -> 5712.6113 | X24: =SQRT(T24+R24+E24^2) -> 4.4475544 | Y24: =20*LOG(W24/X24)/6 -> 10.362378 | AA24: =X24/SQRT(Q24) -> 0.2380439 | AC24: =LOG(SQRT(Q24)*(W24/X24))/LOG(2) -> 14.550635 | AE24: =(Q24*$AE$2*N24)/SQRT(Q24*(($AE$2*N24)+T24+R24+E24^2)) -> 21.739075
A25: =A24+10 -> 200 | B25: =-0.00000000000083897*A25^5 + 0.0000000012097*A25^4 - 0.00000070441*A25^3 + 0.00021672*A25^2 - 0.0378*A25 + 3.1976 -> 0.3381696 | C25: =1000*49.473*EXP(-0.011323*A25) -> 5138.8384 | D25: =-0.0151*A25 + 14.951 -> 11.931 | E25: =0.0000035238*A25^2 - 0.0030333*A25 + 1.7814 -> 1.315692 | G25: 0 | H25: =4.8101*EXP(0.0052*A25) -> 13.608817 | K25: =IF(J25>0,(J25/4),5*H25) -> 68.044084 | L25: =K25*B25 -> 23.010441 | N25: ='Gain-Sub-Exp'!$D$19*E25^2/$T$2 -> 40.230007 | O25: =N25/60 -> 0.67050012 | Q25: =('Gain-Sub-Exp'!O29) -> 357.94177 | R25: =$R$2*N25 -> 0.24967002 | T25: =$T$2*N25 -> 17.310454 | U25: =T25/E25^2 -> 10 | W25: =C25-(L25+R25+T25) -> 5098.2679 | X25: =SQRT(T25+R25+E25^2) -> 4.3921714 | Y25: =20*LOG(W25/X25)/6 -> 10.215811 | AA25: =X25/SQRT(Q25) -> 0.23215235 | AC25: =LOG(SQRT(Q25)*(W25/X25))/LOG(2) -> 14.422648 | AE25: =(Q25*$AE$2*N25)/SQRT(Q25*(($AE$2*N25)+T25+R25+E25^2)) -> 21.739075
A26: =A25+10 -> 210 | B26: =-0.00000000000083897*A26^5 + 0.0000000012097*A26^4 - 0.00000070441*A26^3 + 0.00021672*A26^2 - 0.0378*A26 + 3.1976 -> 0.30340383 | C26: =1000*49.473*EXP(-0.011323*A26) -> 4588.7014 | D26: =-0.0151*A26 + 14.951 -> 11.78 | E26: =0.0000035238*A26^2 - 0.0030333*A26 + 1.7814 -> 1.2998066 | G26: 0 | H26: =4.8101*EXP(0.0052*A26) -> 14.335197 | K26: =IF(J26>0,(J26/4),5*H26) -> 71.675987 | L26: =K26*B26 -> 21.746769 | N26: ='Gain-Sub-Exp'!$D$19*E26^2/$T$2 -> 39.264413 | O26: =N26/60 -> 0.65440688 | Q26: =('Gain-Sub-Exp'!O30) -> 366.74431 | R26: =$R$2*N26 -> 0.24367747 | T26: =$T$2*N26 -> 16.894971 | U26: =T26/E26^2 -> 10 | W26: =C26-(L26+R26+T26) -> 4549.816 | X26: =SQRT(T26+R26+E26^2) -> 4.3391412 | Y26: =20*LOG(W26/X26)/6 -> 10.068634 | AA26: =X26/SQRT(Q26) -> 0.22658027 | AC26: =LOG(SQRT(Q26)*(W26/X26))/LOG(2) -> 14.293498 | AE26: =(Q26*$AE$2*N26)/SQRT(Q26*(($AE$2*N26)+T26+R26+E26^2)) -> 21.739075
A27: =A26+10 -> 220 | B27: =-0.00000000000083897*A27^5 + 0.0000000012097*A27^4 - 0.00000070441*A27^3 + 0.00021672*A27^2 - 0.0378*A27 + 3.1976 -> 0.27171089 | C27: =1000*49.473*EXP(-0.011323*A27) -> 4097.4592 | D27: =-0.0151*A27 + 14.951 -> 11.629 | E27: =0.0000035238*A27^2 - 0.0030333*A27 + 1.7814 -> 1.2846259 | G27: 0 | H27: =4.8101*EXP(0.0052*A27) -> 15.100349 | K27: =IF(J27>0,(J27/4),5*H27) -> 75.501746 | L27: =K27*B27 -> 20.514647 | N27: ='Gain-Sub-Exp'!$D$19*E27^2/$T$2 -> 38.352617 | O27: =N27/60 -> 0.63921029 | Q27: =('Gain-Sub-Exp'!O31) -> 375.4633 | R27: =$R$2*N27 -> 0.23801881 | T27: =$T$2*N27 -> 16.502638 | U27: =T27/E27^2 -> 10 | W27: =C27-(L27+R27+T27) -> 4060.2039 | X27: =SQRT(T27+R27+E27^2) -> 4.2884636 | Y27: =20*LOG(W27/X27)/6 -> 9.9208204 | AA27: =X27/SQRT(Q27) -> 0.22131864 | AC27: =LOG(SQRT(Q27)*(W27/X27))/LOG(2) -> 14.16314 | AE27: =(Q27*$AE$2*N27)/SQRT(Q27*(($AE$2*N27)+T27+R27+E27^2)) -> 21.739075
... A50: =A49+10 -> 450 | B50: =-0.00000000000083897*A50^5 + 0.0000000012097*A50^4 - 0.00000070441*A50^3 + 0.00021672*A50^2 - 0.0378*A50 + 3.1976 -> 0.0079432719 | C50: =1000*49.473*EXP(-0.011323*A50) -> 303.03016 | D50: =-0.0151*A50 + 14.951 -> 8.156 | E50: =0.0000035238*A50^2 - 0.0030333*A50 + 1.7814 -> 1.1299845 | G50: 0 | H50: =4.8101*EXP(0.0052*A50) -> 49.934786 | K50: =IF(J50>0,(J50/4),5*H50) -> 249.67393 | L50: =K50*B50 -> 1.9832279 | N50: ='Gain-Sub-Exp'!$D$19*E50^2/$T$2 -> 29.674719 | O50: =N50/60 -> 0.49457865 | Q50: =('Gain-Sub-Exp'!O54) -> 485.26154 | R50: =$R$2*N50 -> 0.18416322 | T50: =$T$2*N50 -> 12.76865 | U50: =T50/E50^2 -> 10 | W50: =C50-(L50+R50+T50) -> 288.09412 | X50: =SQRT(T50+R50+E50^2) -> 3.7722245 | Y50: =20*LOG(W50/X50)/6 -> 6.2764562 | AA50: =X50/SQRT(Q50) -> 0.17124173 | AC50: =LOG(SQRT(Q50)*(W50/X50))/LOG(2) -> 10.71629 | AE50: =(Q50*$AE$2*N50)/SQRT(Q50*(($AE$2*N50)+T50+R50+E50^2)) -> 21.739075
A52: Equations
A53: Gain =10*20Log((e/ADU at gain 0)/GADU)
A55: Swamp Factor = Sky Background/RN2
A57: FWCeff = FWC - (Bias+Dark+Sky)
A59: Ntotal = sqrt (Sky + Dark + RN2)
A60: Ntotalint = Ntotal/sqrt(Csubs)
A62: Bits = log(FWCeff/Ntotal) / log(2)
A63: Bitsint = log(sqrt(Csubs)*(FWCeff/Ntotal)) / log(2)
A65: SNR = (Csubs*Obj)/sqrt(Csubs*(Obj+Sky+Dark+RN2))

Sheet graphs

Sheet FWC
A1: Gain | B1: FWC
A2: 0 | B2: 50
A3: =A2+10 -> 10
A4: =A3+10 -> 20
A5: =A4+10 -> 30
A6: =A5+10 -> 40
A7: =A6+10 -> 50 | B7: 28
A8: =A7+10 -> 60
A9: =A8+10 -> 70
A10: =A9+10 -> 80
A11: =A10+10 -> 90
A12: =A11+10 -> 100 | B12: 16.2
A13: =A12+10 -> 110
A14: =A13+10 -> 120
A15: =A14+10 -> 130
A16: =A15+10 -> 140
A17: =A16+10 -> 150 | B17: 9
A18: =A17+10 -> 160
A19: =A18+10 -> 170
A20: =A19+10 -> 180
A21: =A20+10 -> 190
A22: =A21+10 -> 200 | B22: 5
A23: =A22+10 -> 210
A24: =A23+10 -> 220
A25: =A24+10 -> 230
A26: =A25+10 -> 240
A27: =A26+10 -> 250 | B27: 3
A28: =A27+10 -> 260
A29: =A28+10 -> 270
A30: =A29+10 -> 280
A31: =A30+10 -> 290
A32: =A31+10 -> 300 | B32: 1.65
A33: =A32+10 -> 310
A34: =A33+10 -> 320
A35: =A34+10 -> 330
A36: =A35+10 -> 340
A37: =A36+10 -> 350 | B37: 0.9
A38: =A37+10 -> 360
A39: =A38+10 -> 370
A40: =A39+10 -> 380
...

Sheet Gain
A1: Gain | B1: Gain
A2: 0 | B2: 3.2
A3: =A2+10 -> 10
A4: =A3+10 -> 20
A5: =A4+10 -> 30
A6: =A5+10 -> 40
A7: =A6+10 -> 50 | B7: 1.76
A8: =A7+10 -> 60
A9: =A8+10 -> 70
A10: =A9+10 -> 80
A11: =A10+10 -> 90
A12: =A11+10 -> 100 | B12: 1
A13: =A12+10 -> 110
A14: =A13+10 -> 120
A15: =A14+10 -> 130
A16: =A15+10 -> 140
A17: =A16+10 -> 150 | B17: 0.585
A18: =A17+10 -> 160
A19: =A18+10 -> 170
A20: =A19+10 -> 180
A21: =A20+10 -> 190
A22: =A21+10 -> 200 | B22: 0.32
A23: =A22+10 -> 210
A24: =A23+10 -> 220
A25: =A24+10 -> 230
A26: =A25+10 -> 240
A27: =A26+10 -> 250 | B27: 0.2
A28: =A27+10 -> 260
A29: =A28+10 -> 270
A30: =A29+10 -> 280
A31: =A30+10 -> 290
A32: =A31+10 -> 300 | B32: 0.1
A33: =A32+10 -> 310
A34: =A33+10 -> 320
A35: =A34+10 -> 330
A36: =A35+10 -> 340
A37: =A36+10 -> 350 | B37: 0.07
A38: =A37+10 -> 360
A39: =A38+10 -> 370
A40: =A39+10 -> 380
...

Sheet DR
A1: Gain | B1: DR
A2: 0 | B2: 13.7
A3: =A2+10 -> 10
A4: =A3+10 -> 20
A5: =A4+10 -> 30
A6: =A5+10 -> 40
A7: =A6+10 -> 50 | B7: 13
A8: =A7+10 -> 60
A9: =A8+10 -> 70
A10: =A9+10 -> 80
A11: =A10+10 -> 90
A12: =A11+10 -> 100 | B12: 12.3
A13: 100 | B13: 13.4
A14: =A12+10 -> 110
A15: =A14+10 -> 120
A16: =A15+10 -> 130
A17: =A16+10 -> 140
A18: =A17+10 -> 150 | B18: 12.7
A19: =A18+10 -> 160
A20: =A19+10 -> 170
A21: =A20+10 -> 180
A22: =A21+10 -> 190
A23: =A22+10 -> 200 | B23: 12
A24: =A23+10 -> 210
A25: =A24+10 -> 220
A26: =A25+10 -> 230
A27: =A26+10 -> 240
A28: =A27+10 -> 250 | B28: 11.2
A29: =A28+10 -> 260
A30: =A29+10 -> 270
A31: =A30+10 -> 280
A32: =A31+10 -> 290
A33: =A32+10 -> 300 | B33: 10.4
A34: =A33+10 -> 310
A35: =A34+10 -> 320
A36: =A35+10 -> 330
A37: =A36+10 -> 340
A38: =A37+10 -> 350 | B38: 9.6
A39: =A38+10 -> 360
A40: =A39+10 -> 370
...

Sheet Read Noise
A1: Gain | B1: Read Noise
A2: 0 | B2: 3.9
A3: =A2+10 -> 10
A4: =A3+10 -> 20
A5: =A4+10 -> 30
A6: =A5+10 -> 40
A7: =A6+10 -> 50 | B7: 3.57
A8: =A7+10 -> 60
A9: =A8+10 -> 70
A10: =A9+10 -> 80
A11: =A10+10 -> 90
A12: =A11+10 -> 100 | B12: 3.27
A13: 100 | B13: 1.5
A14: =A12+10 -> 110
A15: =A14+10 -> 120
A16: =A15+10 -> 130
A17: =A16+10 -> 140
A18: =A17+10 -> 150 | B18: 1.43
A19: =A18+10 -> 160
A20: =A19+10 -> 170
A21: =A20+10 -> 180
A22: =A21+10 -> 190
A23: =A22+10 -> 200 | B23: 1.3
A24: =A23+10 -> 210
A25: =A24+10 -> 220
A26: =A25+10 -> 230
A27: =A26+10 -> 240
A28: =A27+10 -> 250 | B28: 1.25
A29: =A28+10 -> 260
A30: =A29+10 -> 270
A31: =A30+10 -> 280
A32: =A31+10 -> 290
A33: =A32+10 -> 300 | B33: 1.2
A34: =A33+10 -> 310
A35: =A34+10 -> 320
A36: =A35+10 -> 330
A37: =A36+10 -> 340
A38: =A37+10 -> 350 | B38: 1.15
A39: =A38+10 -> 360
A40: =A39+10 -> 370
...

Sheet Offset
A1: Gain | B1: Offset | K1: Gain | L1: Offset
A2: 0 | B2: 7 | K2: 0 | L2: =B2 -> 7
A3: =A2+10 -> 10 | K3: =K2+10 -> 10
A4: =A3+10 -> 20 | K4: =K3+10 -> 20
A5: =A4+10 -> 30 | K5: =K4+10 -> 30
A6: =A5+10 -> 40 | K6: =K5+10 -> 40
A7: =A6+10 -> 50 | B7: 9 | K7: =K6+10 -> 50 | L7: =B7 -> 9
A8: =A7+10 -> 60 | K8: =K7+10 -> 60
A9: =A8+10 -> 70 | K9: =K8+10 -> 70
A10: =A9+10 -> 80 | K10: =K9+10 -> 80
A11: =A10+10 -> 90 | K11: =K10+10 -> 90
A12: =A11+10 -> 100 | B12: 13 | K12: =K11+10 -> 100 | L12: =B12 -> 13
A13: 100 | B13: 9
A14: =A12+10 -> 110
A15: =A14+10 -> 120
A16: =A15+10 -> 130
A17: =A16+10 -> 140 | K17: 100 | L17: =B13 -> 9
A18: =A17+10 -> 150 | B18: 10 | K18: =K17+50 -> 150 | L18: =B18 -> 10
A19: =A18+10 -> 160 | K19: =K18+50 -> 200 | L19: =B23 -> 12
A20: =A19+10 -> 170 | K20: =K19+50 -> 250 | L20: =B28 -> 18
A21: =A20+10 -> 180 | K21: =K20+50 -> 300 | L21: =B33 -> 25
A22: =A21+10 -> 190 | K22: =K21+50 -> 350 | L22: =B38 -> 30
A23: =A22+10 -> 200 | B23: 12 | K23: =K22+50 -> 400 | L23: =B43 -> 40
A24: =A23+10 -> 210 | K24: =K23+50 -> 450 | L24: =B48 -> 50
A25: =A24+10 -> 220
A26: =A25+10 -> 230
A27: =A26+10 -> 240
A28: =A27+10 -> 250 | B28: 18
A29: =A28+10 -> 260
A30: =A29+10 -> 270
A31: =A30+10 -> 280
A32: =A31+10 -> 290
A33: =A32+10 -> 300 | B33: 25
A34: =A33+10 -> 310
A35: =A34+10 -> 320
A36: =A35+10 -> 330
A37: =A36+10 -> 340
A38: =A37+10 -> 350 | B38: 30
A39: =A38+10 -> 360
A40: =A39+10 -> 370
...
